BEGIN:VCALENDAR
VERSION:2.0
PRODID:-//Council of Administrators &amp; Supervisors - ECPv6.15.20//NONSGML v1.0//EN
CALSCALE:GREGORIAN
METHOD:PUBLISH
X-ORIGINAL-URL:https://casliny.com
X-WR-CALDESC:Events for Council of Administrators &amp; Supervisors
REFRESH-INTERVAL;VALUE=DURATION:PT1H
X-Robots-Tag:noindex
X-PUBLISHED-TTL:PT1H
BEGIN:VTIMEZONE
TZID:America/New_York
BEGIN:DAYLIGHT
TZOFFSETFROM:-0500
TZOFFSETTO:-0400
TZNAME:EDT
DTSTART:20190310T070000
END:DAYLIGHT
BEGIN:STANDARD
TZOFFSETFROM:-0400
TZOFFSETTO:-0500
TZNAME:EST
DTSTART:20191103T060000
END:STANDARD
BEGIN:DAYLIGHT
TZOFFSETFROM:-0500
TZOFFSETTO:-0400
TZNAME:EDT
DTSTART:20200308T070000
END:DAYLIGHT
BEGIN:STANDARD
TZOFFSETFROM:-0400
TZOFFSETTO:-0500
TZNAME:EST
DTSTART:20201101T060000
END:STANDARD
BEGIN:DAYLIGHT
TZOFFSETFROM:-0500
TZOFFSETTO:-0400
TZNAME:EDT
DTSTART:20210314T070000
END:DAYLIGHT
BEGIN:STANDARD
TZOFFSETFROM:-0400
TZOFFSETTO:-0500
TZNAME:EST
DTSTART:20211107T060000
END:STANDARD
END:VTIMEZONE
BEGIN:VEVENT
DTSTART;TZID=America/New_York:20200305T083000
DTEND;TZID=America/New_York:20200305T123000
DTSTAMP:20260425T104152
CREATED:20200108T165012Z
LAST-MODIFIED:20200113T165015Z
UID:11363-1583397000-1583411400@casliny.com
SUMMARY:CAS Spring Conference with Dr. Anthony Kim at Hofstra University
DESCRIPTION:TO SIGN UP FOR THIS WORKSHOP PLEASE GO TO: \nANTHONY KIM WORKSHOP
URL:https://casliny.com/event/cas-spring-conference-with-dr-anthony-kim-at-hofstra-university/
LOCATION:Hofstra University\, 100 Hofstra University\, Hempstead\, NY\, 11549\, United States
CATEGORIES:Meetings
ATTACH;FMTTYPE=image/jpeg:https://casliny.com/wp-content/uploads/2020/01/download.jpg
END:VEVENT
END:VCALENDAR