BEGIN:VCALENDAR
VERSION:2.0
PRODID:-//Council of Administrators &amp; Supervisors - ECPv6.15.20//NONSGML v1.0//EN
CALSCALE:GREGORIAN
METHOD:PUBLISH
X-WR-CALNAME:Council of Administrators &amp; Supervisors
X-ORIGINAL-URL:https://casliny.com
X-WR-CALDESC:Events for Council of Administrators &amp; Supervisors
REFRESH-INTERVAL;VALUE=DURATION:PT1H
X-Robots-Tag:noindex
X-PUBLISHED-TTL:PT1H
BEGIN:VTIMEZONE
TZID:America/New_York
BEGIN:DAYLIGHT
TZOFFSETFROM:-0500
TZOFFSETTO:-0400
TZNAME:EDT
DTSTART:20190310T070000
END:DAYLIGHT
BEGIN:STANDARD
TZOFFSETFROM:-0400
TZOFFSETTO:-0500
TZNAME:EST
DTSTART:20191103T060000
END:STANDARD
BEGIN:DAYLIGHT
TZOFFSETFROM:-0500
TZOFFSETTO:-0400
TZNAME:EDT
DTSTART:20200308T070000
END:DAYLIGHT
BEGIN:STANDARD
TZOFFSETFROM:-0400
TZOFFSETTO:-0500
TZNAME:EST
DTSTART:20201101T060000
END:STANDARD
BEGIN:DAYLIGHT
TZOFFSETFROM:-0500
TZOFFSETTO:-0400
TZNAME:EDT
DTSTART:20210314T070000
END:DAYLIGHT
BEGIN:STANDARD
TZOFFSETFROM:-0400
TZOFFSETTO:-0500
TZNAME:EST
DTSTART:20211107T060000
END:STANDARD
END:VTIMEZONE
BEGIN:VEVENT
DTSTART;TZID=America/New_York:20200324T080000
DTEND;TZID=America/New_York:20200327T170000
DTSTAMP:20260425T122155
CREATED:20190723T161816Z
LAST-MODIFIED:20190723T162318Z
UID:10374-1585036800-1585328400@casliny.com
SUMMARY:3-8 ELA Computer/Paper Based Exams
DESCRIPTION:
URL:https://casliny.com/event/3-8-ela-computer-based-exams/
CATEGORIES:Meetings
ATTACH;FMTTYPE=image/jpeg:https://casliny.com/wp-content/uploads/2019/07/tests.jpg
END:VEVENT
BEGIN:VEVENT
DTSTART;TZID=America/New_York:20200324T163000
DTEND;TZID=America/New_York:20200324T180000
DTSTAMP:20260425T122155
CREATED:20190626T173748Z
LAST-MODIFIED:20190829T175734Z
UID:10183-1585067400-1585072800@casliny.com
SUMMARY:CAS Executive Board Meeting
DESCRIPTION:This is the meeting for the CAS Executive Board. It is to take place at the CAS Offices.
URL:https://casliny.com/event/cas-executive-board-meeting-3/
LOCATION:CAS Office\, 1300 Veterans Highway\, Suite 330\, Hauppauge\, NY\, 11788\, United States
CATEGORIES:Featured on Home,Meetings
ATTACH;FMTTYPE=image/jpeg:https://casliny.com/wp-content/uploads/2019/06/DSC_0949-2.jpg
END:VEVENT
END:VCALENDAR