BEGIN:VCALENDAR
VERSION:2.0
PRODID:-//Council of Administrators &amp; Supervisors - ECPv6.15.20//NONSGML v1.0//EN
CALSCALE:GREGORIAN
METHOD:PUBLISH
X-WR-CALNAME:Council of Administrators &amp; Supervisors
X-ORIGINAL-URL:https://casliny.com
X-WR-CALDESC:Events for Council of Administrators &amp; Supervisors
REFRESH-INTERVAL;VALUE=DURATION:PT1H
X-Robots-Tag:noindex
X-PUBLISHED-TTL:PT1H
BEGIN:VTIMEZONE
TZID:America/New_York
BEGIN:DAYLIGHT
TZOFFSETFROM:-0500
TZOFFSETTO:-0400
TZNAME:EDT
DTSTART:20190310T070000
END:DAYLIGHT
BEGIN:STANDARD
TZOFFSETFROM:-0400
TZOFFSETTO:-0500
TZNAME:EST
DTSTART:20191103T060000
END:STANDARD
BEGIN:DAYLIGHT
TZOFFSETFROM:-0500
TZOFFSETTO:-0400
TZNAME:EDT
DTSTART:20200308T070000
END:DAYLIGHT
BEGIN:STANDARD
TZOFFSETFROM:-0400
TZOFFSETTO:-0500
TZNAME:EST
DTSTART:20201101T060000
END:STANDARD
BEGIN:DAYLIGHT
TZOFFSETFROM:-0500
TZOFFSETTO:-0400
TZNAME:EDT
DTSTART:20210314T070000
END:DAYLIGHT
BEGIN:STANDARD
TZOFFSETFROM:-0400
TZOFFSETTO:-0500
TZNAME:EST
DTSTART:20211107T060000
END:STANDARD
END:VTIMEZONE
BEGIN:VEVENT
DTSTART;TZID=America/New_York:20200428T120000
DTEND;TZID=America/New_York:20200428T124500
DTSTAMP:20260425T072555
CREATED:20191210T154347Z
LAST-MODIFIED:20191210T154347Z
UID:11259-1588075200-1588077900@casliny.com
SUMMARY:ESSAA Stakeholder Meeting
DESCRIPTION:
URL:https://casliny.com/event/essaa-stakeholder-meeting-3/
CATEGORIES:Meetings
ATTACH;FMTTYPE=image/jpeg:https://casliny.com/wp-content/uploads/2019/12/image-4.jpg
END:VEVENT
BEGIN:VEVENT
DTSTART;TZID=America/New_York:20200428T163000
DTEND;TZID=America/New_York:20200428T180000
DTSTAMP:20260425T072555
CREATED:20190626T173834Z
LAST-MODIFIED:20190829T174612Z
UID:10185-1588091400-1588096800@casliny.com
SUMMARY:CAS Executive Board Meeting
DESCRIPTION:This is the meeting for the CAS Executive Board. It is to take place at the CAS Offices.
URL:https://casliny.com/event/cas-executive-board-meeting-12/
LOCATION:CAS Office\, 1300 Veterans Highway\, Suite 330\, Hauppauge\, NY\, 11788\, United States
CATEGORIES:Featured on Home,Meetings
ATTACH;FMTTYPE=image/jpeg:https://casliny.com/wp-content/uploads/2019/06/DSC_0949-2.jpg
END:VEVENT
END:VCALENDAR