BEGIN:VCALENDAR
VERSION:2.0
PRODID:-//Council of Administrators &amp; Supervisors - ECPv6.15.20//NONSGML v1.0//EN
CALSCALE:GREGORIAN
METHOD:PUBLISH
X-ORIGINAL-URL:https://casliny.com
X-WR-CALDESC:Events for Council of Administrators &amp; Supervisors
REFRESH-INTERVAL;VALUE=DURATION:PT1H
X-Robots-Tag:noindex
X-PUBLISHED-TTL:PT1H
BEGIN:VTIMEZONE
TZID:America/New_York
BEGIN:DAYLIGHT
TZOFFSETFROM:-0500
TZOFFSETTO:-0400
TZNAME:EDT
DTSTART:20200308T070000
END:DAYLIGHT
BEGIN:STANDARD
TZOFFSETFROM:-0400
TZOFFSETTO:-0500
TZNAME:EST
DTSTART:20201101T060000
END:STANDARD
BEGIN:DAYLIGHT
TZOFFSETFROM:-0500
TZOFFSETTO:-0400
TZNAME:EDT
DTSTART:20210314T070000
END:DAYLIGHT
BEGIN:STANDARD
TZOFFSETFROM:-0400
TZOFFSETTO:-0500
TZNAME:EST
DTSTART:20211107T060000
END:STANDARD
BEGIN:DAYLIGHT
TZOFFSETFROM:-0500
TZOFFSETTO:-0400
TZNAME:EDT
DTSTART:20220313T070000
END:DAYLIGHT
BEGIN:STANDARD
TZOFFSETFROM:-0400
TZOFFSETTO:-0500
TZNAME:EST
DTSTART:20221106T060000
END:STANDARD
END:VTIMEZONE
BEGIN:VEVENT
DTSTART;TZID=America/New_York:20210422T170000
DTEND;TZID=America/New_York:20210422T190000
DTSTAMP:20260424T125211
CREATED:20210225T165223Z
LAST-MODIFIED:20230601T162713Z
UID:14268-1619110800-1619118000@casliny.com
SUMMARY:Financial Literacy Workshop
DESCRIPTION:Each year at around this time\, CAS sponsors a Financial Literacy Program for our members contemplating retirement. Because of the current COVID-19 pandemic\, some members are actively thinking about retirement and planning for life post retirement. This year we will offer socially distanced in-person conferences for up to 12 members according to New York State and CDC guidelines.  Masks and hand sanitizer will be provided for all participants. \nIt is never too early to start thinking about retirement and actively planning for it. Whether you are thinking of retiring sooner or later down the road\, we have developed another essential workshop for our members as a part of our continuing CAS Financial Literacy Program that you may find extremely helpful. On behalf of CAS\, I would like to extend you an invitation to attend a workshop designed to inform\, educate\, and enhance your financial literacy as you prepare for the next phase of your life. \nRetirement – Will I be Ready and Able to Retire as Planned?\nWith Andrew Buttelman of Lincoln Investment and Special Guest Speaker\, David Daly** \nCAS Financial Workshop: 5:00 – 7:00 PM\nWednesday\, April 22\, 2021\nMelville Marriott\, Melville\, NY\n1350 Walt Whitman Road\n(Refreshments will be provided)\nShould this workshop fill up quickly\, we will schedule another one soon after. \nThe workshop will focus on: \nNavigating the New York State Teachers System \n\nGetting credit for prior service\nGetting credit for prior military service and the new rules\nUnderstanding your in-service death benefit and making sure your family is secure\nDisability and your pension\nUnderstanding your death benefit\nVerifying Salaries\nChoosing an Option\nFiling the application\nEarning after retirement\n\nTax-Deferred Investment Opportunities – What you need to know! \n\n403-b plans\nEmployer-sponsored 403-b and 457 plans\nElective and non-elective plans\nLimits\, options\, and catch up provisions\n\nSick days and Incentives \n\nWhat you must know about sick days\, incentives and understanding the Non-elective Employer-sponsored 403-b\n\n**David Daly was the manager of the Public Information Office of the New York State Teachers’ Retirement System. He was the System’s spokesperson and was responsible for its publications\, website\, and media information. Previously\, he was the Administrator of Pre-retirement Planning where he organized and implemented the System’s retirement planning seminar program\, which is a model for other systems throughout the country. Currently\, Dave is the Administrator of the National Pension Education Association and is a nationally known presenter on retirement planning issues and public employees’ programs. \nWe have received tremendous positive feedback from CAS members who have attended our previous Financial Literacy Workshops. If you would like to attend the CAS Financial Workshop: Retirement – Will I be Ready and Able to Retire as Planned?\, please fill out this Google form. 
URL:https://casliny.com/event/financial-literacy-workshop-4-2-2-2-2/
LOCATION:Melville Marriott\, 1350 Walt Whitman Rd\, Melville\, NY\, 11747\, United States
CATEGORIES:Featured on Home,Financial Workshops
ATTACH;FMTTYPE=image/jpeg:https://casliny.com/wp-content/uploads/2019/04/Workshop.jpg
END:VEVENT
END:VCALENDAR