BEGIN:VCALENDAR
VERSION:2.0
PRODID:-//Council of Administrators &amp; Supervisors - ECPv6.15.20//NONSGML v1.0//EN
CALSCALE:GREGORIAN
METHOD:PUBLISH
X-ORIGINAL-URL:https://casliny.com
X-WR-CALDESC:Events for Council of Administrators &amp; Supervisors
REFRESH-INTERVAL;VALUE=DURATION:PT1H
X-Robots-Tag:noindex
X-PUBLISHED-TTL:PT1H
BEGIN:VTIMEZONE
TZID:America/New_York
BEGIN:DAYLIGHT
TZOFFSETFROM:-0500
TZOFFSETTO:-0400
TZNAME:EDT
DTSTART:20200308T070000
END:DAYLIGHT
BEGIN:STANDARD
TZOFFSETFROM:-0400
TZOFFSETTO:-0500
TZNAME:EST
DTSTART:20201101T060000
END:STANDARD
BEGIN:DAYLIGHT
TZOFFSETFROM:-0500
TZOFFSETTO:-0400
TZNAME:EDT
DTSTART:20210314T070000
END:DAYLIGHT
BEGIN:STANDARD
TZOFFSETFROM:-0400
TZOFFSETTO:-0500
TZNAME:EST
DTSTART:20211107T060000
END:STANDARD
BEGIN:DAYLIGHT
TZOFFSETFROM:-0500
TZOFFSETTO:-0400
TZNAME:EDT
DTSTART:20220313T070000
END:DAYLIGHT
BEGIN:STANDARD
TZOFFSETFROM:-0400
TZOFFSETTO:-0500
TZNAME:EST
DTSTART:20221106T060000
END:STANDARD
END:VTIMEZONE
BEGIN:VEVENT
DTSTART;TZID=America/New_York:20211130T160000
DTEND;TZID=America/New_York:20211130T180000
DTSTAMP:20260424T002519
CREATED:20220603T170619Z
LAST-MODIFIED:20230601T191108Z
UID:17350-1638288000-1638295200@casliny.com
SUMMARY:CAS Presents Workshops for Probationary Administrators
DESCRIPTION:  \nDespite the challenges of the Covid pandemic\, well over 130 enthusiastic new and probationary public-school administrators from over 40 Long Island districts participated in two virtual CAS workshops in November. Both the New and Probationary Public School Administrator workshops were presented by veteran CAS Attorneys Brad Stuhler and Michael Starvaggi. The number of probationers attending this year reflects the growing number of younger administrators now working throughout Nassau and Suffolk Counties. \nThe first part of the workshops addressed the legal aspects of administrative tenure\, seniority\, and frequent workplace pitfalls new administrators confront. The second part of the workshop focused on concerns regarding school safety\, student discipline\, and other common workplace issues facing new administrators. Brad and Mike provided practical guidance\, best practices\, and common-sense strategies for success through scenarios involving students\, staff\, and parents based on their recent experiences. Many participants remained after the workshop to ask Brad and Mike personal questions. \nCAS is a certified NYSED Continuing Teacher Leader Education (CTLE) sponsor\, and successful participants earned two (2) hours of CTLE professional development credit applicable toward the hours needed for continuing certification. \nAdditional CAS CTLE Workshops are scheduled throughout the school year and communicated through email and the www.casliny.com website.
URL:https://casliny.com/event/cas-presents-workshops-for-probationary-administrators/
CATEGORIES:Professional Development
END:VEVENT
BEGIN:VEVENT
DTSTART;TZID=America/New_York:20211130T163000
DTEND;TZID=America/New_York:20211130T180000
DTSTAMP:20260424T002519
CREATED:20211115T200138Z
LAST-MODIFIED:20211115T200138Z
UID:16119-1638289800-1638295200@casliny.com
SUMMARY:New & Probationary Administrators CTLE Workshop - Zoom
DESCRIPTION:The “New & Probationary Administrators CTLE Workshop” on Zoom will be presented by veteran CAS Attorneys Brad Stuhler and Michael Starvaggi. The first part of the workshop will delve into the legal aspects of administrative tenure\, seniority\, and frequent legal concerns confronting new and probationary administrators.  \nThe second part of the workshop will focus on school safety\, student discipline\, and some common workplace issues facing new administrators. Brad and Mike will provide practical guidance\, best practices\, and common-sense strategies for success through scenarios involving students\, staff\, and parents based on their recent experiences.  \nWe were recently made aware that some of our members experienced zoom connectivity issues that prevented full participation in our November 4th CTLE Workshop for New and Probationary Administrators. \nTo make sure as many new and probationary members can benefit from this workshop\, we have scheduled another CAS New and Probationary Administrators Workshop for Tuesday\, November 30th at 4:00 pm. If you attended the November 4th workshop\, there’s no further action needed. However\, if you were unable to access or attend the first one and would like to participate in the November 30th New and Probationary Administrators Zoom CTLE\, please fill out this Google Form. \nThe zoom link will be sent to your email and a text reminder with the link will be sent to your phone before Thanksgiving. \nWe are looking forward to seeing those who register and wish you all a Happy and Healthy Thanksgiving. \nCAS is a certified NYSED Continuing Teacher Leader Education (CTLE) sponsor. Successful participants will earn two (2) hours of CTLE professional development credit applicable toward the hours needed for continuing certification. \nAdditional CAS CTLE Workshops are scheduled throughout the school year and communicated through email and the www.casliny.com website. 
URL:https://casliny.com/event/new-administrators-workshop-zoom-3/
LOCATION:VIA ZOOM
CATEGORIES:Meetings
ATTACH;FMTTYPE=image/png:https://casliny.com/wp-content/uploads/2020/04/images.png
END:VEVENT
END:VCALENDAR