BEGIN:VCALENDAR
VERSION:2.0
PRODID:-//Council of Administrators &amp; Supervisors - ECPv6.15.20//NONSGML v1.0//EN
CALSCALE:GREGORIAN
METHOD:PUBLISH
X-WR-CALNAME:Council of Administrators &amp; Supervisors
X-ORIGINAL-URL:https://casliny.com
X-WR-CALDESC:Events for Council of Administrators &amp; Supervisors
REFRESH-INTERVAL;VALUE=DURATION:PT1H
X-Robots-Tag:noindex
X-PUBLISHED-TTL:PT1H
BEGIN:VTIMEZONE
TZID:America/New_York
BEGIN:DAYLIGHT
TZOFFSETFROM:-0500
TZOFFSETTO:-0400
TZNAME:EDT
DTSTART:20210314T070000
END:DAYLIGHT
BEGIN:STANDARD
TZOFFSETFROM:-0400
TZOFFSETTO:-0500
TZNAME:EST
DTSTART:20211107T060000
END:STANDARD
BEGIN:DAYLIGHT
TZOFFSETFROM:-0500
TZOFFSETTO:-0400
TZNAME:EDT
DTSTART:20220313T070000
END:DAYLIGHT
BEGIN:STANDARD
TZOFFSETFROM:-0400
TZOFFSETTO:-0500
TZNAME:EST
DTSTART:20221106T060000
END:STANDARD
BEGIN:DAYLIGHT
TZOFFSETFROM:-0500
TZOFFSETTO:-0400
TZNAME:EDT
DTSTART:20230312T070000
END:DAYLIGHT
BEGIN:STANDARD
TZOFFSETFROM:-0400
TZOFFSETTO:-0500
TZNAME:EST
DTSTART:20231105T060000
END:STANDARD
END:VTIMEZONE
BEGIN:VEVENT
DTSTART;TZID=America/New_York:20220118T160000
DTEND;TZID=America/New_York:20220118T173000
DTSTAMP:20260423T225540
CREATED:20230531T161847Z
LAST-MODIFIED:20230601T191144Z
UID:21519-1642521600-1642527000@casliny.com
SUMMARY:CAS Presents LGBTQ+ CTLE Workshop: Honoring All Voices
DESCRIPTION:On Wednesday\, January 18th\, Zenada Gordon\, Social Worker\, Counselor\, Advocate\, and LGBTQ+ Services Coordinator for Long Island-based Pride for Youth (PFY)\, presented another informative and well-received CAS CTLE Workshop entitled “LGBTQ+: Honoring All Voices” on Zoom. \nPride for Youth\, a division of the Long Island Crisis Center\, has served and advocated for Long Island’s LGBTQ+ Community for nearly 30 years. PFY serves as a voice for lesbian\, gay\, bisexual\, transgender\, and queer/questioning (LGBTQ+) individuals. Their mission is to enhance the health and wellness of the LGBTQ+ community through education\, supportive services\, and \n\n\n\n\nParticipants learned of the services available in Nassau and Suffolk Counties for lesbian\, gay\, bisexual\, transgender\, and queer/questioning (LGBTQ+) young people. They were made aware of the many free and confidential programs specifically for LGBTQ+ Youth\, their parents & family members. This was another informative CAS CTLE workshop that provided the participants with practical suggestions to better meet the needs of their LGBTQ+ students and families. Many attendees left with newfound terminology and advice on how to help these fragile and underserved students. \nNext CAS CTLE Workshop: Equity Walks \nCAS is a certified NYSED Continuing Teacher Leader Education (CTLE) sponsor\, and successful participants earned two (2) hours of CTLE professional development credit applicable toward the hours needed for continuing certification. \nUpcoming CAS CTLE Workshops are scheduled throughout the school year and communicated through email and the www.casliny.com website.
URL:https://casliny.com/event/cas-presents-lgbtq-ctle-workshop-honoring-all-voices/
LOCATION:VIA ZOOM
CATEGORIES:Professional Development
ATTACH;FMTTYPE=image/jpeg:https://casliny.com/wp-content/uploads/2023/05/Gordon.jpg
END:VEVENT
END:VCALENDAR