BEGIN:VCALENDAR
VERSION:2.0
PRODID:-//Council of Administrators &amp; Supervisors - ECPv6.15.20//NONSGML v1.0//EN
CALSCALE:GREGORIAN
METHOD:PUBLISH
X-ORIGINAL-URL:https://casliny.com
X-WR-CALDESC:Events for Council of Administrators &amp; Supervisors
REFRESH-INTERVAL;VALUE=DURATION:PT1H
X-Robots-Tag:noindex
X-PUBLISHED-TTL:PT1H
BEGIN:VTIMEZONE
TZID:America/New_York
BEGIN:DAYLIGHT
TZOFFSETFROM:-0500
TZOFFSETTO:-0400
TZNAME:EDT
DTSTART:20210314T070000
END:DAYLIGHT
BEGIN:STANDARD
TZOFFSETFROM:-0400
TZOFFSETTO:-0500
TZNAME:EST
DTSTART:20211107T060000
END:STANDARD
BEGIN:DAYLIGHT
TZOFFSETFROM:-0500
TZOFFSETTO:-0400
TZNAME:EDT
DTSTART:20220313T070000
END:DAYLIGHT
BEGIN:STANDARD
TZOFFSETFROM:-0400
TZOFFSETTO:-0500
TZNAME:EST
DTSTART:20221106T060000
END:STANDARD
BEGIN:DAYLIGHT
TZOFFSETFROM:-0500
TZOFFSETTO:-0400
TZNAME:EDT
DTSTART:20230312T070000
END:DAYLIGHT
BEGIN:STANDARD
TZOFFSETFROM:-0400
TZOFFSETTO:-0500
TZNAME:EST
DTSTART:20231105T060000
END:STANDARD
END:VTIMEZONE
BEGIN:VEVENT
DTSTART;TZID=America/New_York:20220225T160000
DTEND;TZID=America/New_York:20220225T170000
DTSTAMP:20260423T184333
CREATED:20220603T140719Z
LAST-MODIFIED:20230601T191304Z
UID:17340-1645804800-1645808400@casliny.com
SUMMARY:CAS Presents Virtual CTLE Workshop Education Love (EdLove) in the Time of COVID:  Instruction\, Assessment\, and Digital Leadership
DESCRIPTION: Teaching\, learning and leading have required a different approach from the days once remembered. On February 25\, 2021\, Ed Kemnitzer led a CAS CTLE Workshop via Zoom for over 25 CAS members to review the impact the pandemic has had on education. School leaders explored tools that students and educators can “own” as they move forward in their learning and leadership. Throughout this two-hour interactive workshop\, attendees reflected on\, thought about\, and crafted a vision of what true 21st Century learning would encompass moving forward. Conversations focused on reevaluating the way students are assessed and “how we can change the platforms used to teach and lead.” Using project-based learning and sharing your story are ways to achieve that goal. \nNo stranger to CAS\, Ed is both a longtime member and professional development workshop presenter who is well known and highly respected across Long Island. He is the Director of Technology\, Innovation\, and Information Services for the East Williston School District and is passionate about learning\, instructional technology\, school branding\, and developing professional learning networks. Ed is a co-founder of EdCamp Long Island and currently serves on the board of the Association of Suffolk Supervisors for Educational Technologies (ASSET).  Ed is a past winner of the prestigious Fred Podolski Award for Leadership and Innovation in Technology\, and he has also garnered the Nassau BOCES School Library Services Administrator of the Year Award. Formerly an English teacher and assistant principal\, Ed also served as the Executive Assistant for Technology Integration for Curriculum Support & Development for the Massapequa Public Schools.  \nUpcoming CAS CTLE Workshops:  \nWorkshop Title: Meeting Magic: Strategies to Engage and Empower your Staff \nPresenter: A.J. Juliani\, national speaker\, author\, and Director of Learning and Innovation at Centennial School District \nDate and Time: Wednesday\, March 24\, 2021\, from 4:00 pm – 5:30 pm \nCAS is a certified NYSED Continuing Teacher Leader Education (CTLE) sponsor\, and successful participants earned two (2) hours of CTLE professional development credit applicable toward the hours needed for continuing certification. \nUpcoming CAS CTLE Workshops are scheduled throughout the school year and communicated through email and the www.casliny.com website.
URL:https://casliny.com/event/cas-presents-virtual-ctle-workshop-education-love-edlove-in-the-time-of-covid-instruction-assessment-and-digital-leadership/
LOCATION:Webinar
CATEGORIES:Professional Development
END:VEVENT
END:VCALENDAR