BEGIN:VCALENDAR
VERSION:2.0
PRODID:-//Council of Administrators &amp; Supervisors - ECPv6.15.20//NONSGML v1.0//EN
CALSCALE:GREGORIAN
METHOD:PUBLISH
X-WR-CALNAME:Council of Administrators &amp; Supervisors
X-ORIGINAL-URL:https://casliny.com
X-WR-CALDESC:Events for Council of Administrators &amp; Supervisors
REFRESH-INTERVAL;VALUE=DURATION:PT1H
X-Robots-Tag:noindex
X-PUBLISHED-TTL:PT1H
BEGIN:VTIMEZONE
TZID:America/New_York
BEGIN:DAYLIGHT
TZOFFSETFROM:-0500
TZOFFSETTO:-0400
TZNAME:EDT
DTSTART:20210314T070000
END:DAYLIGHT
BEGIN:STANDARD
TZOFFSETFROM:-0400
TZOFFSETTO:-0500
TZNAME:EST
DTSTART:20211107T060000
END:STANDARD
BEGIN:DAYLIGHT
TZOFFSETFROM:-0500
TZOFFSETTO:-0400
TZNAME:EDT
DTSTART:20220313T070000
END:DAYLIGHT
BEGIN:STANDARD
TZOFFSETFROM:-0400
TZOFFSETTO:-0500
TZNAME:EST
DTSTART:20221106T060000
END:STANDARD
BEGIN:DAYLIGHT
TZOFFSETFROM:-0500
TZOFFSETTO:-0400
TZNAME:EDT
DTSTART:20230312T070000
END:DAYLIGHT
BEGIN:STANDARD
TZOFFSETFROM:-0400
TZOFFSETTO:-0500
TZNAME:EST
DTSTART:20231105T060000
END:STANDARD
END:VTIMEZONE
BEGIN:VEVENT
DTSTART;TZID=America/New_York:20220324T160000
DTEND;TZID=America/New_York:20220324T180000
DTSTAMP:20260423T184317
CREATED:20220603T175451Z
LAST-MODIFIED:20230601T191329Z
UID:17359-1648137600-1648144800@casliny.com
SUMMARY:CAS Presents Contract Negotiations Workshop
DESCRIPTION:  CAS Attorneys Mike Starvaggi and Brad Stuhler presented an informative CAS Contract Negotiations Workshop for local unit leaders who will soon embark on contract negotiations for their local CAS unit. The two-hour workshop\, conducted via Zoom on Tuesday\, March 2 at 4:00 pm\, centered on educating Administrator Negotiation Teams and CAS Unit Presidents of contract negotiations strategies. The virtual workshop provided the participants’ opportunities to share ideas and network with colleagues in other administrative units in Nassau and Suffolk Counties.  During this interactive experience\, Mike and Brad detailed suggestions for structuring negotiation teams and collecting the appropriate data before initiating  contract negotiations. They also focused on the benefits of thoughtfully timing contract negotiations\, developing realistic expectations\, gathering relevant data\, and understanding what procedures to expect during the process. Items of concern included understanding the difference between formal negotiations and informal negotiations\, the impact of the 2% Tax Cap\, and the fears generated by the instructional and structural modifications caused by the COVID pandemic. The workshop also touched on the legal aspects and significant restrictions related to the Taylor Law and the Triborough Amendment. Each topic presented generated discussions that helped the participants understand the potential impact on their negotiations. Brad and Mike provided practical guidance\, best practice examples\, and common-sense strategies for successful negotiations. The large number of enthusiastic participants attending reflected local concerns related to state aid and Federal assistance to local communities. Consequently\, several units planned for individual follow-up with their CAS attorney. \nUpcoming CAS CTLE Workshops:  \nWorkshop Title: Meeting Magic: Strategies to Engage and Empower your Staff \nPresenter: A.J. Juliani\, national speaker\, author\, and Director of Learning and Innovation at Centennial School District \nDate and Time: Wednesday\, March 24\, 2021\, from 4:00 pm – 5:30 pm \nAlthough this was not a professional development training workshop\, CAS is a certified NYSED Continuing Teacher Leader Education (CTLE) sponsor and successful participants earned two (2) hours of CTLE professional development credit applicable toward the hours needed for continuing certification. \nUpcoming CAS CTLE Workshops are scheduled throughout the school year and communicated through email and the www.casliny.com website.
URL:https://casliny.com/event/cas-presents-contract-negotiations-workshop-3/
CATEGORIES:Professional Development
END:VEVENT
END:VCALENDAR