BEGIN:VCALENDAR
VERSION:2.0
PRODID:-//Council of Administrators &amp; Supervisors - ECPv6.15.20//NONSGML v1.0//EN
CALSCALE:GREGORIAN
METHOD:PUBLISH
X-ORIGINAL-URL:https://casliny.com
X-WR-CALDESC:Events for Council of Administrators &amp; Supervisors
REFRESH-INTERVAL;VALUE=DURATION:PT1H
X-Robots-Tag:noindex
X-PUBLISHED-TTL:PT1H
BEGIN:VTIMEZONE
TZID:America/New_York
BEGIN:DAYLIGHT
TZOFFSETFROM:-0500
TZOFFSETTO:-0400
TZNAME:EDT
DTSTART:20210314T070000
END:DAYLIGHT
BEGIN:STANDARD
TZOFFSETFROM:-0400
TZOFFSETTO:-0500
TZNAME:EST
DTSTART:20211107T060000
END:STANDARD
BEGIN:DAYLIGHT
TZOFFSETFROM:-0500
TZOFFSETTO:-0400
TZNAME:EDT
DTSTART:20220313T070000
END:DAYLIGHT
BEGIN:STANDARD
TZOFFSETFROM:-0400
TZOFFSETTO:-0500
TZNAME:EST
DTSTART:20221106T060000
END:STANDARD
BEGIN:DAYLIGHT
TZOFFSETFROM:-0500
TZOFFSETTO:-0400
TZNAME:EDT
DTSTART:20230312T070000
END:DAYLIGHT
BEGIN:STANDARD
TZOFFSETFROM:-0400
TZOFFSETTO:-0500
TZNAME:EST
DTSTART:20231105T060000
END:STANDARD
END:VTIMEZONE
BEGIN:VEVENT
DTSTART;TZID=America/New_York:20220329T160000
DTEND;TZID=America/New_York:20220329T173000
DTSTAMP:20260423T152307
CREATED:20220310T140239Z
LAST-MODIFIED:20220310T140239Z
UID:16705-1648569600-1648575000@casliny.com
SUMMARY:Taking Care of You to Take Care of Them: Mindfulness for What Matters with Carin Winter - 4:00 pm
DESCRIPTION:
URL:https://casliny.com/event/new-administrators-workshop-zoom-2-3-2-2/
LOCATION:VIA ZOOM
CATEGORIES:Meetings
ATTACH;FMTTYPE=image/png:https://casliny.com/wp-content/uploads/2020/04/images.png
END:VEVENT
BEGIN:VEVENT
DTSTART;TZID=America/New_York:20220329T160000
DTEND;TZID=America/New_York:20220329T173000
DTSTAMP:20260423T152307
CREATED:20230601T125021Z
LAST-MODIFIED:20230601T191354Z
UID:21552-1648569600-1648575000@casliny.com
SUMMARY:Taking Care of You to Take Care of Them:   Mindfulness for What Matters with Carin Winter 
DESCRIPTION:Taking Care of You to Take Care of Them:  \nMindfulness for What Matters with Carin Winter  \nMarch 29\,2022 at 4:30 PM on Zoom \n To be good to others\, you must be good to yourself. Join us for this workshop that will focus on personal practices that you can integrate into your life and share with those you lead. You’ll also learn about strategies that can be shared with students to improve practice and decrease stress. Walk away with tips that you can use tomorrow.  \nCarin Winter is the founder and CEO of Mission Be\, Mindful Education and has successfully led the organization to bring mindfulness rooted in social emotional learning to thousands of adults and children. She has been studying the work of mindfulness for over 20 years and is a talented meditation teacher\, gifted speaker\, and visionary. Carin was a school social worker in the Islip Public School District\, a clinical therapist\, and holds a LMSW with a clinical background and 15 years of experience working with youth in schools\, foster care\, and the juvenile justice system. \nThis workshop is at no cost for all CAS administrators. CAS is a certified NYSED Continuing Teacher Leader Education (CTLE) sponsor\, and successful participants earned two (2) hours of CTLE professional development credit applicable toward the hours needed for continuing certification. \n\n\n\nUpcoming CAS CTLE Workshops are scheduled throughout the school year and communicated through \nemail and the www.casliny.com website
URL:https://casliny.com/event/taking-care-of-you-to-take-care-of-them-mindfulness-for-what-matters-with-carin-winter/
LOCATION:VIA ZOOM
CATEGORIES:Professional Development
ATTACH;FMTTYPE=image/jpeg:https://casliny.com/wp-content/uploads/2023/06/Winter.jpg
END:VEVENT
END:VCALENDAR