BEGIN:VCALENDAR
VERSION:2.0
PRODID:-//Council of Administrators &amp; Supervisors - ECPv6.15.20//NONSGML v1.0//EN
CALSCALE:GREGORIAN
METHOD:PUBLISH
X-ORIGINAL-URL:https://casliny.com
X-WR-CALDESC:Events for Council of Administrators &amp; Supervisors
REFRESH-INTERVAL;VALUE=DURATION:PT1H
X-Robots-Tag:noindex
X-PUBLISHED-TTL:PT1H
BEGIN:VTIMEZONE
TZID:America/New_York
BEGIN:DAYLIGHT
TZOFFSETFROM:-0500
TZOFFSETTO:-0400
TZNAME:EDT
DTSTART:20210314T070000
END:DAYLIGHT
BEGIN:STANDARD
TZOFFSETFROM:-0400
TZOFFSETTO:-0500
TZNAME:EST
DTSTART:20211107T060000
END:STANDARD
BEGIN:DAYLIGHT
TZOFFSETFROM:-0500
TZOFFSETTO:-0400
TZNAME:EDT
DTSTART:20220313T070000
END:DAYLIGHT
BEGIN:STANDARD
TZOFFSETFROM:-0400
TZOFFSETTO:-0500
TZNAME:EST
DTSTART:20221106T060000
END:STANDARD
BEGIN:DAYLIGHT
TZOFFSETFROM:-0500
TZOFFSETTO:-0400
TZNAME:EDT
DTSTART:20230312T070000
END:DAYLIGHT
BEGIN:STANDARD
TZOFFSETFROM:-0400
TZOFFSETTO:-0500
TZNAME:EST
DTSTART:20231105T060000
END:STANDARD
END:VTIMEZONE
BEGIN:VEVENT
DTSTART;TZID=America/New_York:20221102T163000
DTEND;TZID=America/New_York:20221102T180000
DTSTAMP:20260423T023528
CREATED:20220825T162655Z
LAST-MODIFIED:20221024T185901Z
UID:17863-1667406600-1667412000@casliny.com
SUMMARY:New & Probationary Administrators CTLE Workshop - Zoom
DESCRIPTION:The “New & Probationary Administrators CTLE Workshop” on Zoom will be presented by CAS Attorneys Brad Stuhler and Paul Pagano. The first part of the workshop will delve into the legal aspects of administrative tenure\, seniority\, and frequent legal concerns confronting new and probationary administrators. \nThe second part of the workshop will focus on school safety\, student discipline\, and some common workplace issues facing new administrators. Brad and Paul will provide practical guidance\, best practices\, and common-sense strategies for success through scenarios involving students\, staff\, and parents based on their recent experiences. \nCAS is a certified NYSED Continuing Teacher Leader Education (CTLE) sponsor. Successful participants will earn two (2) hours of CTLE professional development credit applicable toward the hours needed for continuing certification. \nAdditional CAS CTLE Workshops are scheduled throughout the school year and communicated through email and the www.casliny.com website. \nThis workshop is at no cost for all CAS administrators.  All new and probationary administrators are strongly encouraged to attend this workshop.  If you would like to attend\, please fill out this Google form as soon as possible. \nWe look forward to seeing you!
URL:https://casliny.com/event/new-administrators-workshop-zoom-4/
LOCATION:VIA ZOOM
CATEGORIES:Meetings
ATTACH;FMTTYPE=image/png:https://casliny.com/wp-content/uploads/2020/04/images.png
END:VEVENT
END:VCALENDAR