BEGIN:VCALENDAR
VERSION:2.0
PRODID:-//Council of Administrators &amp; Supervisors - ECPv6.15.20//NONSGML v1.0//EN
CALSCALE:GREGORIAN
METHOD:PUBLISH
X-ORIGINAL-URL:https://casliny.com
X-WR-CALDESC:Events for Council of Administrators &amp; Supervisors
REFRESH-INTERVAL;VALUE=DURATION:PT1H
X-Robots-Tag:noindex
X-PUBLISHED-TTL:PT1H
BEGIN:VTIMEZONE
TZID:America/New_York
BEGIN:DAYLIGHT
TZOFFSETFROM:-0500
TZOFFSETTO:-0400
TZNAME:EDT
DTSTART:20210314T070000
END:DAYLIGHT
BEGIN:STANDARD
TZOFFSETFROM:-0400
TZOFFSETTO:-0500
TZNAME:EST
DTSTART:20211107T060000
END:STANDARD
BEGIN:DAYLIGHT
TZOFFSETFROM:-0500
TZOFFSETTO:-0400
TZNAME:EDT
DTSTART:20220313T070000
END:DAYLIGHT
BEGIN:STANDARD
TZOFFSETFROM:-0400
TZOFFSETTO:-0500
TZNAME:EST
DTSTART:20221106T060000
END:STANDARD
BEGIN:DAYLIGHT
TZOFFSETFROM:-0500
TZOFFSETTO:-0400
TZNAME:EDT
DTSTART:20230312T070000
END:DAYLIGHT
BEGIN:STANDARD
TZOFFSETFROM:-0400
TZOFFSETTO:-0500
TZNAME:EST
DTSTART:20231105T060000
END:STANDARD
END:VTIMEZONE
BEGIN:VEVENT
DTSTART;TZID=America/New_York:20221201T163000
DTEND;TZID=America/New_York:20221201T190000
DTSTAMP:20260423T005338
CREATED:20220825T163136Z
LAST-MODIFIED:20220825T163951Z
UID:17869-1669912200-1669921200@casliny.com
SUMMARY:CAS Holiday Party
DESCRIPTION:           \nCouncil of Administrators and Supervisors\n  Holiday Party\n  \nThursday\, December 1\, 2022\n4:30 to 7:00 p.m.\nHilton Long Island/Huntington\n598 Broad Hollow Road\nMelville\, NY  11747\n631-845-1000\nWine\, Beer\, Hors d’Oeurves and Buffet Dinner \n\nFree for CAS Members \n\n  \n 
URL:https://casliny.com/event/cas-holiday-party-3/
LOCATION:Hilton Long Island/Huntington\, 598 Broadhollow Road\, Melville\, NY\, 11747\, United States
CATEGORIES:Featured on Home,Meetings
ATTACH;FMTTYPE=image/jpeg:https://casliny.com/wp-content/uploads/2017/08/People-7-1-1.jpg
ORGANIZER;CN="Demetria Marino%2C Office Manager":MAILTO:casinfo@caslongisland.com
END:VEVENT
END:VCALENDAR