BEGIN:VCALENDAR
VERSION:2.0
PRODID:-//Council of Administrators &amp; Supervisors - ECPv6.15.20//NONSGML v1.0//EN
CALSCALE:GREGORIAN
METHOD:PUBLISH
X-WR-CALNAME:Council of Administrators &amp; Supervisors
X-ORIGINAL-URL:https://casliny.com
X-WR-CALDESC:Events for Council of Administrators &amp; Supervisors
REFRESH-INTERVAL;VALUE=DURATION:PT1H
X-Robots-Tag:noindex
X-PUBLISHED-TTL:PT1H
BEGIN:VTIMEZONE
TZID:America/New_York
BEGIN:DAYLIGHT
TZOFFSETFROM:-0500
TZOFFSETTO:-0400
TZNAME:EDT
DTSTART:20220313T070000
END:DAYLIGHT
BEGIN:STANDARD
TZOFFSETFROM:-0400
TZOFFSETTO:-0500
TZNAME:EST
DTSTART:20221106T060000
END:STANDARD
BEGIN:DAYLIGHT
TZOFFSETFROM:-0500
TZOFFSETTO:-0400
TZNAME:EDT
DTSTART:20230312T070000
END:DAYLIGHT
BEGIN:STANDARD
TZOFFSETFROM:-0400
TZOFFSETTO:-0500
TZNAME:EST
DTSTART:20231105T060000
END:STANDARD
BEGIN:DAYLIGHT
TZOFFSETFROM:-0500
TZOFFSETTO:-0400
TZNAME:EDT
DTSTART:20240310T070000
END:DAYLIGHT
BEGIN:STANDARD
TZOFFSETFROM:-0400
TZOFFSETTO:-0500
TZNAME:EST
DTSTART:20241103T060000
END:STANDARD
END:VTIMEZONE
BEGIN:VEVENT
DTSTART;TZID=America/New_York:20230119T170000
DTEND;TZID=America/New_York:20230119T190000
DTSTAMP:20260422T231614
CREATED:20221231T185243Z
LAST-MODIFIED:20230601T162907Z
UID:20399-1674147600-1674154800@casliny.com
SUMMARY:FINANCIAL LITERACY WORKSHOP - Via Go To Meeting
DESCRIPTION:Several members have asked us to sponsor another Financial Literacy Program on Zoom for our members contemplating retirement. As we continue to emerge from the COVID-19 pandemic\, some members are actively thinking about retirement and planning for life post-retirement. Whether you are thinking of retiring sooner or later\, we have developed another informative workshop for our members as a part of our continuing CAS Financial Literacy Program that you may find helpful. On behalf of CAS\, I would like to extend an invitation to attend this virtual workshop designed to enhance your financial literacy as you prepare for the next phase of your life. \n                                                                                             Retirement – Will I be Ready and Able to Retire as Planned?\n                                                                      With Andrew Buttelman of Lincoln Investment and Special Guest Speaker\, David Daly** \n                                                                                                      CAS Financial Workshop on Zoom: 5:00 – 7:00 PM\n                                                                                                               \n                                                                                                              Thursday\, January 19\, 2023\n\n\n\nThe workshop will focus on: \nNavigating the New York State Teachers System \n\n\nGetting credit for prior service\nGetting credit for prior military service and the new rules\nUnderstanding you’re in-service death benefit and making sure your family is secure\nDisability and your pension\nUnderstanding your death benefit\nVerifying Salaries\nChoosing an Option\nFiling the application\nEarning after retirement\n\n Tax Deferred Investment Opportunities – What you need to know!\n\n403-b plans\nEmployer-sponsored 403-b and 457 plans\nElective and non-elective plans\nLimits\, options\, and catch up provisions\n\nSick days and Incentives\n\nWhat you must know about sick days\, incentives and understanding the Non-elective Employer-sponsored 403-b\n\n**David Daly\, was the manager of the Public Information Office of the New York State Teachers’ Retirement System. He was the System’s spokesperson and was responsible for its publications\, website and media information. Previously\, he was the Coordinator of Pre-retirement Planning where he organized and implemented the System’s retirement planning seminar program\, which is a model for other systems throughout the country. Currently\, Dave is the Administrator of the National Pension Education Association and is a nationally-known presenter on retirement planning issues and programs for public employees. \nWe have received tremendous positive feedback from CAS members who have attended our previous Financial Literacy Workshops.
URL:https://casliny.com/event/financial-literacy-workshop-2-2-2-2-2-3/
LOCATION:VIA ZOOM
CATEGORIES:Featured on Home,Financial Workshops
ORGANIZER;CN="Demetria Marino%2C Office Manager":MAILTO:casinfo@caslongisland.com
END:VEVENT
END:VCALENDAR