BEGIN:VCALENDAR
VERSION:2.0
PRODID:-//Council of Administrators &amp; Supervisors - ECPv6.15.20//NONSGML v1.0//EN
CALSCALE:GREGORIAN
METHOD:PUBLISH
X-ORIGINAL-URL:https://casliny.com
X-WR-CALDESC:Events for Council of Administrators &amp; Supervisors
REFRESH-INTERVAL;VALUE=DURATION:PT1H
X-Robots-Tag:noindex
X-PUBLISHED-TTL:PT1H
BEGIN:VTIMEZONE
TZID:America/New_York
BEGIN:DAYLIGHT
TZOFFSETFROM:-0500
TZOFFSETTO:-0400
TZNAME:EDT
DTSTART:20220313T070000
END:DAYLIGHT
BEGIN:STANDARD
TZOFFSETFROM:-0400
TZOFFSETTO:-0500
TZNAME:EST
DTSTART:20221106T060000
END:STANDARD
BEGIN:DAYLIGHT
TZOFFSETFROM:-0500
TZOFFSETTO:-0400
TZNAME:EDT
DTSTART:20230312T070000
END:DAYLIGHT
BEGIN:STANDARD
TZOFFSETFROM:-0400
TZOFFSETTO:-0500
TZNAME:EST
DTSTART:20231105T060000
END:STANDARD
BEGIN:DAYLIGHT
TZOFFSETFROM:-0500
TZOFFSETTO:-0400
TZNAME:EDT
DTSTART:20240310T070000
END:DAYLIGHT
BEGIN:STANDARD
TZOFFSETFROM:-0400
TZOFFSETTO:-0500
TZNAME:EST
DTSTART:20241103T060000
END:STANDARD
END:VTIMEZONE
BEGIN:VEVENT
DTSTART;TZID=America/New_York:20230426T093000
DTEND;TZID=America/New_York:20230426T101500
DTSTAMP:20260422T181116
CREATED:20230407T164720Z
LAST-MODIFIED:20230407T165402Z
UID:21073-1682501400-1682504100@casliny.com
SUMMARY:School Counseling Regulations 101 - April 26\, 2023 - 9:30 am to 10:15 am - NYSSCA
DESCRIPTION:Building principals will unpack each of the basic components on the NYSED amended school counseling regulations that went into\neffect in 2019 and discuss the opportunities and challenges to implementation with fidelity. The session will the expectations of\nNYSED and tips\, suggestions\, and tools to support your building’s comprehensive school counseling program. Q and A time will\nfollow the session.   Register Here
URL:https://casliny.com/event/school-counseling-regulations-101-april-26-2023-930-am-to-1015-am-nyssca/
CATEGORIES:Meetings
ATTACH;FMTTYPE=image/jpeg:https://casliny.com/wp-content/uploads/2023/04/download1.jpg
END:VEVENT
END:VCALENDAR