BEGIN:VCALENDAR
VERSION:2.0
PRODID:-//Council of Administrators &amp; Supervisors - ECPv6.15.20//NONSGML v1.0//EN
CALSCALE:GREGORIAN
METHOD:PUBLISH
X-ORIGINAL-URL:https://casliny.com
X-WR-CALDESC:Events for Council of Administrators &amp; Supervisors
REFRESH-INTERVAL;VALUE=DURATION:PT1H
X-Robots-Tag:noindex
X-PUBLISHED-TTL:PT1H
BEGIN:VTIMEZONE
TZID:America/New_York
BEGIN:DAYLIGHT
TZOFFSETFROM:-0500
TZOFFSETTO:-0400
TZNAME:EDT
DTSTART:20220313T070000
END:DAYLIGHT
BEGIN:STANDARD
TZOFFSETFROM:-0400
TZOFFSETTO:-0500
TZNAME:EST
DTSTART:20221106T060000
END:STANDARD
BEGIN:DAYLIGHT
TZOFFSETFROM:-0500
TZOFFSETTO:-0400
TZNAME:EDT
DTSTART:20230312T070000
END:DAYLIGHT
BEGIN:STANDARD
TZOFFSETFROM:-0400
TZOFFSETTO:-0500
TZNAME:EST
DTSTART:20231105T060000
END:STANDARD
BEGIN:DAYLIGHT
TZOFFSETFROM:-0500
TZOFFSETTO:-0400
TZNAME:EDT
DTSTART:20240310T070000
END:DAYLIGHT
BEGIN:STANDARD
TZOFFSETFROM:-0400
TZOFFSETTO:-0500
TZNAME:EST
DTSTART:20241103T060000
END:STANDARD
END:VTIMEZONE
BEGIN:VEVENT
DTSTART;TZID=America/New_York:20230504T163000
DTEND;TZID=America/New_York:20230504T180000
DTSTAMP:20260422T162312
CREATED:20230206T203336Z
LAST-MODIFIED:20230206T203507Z
UID:20456-1683217800-1683223200@casliny.com
SUMMARY:CAS Delegate Assembly - May 4\, 2023 - 4:30 p.m.
DESCRIPTION:  \nCAS MAY DELEGATE ASSEMBLY MEETING\n \n\n\n\n 
URL:https://casliny.com/event/cas-delegate-assembly-zoom-meeting-430-p-m/
LOCATION:Holiday Inn\, Plainview\, 215 Sunnyside Boulevard\, Plainview\, NY\, 11803\, United States
CATEGORIES:Featured on Home,Meetings
ATTACH;FMTTYPE=image/jpeg:https://casliny.com/wp-content/uploads/2021/09/DSC_0949-2-1-1-1-1-1-1-1-1-1.jpg
ORGANIZER;CN="Demetria Marino%2C Office Manager":MAILTO:casinfo@caslongisland.com
END:VEVENT
BEGIN:VEVENT
DTSTART;TZID=America/New_York:20230504T163000
DTEND;TZID=America/New_York:20230504T180000
DTSTAMP:20260422T162312
CREATED:20230206T203606Z
LAST-MODIFIED:20230206T203606Z
UID:20460-1683217800-1683223200@casliny.com
SUMMARY:CAS Blue Ribbons/Retirees - May 4\, 2023 - 4:30 p.m.
DESCRIPTION:  \n\n\n\n\n 
URL:https://casliny.com/event/cas-blue-ribbons-retirees-may-4-2023-430-p-m/
LOCATION:Holiday Inn\, Plainview\, 215 Sunnyside Boulevard\, Plainview\, NY\, 11803\, United States
CATEGORIES:Featured on Home,Meetings
ATTACH;FMTTYPE=image/jpeg:https://casliny.com/wp-content/uploads/2021/09/DSC_0949-2-1-1-1-1-1-1-1-1-1.jpg
ORGANIZER;CN="Demetria Marino%2C Office Manager":MAILTO:casinfo@caslongisland.com
END:VEVENT
END:VCALENDAR