BEGIN:VCALENDAR
VERSION:2.0
PRODID:-//Council of Administrators &amp; Supervisors - ECPv6.15.20//NONSGML v1.0//EN
CALSCALE:GREGORIAN
METHOD:PUBLISH
X-ORIGINAL-URL:https://casliny.com
X-WR-CALDESC:Events for Council of Administrators &amp; Supervisors
REFRESH-INTERVAL;VALUE=DURATION:PT1H
X-Robots-Tag:noindex
X-PUBLISHED-TTL:PT1H
BEGIN:VTIMEZONE
TZID:America/New_York
BEGIN:DAYLIGHT
TZOFFSETFROM:-0500
TZOFFSETTO:-0400
TZNAME:EDT
DTSTART:20220313T070000
END:DAYLIGHT
BEGIN:STANDARD
TZOFFSETFROM:-0400
TZOFFSETTO:-0500
TZNAME:EST
DTSTART:20221106T060000
END:STANDARD
BEGIN:DAYLIGHT
TZOFFSETFROM:-0500
TZOFFSETTO:-0400
TZNAME:EDT
DTSTART:20230312T070000
END:DAYLIGHT
BEGIN:STANDARD
TZOFFSETFROM:-0400
TZOFFSETTO:-0500
TZNAME:EST
DTSTART:20231105T060000
END:STANDARD
BEGIN:DAYLIGHT
TZOFFSETFROM:-0500
TZOFFSETTO:-0400
TZNAME:EDT
DTSTART:20240310T070000
END:DAYLIGHT
BEGIN:STANDARD
TZOFFSETFROM:-0400
TZOFFSETTO:-0500
TZNAME:EST
DTSTART:20241103T060000
END:STANDARD
END:VTIMEZONE
BEGIN:VEVENT
DTSTART;TZID=America/New_York:20230531T080000
DTEND;TZID=America/New_York:20230531T170000
DTSTAMP:20260422T144534
CREATED:20230531T160716Z
LAST-MODIFIED:20230612T151010Z
UID:21515-1685520000-1685552400@casliny.com
SUMMARY:CAS Presents a CTLE Workshop entitled “Evolving Digital Leadership and Security: Tech Tools to Leverage Tomorrow and Considerations for Cybersecurity”
DESCRIPTION:On Wednesday\, January 19\, Ed Kemnitzer\, Director of Technology\, Innovation\, and Information Services for the East Williston School District presented another well-received CAS CTLE Workshop entitled “Evolving Digital Leadership and Security: Tech Tools to Leverage Tomorrow and Considerations for Cybersecurity” on Zoom. \nThis was another information-packed CAS workshop that provided the participants with practical suggestions on how to manage data\, correspondence\, and social media more effectively. In particular\, he demonstrated many approaches to quickly build local technology capacity and enhance the timing and confidentiality of critical communications and files. \nMoving fast\, he explained several effective ways to maximize time when you have it by employing valuable and often overlooked aspects of the Google and Outlook email platforms that can improve and organize communication with parents. \nParticipants learned cutting-edge instructional tools and a dazzling array of student and staff-friendly ways to expand communication and collaboration with parents\, students\, and staff. Participants also had an opportunity to add several creative digital leadership tools to their arsenals like the One-Stop Hyperdoc\, QR codes\, Free IFTTT (If That Then This) Applets\, New York Times Articles to Pocket\, Tweet Deck\, and administrative team chats through Voxer and mote. \nDuring an interactive portion of the workshop\, the participants had an opportunity to reflect on their practices and share them with other school leaders from both counties. The workshop was concluded with helpful suggestions for enhancing cyber security\, streamlining calendar entries\, and cataloging parent conferences to communicate more personally and effectively. All of the participants left with practical tools and powerful apps to improve workflow and develop a digital world that works for them while simultaneously making life a little easier. \nIf you were unable to attend the workshop\, you might find the entire presentation and all of the websites and apps discussed in the seminar found here at https://bit.ly/33ACWSW \nUpcoming CAS CTLE Workshops: \nWorkshop Title: DASA: Responsibilities and Strategies for Success and Safety\nPresenter: Anthony Baxter\, Assistant Principal\, Sleepy Hollow High School\, Tarrytown\, NY Date and Time: Tuesday\, February 15\, 2022\, from 4:30 pm – 6:00 pm \nCAS is a certified NYSED Continuing Teacher Leader Education (CTLE) sponsor\, and successful participants earned two (2) hours of CTLE professional development credit applicable toward the hours needed for continuing certification. \nUpcoming CAS CTLE Workshops are scheduled throughout the school year and communicated through email and the www.casliny.com website.
URL:https://casliny.com/event/cas-presents-a-ctle-workshop-entitled-evolving-digital-leadership-and-security-tech-tools-to-leverage-tomorrow-and-considerations-for-cybersecurity/
CATEGORIES:Professional Development
ATTACH;FMTTYPE=image/jpeg:https://casliny.com/wp-content/uploads/2023/05/Kenmitzer.jpg
END:VEVENT
END:VCALENDAR