BEGIN:VCALENDAR
VERSION:2.0
PRODID:-//Council of Administrators &amp; Supervisors - ECPv6.15.20//NONSGML v1.0//EN
CALSCALE:GREGORIAN
METHOD:PUBLISH
X-WR-CALNAME:Council of Administrators &amp; Supervisors
X-ORIGINAL-URL:https://casliny.com
X-WR-CALDESC:Events for Council of Administrators &amp; Supervisors
REFRESH-INTERVAL;VALUE=DURATION:PT1H
X-Robots-Tag:noindex
X-PUBLISHED-TTL:PT1H
BEGIN:VTIMEZONE
TZID:America/New_York
BEGIN:DAYLIGHT
TZOFFSETFROM:-0500
TZOFFSETTO:-0400
TZNAME:EDT
DTSTART:20220313T070000
END:DAYLIGHT
BEGIN:STANDARD
TZOFFSETFROM:-0400
TZOFFSETTO:-0500
TZNAME:EST
DTSTART:20221106T060000
END:STANDARD
BEGIN:DAYLIGHT
TZOFFSETFROM:-0500
TZOFFSETTO:-0400
TZNAME:EDT
DTSTART:20230312T070000
END:DAYLIGHT
BEGIN:STANDARD
TZOFFSETFROM:-0400
TZOFFSETTO:-0500
TZNAME:EST
DTSTART:20231105T060000
END:STANDARD
BEGIN:DAYLIGHT
TZOFFSETFROM:-0500
TZOFFSETTO:-0400
TZNAME:EDT
DTSTART:20240310T070000
END:DAYLIGHT
BEGIN:STANDARD
TZOFFSETFROM:-0400
TZOFFSETTO:-0500
TZNAME:EST
DTSTART:20241103T060000
END:STANDARD
END:VTIMEZONE
BEGIN:VEVENT
DTSTART;TZID=America/New_York:20231116T160000
DTEND;TZID=America/New_York:20231116T171500
DTSTAMP:20260421T022733
CREATED:20231110T130348Z
LAST-MODIFIED:20231114T191706Z
UID:22688-1700150400-1700154900@casliny.com
SUMMARY:Making It Meaningful: Weaving Professional Learning into Teacher Evaluation Workshop
DESCRIPTION:DOWNLOAD INFORMATION \n 
URL:https://casliny.com/event/making-it-meaningful-weaving-professional-learning-into-teacher-evaluation-workshop-6/
LOCATION:VIA ZOOM
CATEGORIES:Meetings,Professional Development
ATTACH;FMTTYPE=image/png:https://casliny.com/wp-content/uploads/2022/01/ESSAACASlogo.png
END:VEVENT
END:VCALENDAR