BEGIN:VCALENDAR
VERSION:2.0
PRODID:-//Council of Administrators &amp; Supervisors - ECPv6.15.20//NONSGML v1.0//EN
CALSCALE:GREGORIAN
METHOD:PUBLISH
X-WR-CALNAME:Council of Administrators &amp; Supervisors
X-ORIGINAL-URL:https://casliny.com
X-WR-CALDESC:Events for Council of Administrators &amp; Supervisors
REFRESH-INTERVAL;VALUE=DURATION:PT1H
X-Robots-Tag:noindex
X-PUBLISHED-TTL:PT1H
BEGIN:VTIMEZONE
TZID:America/New_York
BEGIN:DAYLIGHT
TZOFFSETFROM:-0500
TZOFFSETTO:-0400
TZNAME:EDT
DTSTART:20170312T070000
END:DAYLIGHT
BEGIN:STANDARD
TZOFFSETFROM:-0400
TZOFFSETTO:-0500
TZNAME:EST
DTSTART:20171105T060000
END:STANDARD
BEGIN:DAYLIGHT
TZOFFSETFROM:-0500
TZOFFSETTO:-0400
TZNAME:EDT
DTSTART:20180311T070000
END:DAYLIGHT
BEGIN:STANDARD
TZOFFSETFROM:-0400
TZOFFSETTO:-0500
TZNAME:EST
DTSTART:20181104T060000
END:STANDARD
BEGIN:DAYLIGHT
TZOFFSETFROM:-0500
TZOFFSETTO:-0400
TZNAME:EDT
DTSTART:20190310T070000
END:DAYLIGHT
BEGIN:STANDARD
TZOFFSETFROM:-0400
TZOFFSETTO:-0500
TZNAME:EST
DTSTART:20191103T060000
END:STANDARD
END:VTIMEZONE
BEGIN:VEVENT
DTSTART;VALUE=DATE:20180917
DTEND;VALUE=DATE:20180919
DTSTAMP:20260422T180937
CREATED:20180124T185017Z
LAST-MODIFIED:20180124T185017Z
UID:7194-1537142400-1537315199@casliny.com
SUMMARY:NYSED Regents Meeting
DESCRIPTION:
URL:https://casliny.com/event/nysed-regents-meeting-11/
LOCATION:NY
CATEGORIES:Featured on Home,Meetings
ATTACH;FMTTYPE=image/jpeg:https://casliny.com/wp-content/uploads/2017/08/NYS-Ed.jpg
END:VEVENT
BEGIN:VEVENT
DTSTART;VALUE=DATE:20180910
DTEND;VALUE=DATE:20180912
DTSTAMP:20260422T180937
CREATED:20170831T185015Z
LAST-MODIFIED:20180925T182142Z
UID:5452-1536537600-1536710399@casliny.com
SUMMARY:Rosh Hashanah
DESCRIPTION:
URL:https://casliny.com/event/rosh-hashanah-schools-closed/
LOCATION:NY
CATEGORIES:Holidays
ATTACH;FMTTYPE=image/jpeg:https://casliny.com/wp-content/uploads/2017/08/rosh.jpg
END:VEVENT
BEGIN:VEVENT
DTSTART;TZID=America/New_York:20180903T100000
DTEND;TZID=America/New_York:20180903T120000
DTSTAMP:20260422T180937
CREATED:20170711T154556Z
LAST-MODIFIED:20180802T152513Z
UID:4926-1535968800-1535976000@casliny.com
SUMMARY:Labor Day
DESCRIPTION:
URL:https://casliny.com/event/executive-board-meeting/
LOCATION:NY\, United States
CATEGORIES:Featured on Home,Holidays
ATTACH;FMTTYPE=image/jpeg:https://casliny.com/wp-content/uploads/2017/07/Labor-Day.jpg
ORGANIZER;CN="Demetria Marino%2C Office Manager":MAILTO:casinfo@caslongisland.com
END:VEVENT
BEGIN:VEVENT
DTSTART;TZID=America/New_York:20180828T163000
DTEND;TZID=America/New_York:20180828T180000
DTSTAMP:20260422T180937
CREATED:20170901T002353Z
LAST-MODIFIED:20180823T160243Z
UID:5574-1535473800-1535479200@casliny.com
SUMMARY:CAS Executive Board Meeting
DESCRIPTION:
URL:https://casliny.com/event/essaa-executive-board-meeting-2/
LOCATION:CAS Office\, 1300 Veterans Highway\, Suite 330\, Hauppauge\, NY\, 11788\, United States
CATEGORIES:Featured on Home,Meetings
ATTACH;FMTTYPE=image/jpeg:https://casliny.com/wp-content/uploads/2018/05/DSC_6298a.jpg
END:VEVENT
BEGIN:VEVENT
DTSTART;VALUE=DATE:20180716
DTEND;VALUE=DATE:20180718
DTSTAMP:20260422T180937
CREATED:20180124T184836Z
LAST-MODIFIED:20180124T184836Z
UID:7192-1531699200-1531871999@casliny.com
SUMMARY:NYSED Regents Meeting
DESCRIPTION:
URL:https://casliny.com/event/nysed-regents-meeting-10/
LOCATION:NY
CATEGORIES:Featured on Home,Meetings
ATTACH;FMTTYPE=image/jpeg:https://casliny.com/wp-content/uploads/2018/01/NYS-Ed.jpg
END:VEVENT
BEGIN:VEVENT
DTSTART;VALUE=DATE:20180622
DTEND;VALUE=DATE:20180623
DTSTAMP:20260422T180937
CREATED:20170901T002940Z
LAST-MODIFIED:20180417T145001Z
UID:5588-1529625600-1529711999@casliny.com
SUMMARY:Last Day of School
DESCRIPTION:
URL:https://casliny.com/event/last-day-of-school/
LOCATION:NY
CATEGORIES:Holidays
ATTACH;FMTTYPE=image/jpeg:https://casliny.com/wp-content/uploads/2017/08/last-day.jpg
END:VEVENT
BEGIN:VEVENT
DTSTART;VALUE=DATE:20180622
DTEND;VALUE=DATE:20180623
DTSTAMP:20260422T180937
CREATED:20170901T002824Z
LAST-MODIFIED:20170901T002824Z
UID:5584-1529625600-1529711999@casliny.com
SUMMARY:NYSED Regents Rating Day
DESCRIPTION:
URL:https://casliny.com/event/nysed-regents-rating-day-2/
LOCATION:NY
CATEGORIES:Activities
END:VEVENT
BEGIN:VEVENT
DTSTART;VALUE=DATE:20180617
DTEND;VALUE=DATE:20180618
DTSTAMP:20260422T180937
CREATED:20170901T002902Z
LAST-MODIFIED:20180417T144047Z
UID:5586-1529193600-1529279999@casliny.com
SUMMARY:Father's Day
DESCRIPTION:
URL:https://casliny.com/event/fathers-day/
LOCATION:NY
CATEGORIES:Holidays
ATTACH;FMTTYPE=image/jpeg:https://casliny.com/wp-content/uploads/2017/08/fathers.jpg
END:VEVENT
BEGIN:VEVENT
DTSTART;VALUE=DATE:20180615
DTEND;VALUE=DATE:20180616
DTSTAMP:20260422T180937
CREATED:20170901T003231Z
LAST-MODIFIED:20180417T144015Z
UID:5592-1529020800-1529107199@casliny.com
SUMMARY:Eid Al Fitr - Some Schools Closed
DESCRIPTION:
URL:https://casliny.com/event/eid-al-fitr-some-schools-closed/
LOCATION:NY
CATEGORIES:Holidays
ATTACH;FMTTYPE=image/jpeg:https://casliny.com/wp-content/uploads/2017/08/Eid.jpg
END:VEVENT
BEGIN:VEVENT
DTSTART;VALUE=DATE:20180615
DTEND;VALUE=DATE:20180616
DTSTAMP:20260422T180937
CREATED:20170901T002758Z
LAST-MODIFIED:20170901T002758Z
UID:5582-1529020800-1529107199@casliny.com
SUMMARY:NYSED Regents Rating Day
DESCRIPTION:
URL:https://casliny.com/event/nysed-regents-rating-day/
LOCATION:NY
CATEGORIES:Activities
END:VEVENT
BEGIN:VEVENT
DTSTART;VALUE=DATE:20180612
DTEND;VALUE=DATE:20180613
DTSTAMP:20260422T180937
CREATED:20170901T002730Z
LAST-MODIFIED:20180417T144559Z
UID:5580-1528761600-1528847999@casliny.com
SUMMARY:Regents Exams Begin
DESCRIPTION:
URL:https://casliny.com/event/regents-exams-begin/
LOCATION:NY
CATEGORIES:Activities
ATTACH;FMTTYPE=image/jpeg:https://casliny.com/wp-content/uploads/2017/08/NYS.jpg
END:VEVENT
BEGIN:VEVENT
DTSTART;VALUE=DATE:20180611
DTEND;VALUE=DATE:20180613
DTSTAMP:20260422T180937
CREATED:20170901T003133Z
LAST-MODIFIED:20180124T184613Z
UID:5590-1528675200-1528847999@casliny.com
SUMMARY:NYSED Regents Meeting
DESCRIPTION:
URL:https://casliny.com/event/nysed-regents-meeting-9/
LOCATION:NY
CATEGORIES:Featured on Home,Meetings
ATTACH;FMTTYPE=image/jpeg:https://casliny.com/wp-content/uploads/2018/01/NYS-ed1.jpg
END:VEVENT
BEGIN:VEVENT
DTSTART;VALUE=DATE:20180605
DTEND;VALUE=DATE:20180606
DTSTAMP:20260422T180937
CREATED:20170901T002623Z
LAST-MODIFIED:20180417T144143Z
UID:5578-1528156800-1528243199@casliny.com
SUMMARY:Global History Regents Examination
DESCRIPTION:
URL:https://casliny.com/event/global-history-regents-examination/
LOCATION:NY
CATEGORIES:Activities
ATTACH;FMTTYPE=image/jpeg:https://casliny.com/wp-content/uploads/2017/08/history.jpg
END:VEVENT
BEGIN:VEVENT
DTSTART;VALUE=DATE:20180604
DTEND;VALUE=DATE:20180605
DTSTAMP:20260422T180937
CREATED:20170901T002531Z
LAST-MODIFIED:20170901T002550Z
UID:5576-1528070400-1528156799@casliny.com
SUMMARY:Grade 4 & 8 - Science Tests
DESCRIPTION:
URL:https://casliny.com/event/grade-4-8-science-tests/
LOCATION:NY
CATEGORIES:Activities
END:VEVENT
BEGIN:VEVENT
DTSTART;VALUE=DATE:20180528
DTEND;VALUE=DATE:20180529
DTSTAMP:20260422T180937
CREATED:20170901T002226Z
LAST-MODIFIED:20180409T185746Z
UID:5572-1527465600-1527551999@casliny.com
SUMMARY:Memorial Day Holiday - Schools Closed
DESCRIPTION:
URL:https://casliny.com/event/memorial-day-holiday-schools-closed/
LOCATION:NY
CATEGORIES:Holidays
ATTACH;FMTTYPE=image/jpeg:https://casliny.com/wp-content/uploads/2017/08/memorial.jpg
END:VEVENT
BEGIN:VEVENT
DTSTART;VALUE=DATE:20180525
DTEND;VALUE=DATE:20180526
DTSTAMP:20260422T180937
CREATED:20170901T002156Z
LAST-MODIFIED:20180409T185709Z
UID:5570-1527206400-1527292799@casliny.com
SUMMARY:Snow Day Make-up
DESCRIPTION:
URL:https://casliny.com/event/snow-day-make-up/
LOCATION:NY
CATEGORIES:Activities
ATTACH;FMTTYPE=image/jpeg:https://casliny.com/wp-content/uploads/2017/08/snow.jpg
END:VEVENT
BEGIN:VEVENT
DTSTART;VALUE=DATE:20180513
DTEND;VALUE=DATE:20180514
DTSTAMP:20260422T180937
CREATED:20170901T001807Z
LAST-MODIFIED:20180409T185531Z
UID:5566-1526169600-1526255999@casliny.com
SUMMARY:Mother's Day
DESCRIPTION:
URL:https://casliny.com/event/mothers-day/
LOCATION:NY
CATEGORIES:Holidays
ATTACH;FMTTYPE=image/jpeg:https://casliny.com/wp-content/uploads/2017/08/mom.jpg
END:VEVENT
BEGIN:VEVENT
DTSTART;TZID=America/New_York:20180508T163000
DTEND;TZID=America/New_York:20180508T173000
DTSTAMP:20260422T180937
CREATED:20170824T023834Z
LAST-MODIFIED:20180131T170617Z
UID:5346-1525797000-1525800600@casliny.com
SUMMARY:CAS Delegate Assembly
DESCRIPTION:CAS MAY DELEGATE ASSEMBLY MEETING\nTUESDAY\, MAY 8\, 2018\n4:30 P.M. – Cocktails\n5:30 P.M. – Meeting/Dinner \nPlace:  Holiday Inn\, 215 Sunnyside Blvd.\, Plainview\, NY\nTake the LIE to exit 46N (Sunnyside Blvd)\nor Exit 38 off the Northern State Parkway.\nCost:  $50.00 per person\n\n\nAGENDA\n1.  Minutes\n          2.  Treasurer’s Report\n          3.  President’s Report\n          4.  Consider and act upon proposed 2018-2019 Budget\n          5.  Recognition of Scholarship Recipients\n          6.  Recognition of Retirees\n          7.  Recognition of 2018 ESSAA Administrator of the Year Award\n          8.  Other Committee Reports\n          9.  Old/New Business\n\n\n\nIf you have a member from your unit retiring this school year\, please fill out this form and email it back to us ASAP so we can invite the retiree and recognize them at our dinner. \nIf you\, and members of your unit will be attending\, please fill out this form and email it back to us no later than April 21\, 2018. \nThank you. \nLooking forward to see you then!
URL:https://casliny.com/event/cas-delegate-assembly-2/
LOCATION:Holiday Inn\, Plainview\, 215 Sunnyside Boulevard\, Plainview\, NY\, 11803\, United States
CATEGORIES:Featured on Home,Meetings
ATTACH;FMTTYPE=image/jpeg:https://casliny.com/wp-content/uploads/0-c/Board-for-delegate.jpg
ORGANIZER;CN="Demetria Marino%2C Office Manager":MAILTO:casinfo@caslongisland.com
END:VEVENT
BEGIN:VEVENT
DTSTART;VALUE=DATE:20180507
DTEND;VALUE=DATE:20180509
DTSTAMP:20260422T180937
CREATED:20170901T001426Z
LAST-MODIFIED:20180124T184712Z
UID:5563-1525651200-1525823999@casliny.com
SUMMARY:NYSED Regents Meeting
DESCRIPTION:
URL:https://casliny.com/event/nysed-regents-meeting-8/
LOCATION:NY
CATEGORIES:Featured on Home,Meetings
ATTACH;FMTTYPE=image/jpeg:https://casliny.com/wp-content/uploads/2018/01/NYS-Ed2.jpg
END:VEVENT
BEGIN:VEVENT
DTSTART;VALUE=DATE:20180507
DTEND;VALUE=DATE:20180509
DTSTAMP:20260422T180937
CREATED:20170901T001239Z
LAST-MODIFIED:20180409T185336Z
UID:5561-1525651200-1525823999@casliny.com
SUMMARY:Math 3-8 Computer-based Assessments
DESCRIPTION:
URL:https://casliny.com/event/math-3-8-computer-based-assessments-2/
LOCATION:NY
CATEGORIES:Activities
ATTACH;FMTTYPE=image/png:https://casliny.com/wp-content/uploads/2017/08/test2.png
END:VEVENT
BEGIN:VEVENT
DTSTART;VALUE=DATE:20180501
DTEND;VALUE=DATE:20180505
DTSTAMP:20260422T180937
CREATED:20170901T001137Z
LAST-MODIFIED:20180409T185255Z
UID:5559-1525132800-1525478399@casliny.com
SUMMARY:Math 3-8 Computer-based Assessments
DESCRIPTION:
URL:https://casliny.com/event/math-3-8-computer-based-assessments/
LOCATION:NY
CATEGORIES:Activities
ATTACH;FMTTYPE=image/png:https://casliny.com/wp-content/uploads/2017/08/test2-1.png
END:VEVENT
BEGIN:VEVENT
DTSTART;VALUE=DATE:20180501
DTEND;VALUE=DATE:20180504
DTSTAMP:20260422T180937
CREATED:20170901T000904Z
LAST-MODIFIED:20180409T185052Z
UID:5553-1525132800-1525391999@casliny.com
SUMMARY:Math 3-8 Paper-based Assessments
DESCRIPTION:
URL:https://casliny.com/event/math-3-8-paper-based-assessments/
LOCATION:NY
CATEGORIES:Activities
ATTACH;FMTTYPE=image/png:https://casliny.com/wp-content/uploads/2017/08/test2.png
END:VEVENT
BEGIN:VEVENT
DTSTART;TZID=America/New_York:20180419T163000
DTEND;TZID=America/New_York:20180419T183000
DTSTAMP:20260422T180937
CREATED:20170824T025707Z
LAST-MODIFIED:20230601T163452Z
UID:5365-1524155400-1524162600@casliny.com
SUMMARY:CTLE School Safety Workshop with Alan Groveman
DESCRIPTION:
URL:https://casliny.com/event/cas-ctle-workshop-leadership-and-technology/
LOCATION:Holiday Inn\, Plainview\, 215 Sunnyside Boulevard\, Plainview\, NY\, 11803\, United States
CATEGORIES:Featured on Home,Professional Development
ATTACH;FMTTYPE=image/jpeg:https://casliny.com/wp-content/uploads/2017/08/th-3.jpg
ORGANIZER;CN="Demetria Marino%2C Office Manager":MAILTO:casinfo@caslongisland.com
END:VEVENT
BEGIN:VEVENT
DTSTART;TZID=America/New_York:20180417T080000
DTEND;TZID=America/New_York:20180417T093000
DTSTAMP:20260422T180937
CREATED:20170824T025838Z
LAST-MODIFIED:20180323T190011Z
UID:5367-1523952000-1523957400@casliny.com
SUMMARY:CAS Unit Leadership Conference
DESCRIPTION:The Council of Administrators and Supervisors (CAS) is sponsoring educational sessions for all units and union leaders concerning the pending Supreme Court case Janus v. AFCME.  The sessions will be held at 8:00 am and 4:00 pm on Tuesday\, April 17th at the Four Points by Sheraton Melville\, 333 S. Service Road\, Plainview\, NY.  The presentations will focus on the history and potential impact of Janus on public sector unions as well as offer strategies on how to build a stronger\, more participatory and transformational unit in the post-Janus era. \nThe likely outcome of Janus v. AFCSME is that the entire nation becomes “right to work.” However\, the systematic and orchestrated attack on public sector employees will not end with the decision in Janus.  The corporate interests that are financially backing this Supreme Court case will move quickly to capitalize on the likely decision by initiating a campaign to encourage union withdrawal. This will then be followed by lobbying efforts in Albany to weaken public sector union’s protections such as Triborough and tenure for principals. With the end goal being similar to Act 10 of Wisconsin that eliminated collective bargaining for public sector employees. \nRest assured\, if we voluntarily give up our rights\, these actions will certainly be taken and we will experience the same fate as administrators and teachers in Wisconsin. Here is what happened to teachers in Wisconsin after they lost their unions. \nhttp://money.cnn.com/2017/11/17/news/economy/wisconsin-act-10-teachers/index.html \nCAS believes that in order for teacher and administrator units to remain strong members must be fully engaged and informed about the potential impact on salaries\, benefits\, job protections and working conditions. \nAs full-time administrators\, you already have a “full plate”\, and with the role and responsibilities of a unit president potentially changing dramatically as a result of Janus; CAS wants to assure each unit president that we will provide as much direct and personal assistance as possible to help you in your union leadership role. CAS truly thanks you for your willingness to serve as a union leader and we will support you in every way we possibly can. \nWe hope many of you and additional representatives from your unit can attend one of these important educational sessions. \nBelow my signature is a link to informational material that CAS has put together entitled “The Value of Union Membership.” We encourage each unit president to take a moment to look at the material and discuss with their association the value of remaining strong and united!! \nUnit presidents can register by either filling out the Google form or contacting the office below. \nAs always\, if you or your unit would like any further information or assistance\, please never hesitate to contact the office. I look forward to seeing you at one of the two sessions on April 17th.
URL:https://casliny.com/event/cas-spring-conference/
LOCATION:Four Points Sheraton – Melville\, 333 S. Service Road\, Plainview\, NY\, United States
CATEGORIES:Featured on Home,Meetings
ATTACH;FMTTYPE=image/jpeg:https://casliny.com/wp-content/uploads/2018/02/union.jpg
ORGANIZER;CN="Demetria Marino%2C Office Manager":MAILTO:casinfo@caslongisland.com
END:VEVENT
BEGIN:VEVENT
DTSTART;VALUE=DATE:20180416
DTEND;VALUE=DATE:20180418
DTSTAMP:20260422T180937
CREATED:20170831T205029Z
LAST-MODIFIED:20180409T184818Z
UID:5549-1523836800-1524009599@casliny.com
SUMMARY:ELA 3-8 Computer-based Assessments
DESCRIPTION:
URL:https://casliny.com/event/ela-3-8-computer-based-assessments-2/
LOCATION:NY
CATEGORIES:Activities
ATTACH;FMTTYPE=image/jpeg:https://casliny.com/wp-content/uploads/2017/08/test.jpg
END:VEVENT
BEGIN:VEVENT
DTSTART;VALUE=DATE:20180411
DTEND;VALUE=DATE:20180414
DTSTAMP:20260422T180937
CREATED:20170831T205130Z
LAST-MODIFIED:20180409T184751Z
UID:5551-1523404800-1523663999@casliny.com
SUMMARY:ELA 3-8 Paper-based Assessments
DESCRIPTION:
URL:https://casliny.com/event/ela-3-8-paper-based-assessments/
LOCATION:NY
CATEGORIES:Activities
ATTACH;FMTTYPE=image/jpeg:https://casliny.com/wp-content/uploads/2017/08/test.jpg
END:VEVENT
BEGIN:VEVENT
DTSTART;VALUE=DATE:20180410
DTEND;VALUE=DATE:20180414
DTSTAMP:20260422T180937
CREATED:20170831T204951Z
LAST-MODIFIED:20180409T184719Z
UID:5547-1523318400-1523663999@casliny.com
SUMMARY:ELA 3-8 Computer-based Assessments
DESCRIPTION:
URL:https://casliny.com/event/ela-3-8-computer-based-assessments/
LOCATION:NY
CATEGORIES:Activities
ATTACH;FMTTYPE=image/jpeg:https://casliny.com/wp-content/uploads/2017/08/test.jpg
END:VEVENT
BEGIN:VEVENT
DTSTART;VALUE=DATE:20180409
DTEND;VALUE=DATE:20180411
DTSTAMP:20260422T180937
CREATED:20170831T204737Z
LAST-MODIFIED:20180124T184512Z
UID:5545-1523232000-1523404799@casliny.com
SUMMARY:NYSED Regents Meeting
DESCRIPTION:
URL:https://casliny.com/event/nysed-regents-meeting-7/
LOCATION:NY
CATEGORIES:Featured on Home,Meetings
ATTACH;FMTTYPE=image/jpeg:https://casliny.com/wp-content/uploads/2018/01/NYS-Ed.jpg
END:VEVENT
BEGIN:VEVENT
DTSTART;VALUE=DATE:20180402
DTEND;VALUE=DATE:20180407
DTSTAMP:20260422T180937
CREATED:20170831T204649Z
LAST-MODIFIED:20180323T185500Z
UID:5543-1522627200-1523059199@casliny.com
SUMMARY:Spring Recess
DESCRIPTION:
URL:https://casliny.com/event/spring-recess-2/
LOCATION:NY
CATEGORIES:Holidays
ATTACH;FMTTYPE=image/jpeg:https://casliny.com/wp-content/uploads/2017/08/spring-2.jpg
END:VEVENT
BEGIN:VEVENT
DTSTART;VALUE=DATE:20180401
DTEND;VALUE=DATE:20180402
DTSTAMP:20260422T180937
CREATED:20170831T204604Z
LAST-MODIFIED:20180323T185430Z
UID:5541-1522540800-1522627199@casliny.com
SUMMARY:Easter Sunday
DESCRIPTION:
URL:https://casliny.com/event/easter-sunday/
LOCATION:NY
CATEGORIES:Holidays
ATTACH;FMTTYPE=image/jpeg:https://casliny.com/wp-content/uploads/2017/08/Easter.jpg
END:VEVENT
END:VCALENDAR