BEGIN:VCALENDAR
VERSION:2.0
PRODID:-//Council of Administrators &amp; Supervisors - ECPv6.15.20//NONSGML v1.0//EN
CALSCALE:GREGORIAN
METHOD:PUBLISH
X-WR-CALNAME:Council of Administrators &amp; Supervisors
X-ORIGINAL-URL:https://casliny.com
X-WR-CALDESC:Events for Council of Administrators &amp; Supervisors
REFRESH-INTERVAL;VALUE=DURATION:PT1H
X-Robots-Tag:noindex
X-PUBLISHED-TTL:PT1H
BEGIN:VTIMEZONE
TZID:America/New_York
BEGIN:DAYLIGHT
TZOFFSETFROM:-0500
TZOFFSETTO:-0400
TZNAME:EDT
DTSTART:20180311T070000
END:DAYLIGHT
BEGIN:STANDARD
TZOFFSETFROM:-0400
TZOFFSETTO:-0500
TZNAME:EST
DTSTART:20181104T060000
END:STANDARD
BEGIN:DAYLIGHT
TZOFFSETFROM:-0500
TZOFFSETTO:-0400
TZNAME:EDT
DTSTART:20190310T070000
END:DAYLIGHT
BEGIN:STANDARD
TZOFFSETFROM:-0400
TZOFFSETTO:-0500
TZNAME:EST
DTSTART:20191103T060000
END:STANDARD
BEGIN:DAYLIGHT
TZOFFSETFROM:-0500
TZOFFSETTO:-0400
TZNAME:EDT
DTSTART:20200308T070000
END:DAYLIGHT
BEGIN:STANDARD
TZOFFSETFROM:-0400
TZOFFSETTO:-0500
TZNAME:EST
DTSTART:20201101T060000
END:STANDARD
END:VTIMEZONE
BEGIN:VEVENT
DTSTART;TZID=America/New_York:20190924T163000
DTEND;TZID=America/New_York:20190924T183000
DTSTAMP:20260422T183710
CREATED:20190521T211536Z
LAST-MODIFIED:20190521T211536Z
UID:9854-1569342600-1569349800@casliny.com
SUMMARY:Executive Board Meeting
DESCRIPTION:This is the meeting for the CAS Executive Board.  It is to take place at the CAS Offices.
URL:https://casliny.com/event/executive-board-meeting-2/
CATEGORIES:Meetings
ATTACH;FMTTYPE=image/jpeg:https://casliny.com/wp-content/uploads/2018/05/DSC_6298a.jpg
END:VEVENT
BEGIN:VEVENT
DTSTART;TZID=America/New_York:20190918T163000
DTEND;TZID=America/New_York:20190918T183000
DTSTAMP:20260422T183710
CREATED:20190813T162610Z
LAST-MODIFIED:20190813T162610Z
UID:10520-1568824200-1568831400@casliny.com
SUMMARY:Reception for New and Returning CAS Presidents
DESCRIPTION:
URL:https://casliny.com/event/reception-for-new-and-returning-cas-presidents/
LOCATION:Piccolo Bussola Restaurant\, 325 Wheeler Road\, Hauppauge\, NY\, 11788\, United States
CATEGORIES:Meetings
ATTACH;FMTTYPE=image/png:https://casliny.com/wp-content/uploads/2017/06/cas-logo.png
END:VEVENT
BEGIN:VEVENT
DTSTART;TZID=America/New_York:20190916T151500
DTEND;TZID=America/New_York:20190916T170000
DTSTAMP:20260422T183710
CREATED:20180126T164230Z
LAST-MODIFIED:20190628T152536Z
UID:7212-1568646900-1568653200@casliny.com
SUMMARY:ESSAA Stakeholder Meeting with Commissioner Elia - Albany
DESCRIPTION:
URL:https://casliny.com/event/essaa-stakeholder-meeting-commissioner-elia-albany-3/
CATEGORIES:Featured on Home,Meetings
ATTACH;FMTTYPE=image/jpeg:https://casliny.com/wp-content/uploads/2017/08/image-1-1-1.jpg
END:VEVENT
BEGIN:VEVENT
DTSTART;TZID=America/New_York:20190913T103000
DTEND;TZID=America/New_York:20190913T143000
DTSTAMP:20260422T183710
CREATED:20190731T164015Z
LAST-MODIFIED:20190731T164015Z
UID:10464-1568370600-1568385000@casliny.com
SUMMARY:NYSED School Safety Task Force Meeting
DESCRIPTION:
URL:https://casliny.com/event/nysed-school-safety-task-force-meeting-2/
CATEGORIES:Meetings
ATTACH;FMTTYPE=image/png:https://casliny.com/wp-content/uploads/2019/04/nysed-logo.png
END:VEVENT
BEGIN:VEVENT
DTSTART;TZID=America/New_York:20190910T130000
DTEND;TZID=America/New_York:20190910T150000
DTSTAMP:20260422T183710
CREATED:20190129T180546Z
LAST-MODIFIED:20190129T180546Z
UID:9042-1568120400-1568127600@casliny.com
SUMMARY:NYS Board of Regents Meeting
DESCRIPTION:
URL:https://casliny.com/event/nys-board-of-regents-meeting-2-2-2-2-2-2-2-2-2-2-2-2-2/
CATEGORIES:Meetings
ATTACH;FMTTYPE=image/jpeg:https://casliny.com/wp-content/uploads/2017/08/NYS.jpg
END:VEVENT
BEGIN:VEVENT
DTSTART;TZID=America/New_York:20190909T130000
DTEND;TZID=America/New_York:20190909T150000
DTSTAMP:20260422T183710
CREATED:20190129T180517Z
LAST-MODIFIED:20190129T180517Z
UID:9040-1568034000-1568041200@casliny.com
SUMMARY:NYS Board of Regents Meeting
DESCRIPTION:
URL:https://casliny.com/event/nys-board-of-regents-meeting-2-2-2-2-2-2-2-2-2-2-2-2/
CATEGORIES:Meetings
ATTACH;FMTTYPE=image/jpeg:https://casliny.com/wp-content/uploads/2017/08/NYS.jpg
END:VEVENT
BEGIN:VEVENT
DTSTART;VALUE=DATE:20190904
DTEND;VALUE=DATE:20190905
DTSTAMP:20260422T183710
CREATED:20190723T155208Z
LAST-MODIFIED:20190723T155208Z
UID:10350-1567555200-1567641599@casliny.com
SUMMARY:First Day of School
DESCRIPTION:
URL:https://casliny.com/event/first-day-of-school/
CATEGORIES:Holidays
ATTACH;FMTTYPE=image/png:https://casliny.com/wp-content/uploads/2019/07/First.png
END:VEVENT
BEGIN:VEVENT
DTSTART;TZID=America/New_York:20190903T080000
DTEND;TZID=America/New_York:20190903T170000
DTSTAMP:20260422T183710
CREATED:20190723T155239Z
LAST-MODIFIED:20190723T155239Z
UID:10353-1567497600-1567530000@casliny.com
SUMMARY:Conference Day
DESCRIPTION:
URL:https://casliny.com/event/conference-day/
CATEGORIES:Meetings
ATTACH;FMTTYPE=image/jpeg:https://casliny.com/wp-content/uploads/2019/07/conference.jpg
END:VEVENT
BEGIN:VEVENT
DTSTART;VALUE=DATE:20190902
DTEND;VALUE=DATE:20190903
DTSTAMP:20260422T183710
CREATED:20190723T153544Z
LAST-MODIFIED:20190723T153544Z
UID:10338-1567382400-1567468799@casliny.com
SUMMARY:Labor Day
DESCRIPTION:
URL:https://casliny.com/event/labor-day/
CATEGORIES:Holidays
ATTACH;FMTTYPE=image/jpeg:https://casliny.com/wp-content/uploads/2019/07/Labor-Day.jpg
END:VEVENT
BEGIN:VEVENT
DTSTART;VALUE=DATE:20190828
DTEND;VALUE=DATE:20190830
DTSTAMP:20260422T183710
CREATED:20190723T155011Z
LAST-MODIFIED:20190723T155011Z
UID:10347-1566950400-1567123199@casliny.com
SUMMARY:Conference Days - Some Schools Closed
DESCRIPTION:
URL:https://casliny.com/event/conference-days-some-schools-closed/
CATEGORIES:Meetings
ATTACH;FMTTYPE=image/jpeg:https://casliny.com/wp-content/uploads/2019/07/conference.jpg
END:VEVENT
BEGIN:VEVENT
DTSTART;TZID=America/New_York:20190827T153000
DTEND;TZID=America/New_York:20190827T183000
DTSTAMP:20260422T183710
CREATED:20170824T022932Z
LAST-MODIFIED:20190521T210559Z
UID:5342-1566919800-1566930600@casliny.com
SUMMARY:Executive Board Meeting
DESCRIPTION:This is the meeting for the CAS Executive Board. It is to take place at the CAS Offices.
URL:https://casliny.com/event/executive-board-meeting-13/
LOCATION:CAS Office\, 1300 Veterans Highway\, Suite 330\, Hauppauge\, NY\, 11788\, United States
CATEGORIES:Featured on Home,Meetings
ATTACH;FMTTYPE=image/jpeg:https://casliny.com/wp-content/uploads/2018/05/DSC_6298a.jpg
END:VEVENT
BEGIN:VEVENT
DTSTART;TZID=America/New_York:20190809T103000
DTEND;TZID=America/New_York:20190809T143000
DTSTAMP:20260422T183710
CREATED:20190731T163919Z
LAST-MODIFIED:20190731T163919Z
UID:10462-1565346600-1565361000@casliny.com
SUMMARY:NYSED School Safety Task Force Meeting
DESCRIPTION:
URL:https://casliny.com/event/nysed-school-safety-task-force-meeting/
CATEGORIES:Meetings
ATTACH;FMTTYPE=image/png:https://casliny.com/wp-content/uploads/2019/04/nysed-logo.png
END:VEVENT
BEGIN:VEVENT
DTSTART;TZID=America/New_York:20190806T151500
DTEND;TZID=America/New_York:20190806T170000
DTSTAMP:20260422T183710
CREATED:20180126T164133Z
LAST-MODIFIED:20190628T152259Z
UID:7210-1565104500-1565110800@casliny.com
SUMMARY:ESSAA Stakeholder Meeting with Commissioner Elia - Albany
DESCRIPTION:
URL:https://casliny.com/event/essaa-stakeholder-meeting-commissioner-elia-albany-2/
CATEGORIES:Featured on Home,Meetings
ATTACH;FMTTYPE=image/jpeg:https://casliny.com/wp-content/uploads/2017/08/image-1-1-1.jpg
END:VEVENT
BEGIN:VEVENT
DTSTART;TZID=America/New_York:20190723T100000
DTEND;TZID=America/New_York:20190723T120000
DTSTAMP:20260422T183710
CREATED:20170824T022752Z
LAST-MODIFIED:20180802T161437Z
UID:5340-1563876000-1563883200@casliny.com
SUMMARY:Executive Board Meeting
DESCRIPTION:This is the meeting for the CAS Executive Board. It is to take place at the CAS Offices.
URL:https://casliny.com/event/executive-board-meeting-12/
LOCATION:Commack Diner\, 690 Commack Road\, Commack\, NY\, 11725\, United States
CATEGORIES:Featured on Home,Meetings
ATTACH;FMTTYPE=image/jpeg:https://casliny.com/wp-content/uploads/2018/05/DSC_6298a.jpg
END:VEVENT
BEGIN:VEVENT
DTSTART;TZID=America/New_York:20190716T130000
DTEND;TZID=America/New_York:20190716T150000
DTSTAMP:20260422T183710
CREATED:20190129T180454Z
LAST-MODIFIED:20190129T180454Z
UID:9038-1563282000-1563289200@casliny.com
SUMMARY:NYS Board of Regents Meeting
DESCRIPTION:
URL:https://casliny.com/event/nys-board-of-regents-meeting-2-2-2-2-2-2-2-2-2-2-2/
CATEGORIES:Meetings
ATTACH;FMTTYPE=image/jpeg:https://casliny.com/wp-content/uploads/2017/08/NYS.jpg
END:VEVENT
BEGIN:VEVENT
DTSTART;TZID=America/New_York:20190715T130000
DTEND;TZID=America/New_York:20190715T150000
DTSTAMP:20260422T183710
CREATED:20190129T180429Z
LAST-MODIFIED:20190129T180429Z
UID:9036-1563195600-1563202800@casliny.com
SUMMARY:NYS Board of Regents Meeting
DESCRIPTION:
URL:https://casliny.com/event/nys-board-of-regents-meeting-2-2-2-2-2-2-2-2-2-2/
CATEGORIES:Meetings
ATTACH;FMTTYPE=image/jpeg:https://casliny.com/wp-content/uploads/2017/08/NYS.jpg
END:VEVENT
BEGIN:VEVENT
DTSTART;VALUE=DATE:20190704
DTEND;VALUE=DATE:20190706
DTSTAMP:20260422T183710
CREATED:20190705T150842Z
LAST-MODIFIED:20190705T151045Z
UID:10234-1562198400-1562371199@casliny.com
SUMMARY:July 4th Holiday - Schools closed
DESCRIPTION:
URL:https://casliny.com/event/july-4th/
CATEGORIES:Holidays
ATTACH;FMTTYPE=image/jpeg:https://casliny.com/wp-content/uploads/2019/07/july-4.jpg
END:VEVENT
BEGIN:VEVENT
DTSTART;TZID=America/New_York:20190618T163000
DTEND;TZID=America/New_York:20190618T180000
DTSTAMP:20260422T183710
CREATED:20170824T022609Z
LAST-MODIFIED:20190501T125312Z
UID:5338-1560875400-1560880800@casliny.com
SUMMARY:CAS Executive Board Meeting
DESCRIPTION:This is the meeting for the CAS Executive Board. It is to take place at the CAS Offices.
URL:https://casliny.com/event/cas-executive-board-meeting-11/
LOCATION:CAS Office\, 1300 Veterans Highway\, Suite 330\, Hauppauge\, NY\, 11788\, United States
CATEGORIES:Featured on Home,Meetings
ATTACH;FMTTYPE=image/jpeg:https://casliny.com/wp-content/uploads/2018/05/DSC_6298a.jpg
END:VEVENT
BEGIN:VEVENT
DTSTART;TZID=America/New_York:20190604T130000
DTEND;TZID=America/New_York:20190604T150000
DTSTAMP:20260422T183710
CREATED:20190129T180343Z
LAST-MODIFIED:20190129T180343Z
UID:9034-1559653200-1559660400@casliny.com
SUMMARY:NYS Board of Regents Meeting
DESCRIPTION:
URL:https://casliny.com/event/nys-board-of-regents-meeting-2-2-2-2-2-2-2-2-2/
CATEGORIES:Meetings
ATTACH;FMTTYPE=image/jpeg:https://casliny.com/wp-content/uploads/2017/08/NYS.jpg
END:VEVENT
BEGIN:VEVENT
DTSTART;TZID=America/New_York:20190603T130000
DTEND;TZID=America/New_York:20190603T150000
DTSTAMP:20260422T183710
CREATED:20190129T180308Z
LAST-MODIFIED:20190129T180308Z
UID:9032-1559566800-1559574000@casliny.com
SUMMARY:NYS Board of Regents Meeting
DESCRIPTION:
URL:https://casliny.com/event/nys-board-of-regents-meeting-2-2-2-2-2-2-2-2/
CATEGORIES:Meetings
ATTACH;FMTTYPE=image/jpeg:https://casliny.com/wp-content/uploads/2017/08/NYS.jpg
END:VEVENT
BEGIN:VEVENT
DTSTART;TZID=America/New_York:20190521T163000
DTEND;TZID=America/New_York:20190521T180000
DTSTAMP:20260422T183710
CREATED:20170824T022429Z
LAST-MODIFIED:20180802T161251Z
UID:5336-1558456200-1558461600@casliny.com
SUMMARY:CAS Executive Board Meeting
DESCRIPTION:This is the meeting for the CAS Executive Board. It is to take place at the CAS Offices.
URL:https://casliny.com/event/cas-executive-board-meeting-10/
LOCATION:CAS Office\, 1300 Veterans Highway\, Suite 330\, Hauppauge\, NY\, 11788\, United States
CATEGORIES:Featured on Home,Meetings
ATTACH;FMTTYPE=image/jpeg:https://casliny.com/wp-content/uploads/2018/05/DSC_6298a.jpg
END:VEVENT
BEGIN:VEVENT
DTSTART;TZID=America/New_York:20190516T163000
DTEND;TZID=America/New_York:20190516T190000
DTSTAMP:20260422T183710
CREATED:20170711T160856Z
LAST-MODIFIED:20181010T145106Z
UID:4936-1558024200-1558033200@casliny.com
SUMMARY:Delegate Assembly
DESCRIPTION:CAS MAY DELEGATE ASSEMBLY MEETING\nTHURSDAY\, MAY 16\, 2019\n4:30 P.M. – Cocktails\n5:30 P.M. – Meeting/Dinner \nPlace:  Holiday Inn\, 215 Sunnyside Blvd.\, Plainview\, NY\nTake the LIE to exit 46N (Sunnyside Blvd)\nor Exit 38 off the Northern State Parkway.\nCost:  $50.00 per person\n\n  \nLooking forward to see you then!
URL:https://casliny.com/event/delegate-assembly/
LOCATION:Holiday Inn\, Plainview\, 215 Sunnyside Boulevard\, Plainview\, NY\, 11803\, United States
ATTACH;FMTTYPE=image/jpeg:https://casliny.com/wp-content/uploads/2018/05/DSC_6298a.jpg
ORGANIZER;CN="Demetria Marino%2C Office Manager":MAILTO:casinfo@caslongisland.com
END:VEVENT
BEGIN:VEVENT
DTSTART;TZID=America/New_York:20190507T130000
DTEND;TZID=America/New_York:20190507T150000
DTSTAMP:20260422T183710
CREATED:20190129T175814Z
LAST-MODIFIED:20190129T175814Z
UID:9030-1557234000-1557241200@casliny.com
SUMMARY:NYS Board of Regents Meeting
DESCRIPTION:
URL:https://casliny.com/event/nys-board-of-regents-meeting-2-2-2-2-2-2-2/
CATEGORIES:Meetings
ATTACH;FMTTYPE=image/jpeg:https://casliny.com/wp-content/uploads/2017/08/NYS.jpg
END:VEVENT
BEGIN:VEVENT
DTSTART;TZID=America/New_York:20190507T083000
DTEND;TZID=America/New_York:20190507T123000
DTSTAMP:20260422T183710
CREATED:20181010T150006Z
LAST-MODIFIED:20230601T190956Z
UID:8464-1557217800-1557232200@casliny.com
SUMMARY:CTLE Morning Meeting with Dr. Todd Whitaker - May 7\, 2019
DESCRIPTION:
URL:https://casliny.com/event/ctle-meeting-with-dr-todd-whitaker-may-7-2019/
LOCATION:Hofstra University\, 100 Hofstra University\, Hempstead\, NY\, 11549\, United States
CATEGORIES:Meetings,Professional Development
ATTACH;FMTTYPE=image/jpeg:https://casliny.com/wp-content/uploads/t-z/Whitaker-e1554395644733.jpg
ORGANIZER;CN="Demetria Marino%2C Office Manager":MAILTO:casinfo@caslongisland.com
END:VEVENT
BEGIN:VEVENT
DTSTART;TZID=America/New_York:20190506T130000
DTEND;TZID=America/New_York:20190506T150000
DTSTAMP:20260422T183710
CREATED:20190129T175754Z
LAST-MODIFIED:20190129T175754Z
UID:9028-1557147600-1557154800@casliny.com
SUMMARY:NYS Board of Regents Meeting
DESCRIPTION:
URL:https://casliny.com/event/nys-board-of-regents-meeting-2-2-2-2-2-2/
CATEGORIES:Meetings
ATTACH;FMTTYPE=image/jpeg:https://casliny.com/wp-content/uploads/2017/08/NYS.jpg
END:VEVENT
BEGIN:VEVENT
DTSTART;TZID=America/New_York:20190430T163000
DTEND;TZID=America/New_York:20190430T180000
DTSTAMP:20260422T183710
CREATED:20170824T022158Z
LAST-MODIFIED:20180802T155751Z
UID:5334-1556641800-1556647200@casliny.com
SUMMARY:CAS Executive Board Meeting
DESCRIPTION:This is the meeting for the CAS Executive Board. It is to take place at the CAS Offices.
URL:https://casliny.com/event/cas-executive-board-meeting-9/
LOCATION:CAS Office\, 1300 Veterans Highway\, Suite 330\, Hauppauge\, NY\, 11788\, United States
CATEGORIES:Featured on Home,Meetings
ATTACH;FMTTYPE=image/jpeg:https://casliny.com/wp-content/uploads/2018/05/DSC_6298a.jpg
END:VEVENT
BEGIN:VEVENT
DTSTART;VALUE=DATE:20190418
DTEND;VALUE=DATE:20190427
DTSTAMP:20260422T183710
CREATED:20190320T203159Z
LAST-MODIFIED:20190320T203159Z
UID:9401-1555545600-1556323199@casliny.com
SUMMARY:Spring Recess - Schools Closed
DESCRIPTION:
URL:https://casliny.com/event/spring-recess-schools-closed/
CATEGORIES:Holidays
END:VEVENT
BEGIN:VEVENT
DTSTART;TZID=America/New_York:20190409T163000
DTEND;TZID=America/New_York:20190409T183000
DTSTAMP:20260422T183710
CREATED:20181031T133935Z
LAST-MODIFIED:20230601T190931Z
UID:8546-1554827400-1554834600@casliny.com
SUMMARY:CTLE Meeting with Andy Greene - April 9\, 2019
DESCRIPTION: \n  \n  \nPRACTICAL STRATEGIES FOR TODAY’S LEADERS \nTuesday\, April 9\, 2019\n4:30 P.M. \nWhere:  Holiday Inn\, Plainview\n215 Sunnyside Blvd.\, Plainview\, NY \nBeing a school leader today is no easy feat. With the multitude of tasks and responsibilities that you have to juggle\, it’s difficult to manage it all while attending to the heart of the organization – the school’s culture. This workshop will focus on leadership strategies\, ideas and protocols aimed at enhancing the culture of the organization. The concepts reviewed will center on the importance of leadership as well as management. \n\nAndy Greene is the past president of LIASCD and an adjunct professor at Stony Brook University. Andy has worked closely with the foremost experts in the field of education\, Grant Wiggins and Jay McTighe\, and he has helped to incorporate many of their learning principles in his home school\, as well as instructing a whole host of administrators and teachers locally and nationally on operationalizing Understanding by Design. His work in Candlewood Middle School is featured in Grant and Jay’s book entitled Schooling by Design. \nMr. Greene also consults with districts on best teaching\, learning and assessment practices and was honored as the Regional Administrator of the Year in 2014. \nMr. Greene has presented at numerous local and national conferences and has mentored several aspiring administrators as they get ready to enter the field of school administration. \n\n\n\nThis workshop is at no cost for all administrators. \nIf you would like to attend\, please fill out this Google Form. \n\n 
URL:https://casliny.com/event/ctle-meeting-with-dr-todd-whitaker-may-7-2019-2/
LOCATION:Holiday Inn\, Plainview\, 215 Sunnyside Boulevard\, Plainview\, NY\, 11803\, United States
CATEGORIES:Meetings,Professional Development
ATTACH;FMTTYPE=image/png:https://casliny.com/wp-content/uploads/2018/10/Andy.png
ORGANIZER;CN="Demetria Marino%2C Office Manager":MAILTO:casinfo@caslongisland.com
END:VEVENT
BEGIN:VEVENT
DTSTART;TZID=America/New_York:20190409T130000
DTEND;TZID=America/New_York:20190409T150000
DTSTAMP:20260422T183710
CREATED:20190129T175713Z
LAST-MODIFIED:20190129T175713Z
UID:9026-1554814800-1554822000@casliny.com
SUMMARY:NYS Board of Regents Meeting
DESCRIPTION:
URL:https://casliny.com/event/nys-board-of-regents-meeting-2-2-2-2-2/
CATEGORIES:Meetings
ATTACH;FMTTYPE=image/jpeg:https://casliny.com/wp-content/uploads/2017/08/NYS.jpg
END:VEVENT
BEGIN:VEVENT
DTSTART;TZID=America/New_York:20190408T130000
DTEND;TZID=America/New_York:20190408T150000
DTSTAMP:20260422T183710
CREATED:20190129T175652Z
LAST-MODIFIED:20190129T175652Z
UID:9024-1554728400-1554735600@casliny.com
SUMMARY:NYS Board of Regents Meeting
DESCRIPTION:
URL:https://casliny.com/event/nys-board-of-regents-meeting-2-2-2-2/
CATEGORIES:Meetings
ATTACH;FMTTYPE=image/jpeg:https://casliny.com/wp-content/uploads/2017/08/NYS.jpg
END:VEVENT
END:VCALENDAR