BEGIN:VCALENDAR
VERSION:2.0
PRODID:-//Council of Administrators &amp; Supervisors - ECPv6.15.20//NONSGML v1.0//EN
CALSCALE:GREGORIAN
METHOD:PUBLISH
X-WR-CALNAME:Council of Administrators &amp; Supervisors
X-ORIGINAL-URL:https://casliny.com
X-WR-CALDESC:Events for Council of Administrators &amp; Supervisors
REFRESH-INTERVAL;VALUE=DURATION:PT1H
X-Robots-Tag:noindex
X-PUBLISHED-TTL:PT1H
BEGIN:VTIMEZONE
TZID:America/New_York
BEGIN:DAYLIGHT
TZOFFSETFROM:-0500
TZOFFSETTO:-0400
TZNAME:EDT
DTSTART:20160313T070000
END:DAYLIGHT
BEGIN:STANDARD
TZOFFSETFROM:-0400
TZOFFSETTO:-0500
TZNAME:EST
DTSTART:20161106T060000
END:STANDARD
BEGIN:DAYLIGHT
TZOFFSETFROM:-0500
TZOFFSETTO:-0400
TZNAME:EDT
DTSTART:20170312T070000
END:DAYLIGHT
BEGIN:STANDARD
TZOFFSETFROM:-0400
TZOFFSETTO:-0500
TZNAME:EST
DTSTART:20171105T060000
END:STANDARD
BEGIN:DAYLIGHT
TZOFFSETFROM:-0500
TZOFFSETTO:-0400
TZNAME:EDT
DTSTART:20180311T070000
END:DAYLIGHT
BEGIN:STANDARD
TZOFFSETFROM:-0400
TZOFFSETTO:-0500
TZNAME:EST
DTSTART:20181104T060000
END:STANDARD
BEGIN:DAYLIGHT
TZOFFSETFROM:-0500
TZOFFSETTO:-0400
TZNAME:EDT
DTSTART:20190310T070000
END:DAYLIGHT
BEGIN:STANDARD
TZOFFSETFROM:-0400
TZOFFSETTO:-0500
TZNAME:EST
DTSTART:20191103T060000
END:STANDARD
END:VTIMEZONE
BEGIN:VEVENT
DTSTART;TZID=America/New_York:20180131T080000
DTEND;TZID=America/New_York:20180131T170000
DTSTAMP:20260422T185253
CREATED:20171130T153120Z
LAST-MODIFIED:20180102T193837Z
UID:6790-1517385600-1517418000@casliny.com
SUMMARY:Phase 2 Principal Preparation Project Advisory Team - Meeting #2
DESCRIPTION:
URL:https://casliny.com/event/phase-2-principal-preparation-project-advisory-team/
LOCATION:New York State School Boards Association\, 24 Century Hill Drive\, Suite 200\, Latham\, NY\, 12110-2125\, United States
CATEGORIES:Meetings
ATTACH;FMTTYPE=image/jpeg:https://casliny.com/wp-content/uploads/2017/11/school.jpeg
ORGANIZER;CN="Demetria Marino%2C Office Manager":MAILTO:casinfo@caslongisland.com
END:VEVENT
BEGIN:VEVENT
DTSTART;TZID=America/New_York:20180125T163000
DTEND;TZID=America/New_York:20180125T203000
DTSTAMP:20260422T185253
CREATED:20180124T194734Z
LAST-MODIFIED:20180124T194734Z
UID:7205-1516897800-1516912200@casliny.com
SUMMARY:ESSAA Executive Board Meeting
DESCRIPTION:
URL:https://casliny.com/event/essaa-executive-board-meeting-3/
LOCATION:Tarrytown\, NY\, United States
CATEGORIES:Featured on Home,Meetings
ATTACH;FMTTYPE=image/png:https://casliny.com/wp-content/uploads/2017/11/unnamed-1.png
END:VEVENT
BEGIN:VEVENT
DTSTART;TZID=America/New_York:20180117T103000
DTEND;TZID=America/New_York:20180117T163000
DTSTAMP:20260422T185253
CREATED:20171130T153537Z
LAST-MODIFIED:20180102T193636Z
UID:6795-1516185000-1516206600@casliny.com
SUMMARY:Phase 2 Principal Preparation Project Advisory Team - Meeting #1
DESCRIPTION:
URL:https://casliny.com/event/phase-2-principal-preparation-project-advisory-team-meeting-1-2/
LOCATION:New York State School Boards Association\, 24 Century Hill Drive\, Suite 200\, Latham\, NY\, 12110-2125\, United States
CATEGORIES:Meetings
ATTACH;FMTTYPE=image/jpeg:https://casliny.com/wp-content/uploads/2017/11/school.jpeg
ORGANIZER;CN="Demetria Marino%2C Office Manager":MAILTO:casinfo@caslongisland.com
END:VEVENT
BEGIN:VEVENT
DTSTART;VALUE=DATE:20180115
DTEND;VALUE=DATE:20180116
DTSTAMP:20260422T185253
CREATED:20170831T200902Z
LAST-MODIFIED:20171109T185603Z
UID:5513-1515974400-1516060799@casliny.com
SUMMARY:Martin Luther King Jr. Day – Schools Closed
DESCRIPTION:
URL:https://casliny.com/event/martin-luther-king-jr-day-schools-closed/
CATEGORIES:Holidays
END:VEVENT
BEGIN:VEVENT
DTSTART;TZID=America/New_York:20180109T163000
DTEND;TZID=America/New_York:20180109T190000
DTSTAMP:20260422T185253
CREATED:20170928T152632Z
LAST-MODIFIED:20230601T163416Z
UID:6147-1515515400-1515524400@casliny.com
SUMMARY:CTLE Teacher Observation Workshop with Andy Greene
DESCRIPTION:TEACHER OBSERVATIONS:  PROCESS\, PROTOCOLS AND PROCEDURES \nTuesday\, January 9\, 2018\n 4:30 P.M. \nWhere:  Holiday Inn\n 215 Sunnyside Blvd\, Plainview\, NY\n (Exit 46N off the L.I. Expressway or Exit 38 off the Northern State Parkway) \nThis CAS workshop will focus on the techniques and strategies that administrators can use to help teachers extend and refine their teaching and assessment practices as part of the observation and supervision process. The Framework for Teaching rubric by Charlotte Danielson will be the primary rubric used in the workshop\, but reference will be made to other approved NYS rubrics as well. Participants will come away with specific strategies for the pre and post conference discussions as well as the process for writing up the observation for the improvement of practice. \n  \nAndy Greene is the recently retired Principal of Candlewood Middle School in the Half Hollow Hills School District in Dix Hills\, NY. He is past president of The Long Island Chapter of the Association for Supervision and Curriculum Development (LIASCD) and is the current president of the Suffolk County Middle Level Principal Association. In addition\, he acts as a middle level liaison with the NY State Education Department\, and is an adjunct professor at Stony Brook University. Andy’s work at Candlewood Middle School was featured in Grant Wiggins and Jay McTighe’s book titled “Schooling by Design”. \nThis workshop is at no cost for all administrators. \nIf you would like to attend\, please fill out this Google form.
URL:https://casliny.com/event/ctle-teacher-observation-workshop-andy-greene/
LOCATION:Holiday Inn\, Plainview\, 215 Sunnyside Boulevard\, Plainview\, NY\, 11803\, United States
CATEGORIES:Featured on Home,Professional Development
ATTACH;FMTTYPE=image/jpeg:https://casliny.com/wp-content/uploads/0-c/Andy.jpg
ORGANIZER;CN="Demetria Marino%2C Office Manager":MAILTO:casinfo@caslongisland.com
END:VEVENT
BEGIN:VEVENT
DTSTART;VALUE=DATE:20180102
DTEND;VALUE=DATE:20180103
DTSTAMP:20260422T185253
CREATED:20170831T200632Z
LAST-MODIFIED:20170901T004228Z
UID:5510-1514851200-1514937599@casliny.com
SUMMARY:Schools Reopen
DESCRIPTION:
URL:https://casliny.com/event/schools-reopen/
CATEGORIES:Holidays
END:VEVENT
BEGIN:VEVENT
DTSTART;VALUE=DATE:20180101
DTEND;VALUE=DATE:20180102
DTSTAMP:20260422T185253
CREATED:20170831T200559Z
LAST-MODIFIED:20171109T185346Z
UID:5508-1514764800-1514851199@casliny.com
SUMMARY:New Year's Day – Schools Closed
DESCRIPTION:
URL:https://casliny.com/event/new-years-day-schools-closed/
CATEGORIES:Holidays
END:VEVENT
BEGIN:VEVENT
DTSTART;VALUE=DATE:20171231
DTEND;VALUE=DATE:20180101
DTSTAMP:20260422T185253
CREATED:20170831T200431Z
LAST-MODIFIED:20171109T185245Z
UID:5506-1514678400-1514764799@casliny.com
SUMMARY:New Year's Eve
DESCRIPTION:
URL:https://casliny.com/event/new-years-eve/
CATEGORIES:Holidays
END:VEVENT
BEGIN:VEVENT
DTSTART;VALUE=DATE:20171226
DTEND;VALUE=DATE:20171230
DTSTAMP:20260422T185253
CREATED:20170831T200145Z
LAST-MODIFIED:20171109T184809Z
UID:5504-1514246400-1514591999@casliny.com
SUMMARY:Holiday Recess - Schools Closed
DESCRIPTION:
URL:https://casliny.com/event/holiday-recess-schools-closed/
CATEGORIES:Holidays
END:VEVENT
BEGIN:VEVENT
DTSTART;VALUE=DATE:20171225
DTEND;VALUE=DATE:20171226
DTSTAMP:20260422T185253
CREATED:20170831T200107Z
LAST-MODIFIED:20171109T184712Z
UID:5502-1514160000-1514246399@casliny.com
SUMMARY:Christmas Day – Holiday Recess - Schools Closed
DESCRIPTION:
URL:https://casliny.com/event/christmas-day-holiday-recess-schools-closed/
CATEGORIES:Holidays
END:VEVENT
BEGIN:VEVENT
DTSTART;VALUE=DATE:20171224
DTEND;VALUE=DATE:20171225
DTSTAMP:20260422T185253
CREATED:20170831T195631Z
LAST-MODIFIED:20171109T184418Z
UID:5500-1514073600-1514159999@casliny.com
SUMMARY:Christmas Eve
DESCRIPTION:
URL:https://casliny.com/event/christmas-eve/
CATEGORIES:Holidays
END:VEVENT
BEGIN:VEVENT
DTSTART;VALUE=DATE:20171211
DTEND;VALUE=DATE:20171213
DTSTAMP:20260422T185253
CREATED:20170831T194642Z
LAST-MODIFIED:20171109T185850Z
UID:5497-1512950400-1513123199@casliny.com
SUMMARY:NYSED Regents Meeting
DESCRIPTION:
URL:https://casliny.com/event/nysed-regents-meeting-4/
CATEGORIES:Featured on Home,Meetings
ATTACH;FMTTYPE=image/jpeg:https://casliny.com/wp-content/uploads/2017/08/NYS-Ed.jpg
END:VEVENT
BEGIN:VEVENT
DTSTART;VALUE=DATE:20171207
DTEND;VALUE=DATE:20171208
DTSTAMP:20260422T185253
CREATED:20170831T194555Z
LAST-MODIFIED:20170831T194555Z
UID:5494-1512604800-1512691199@casliny.com
SUMMARY:ESSAA Stakeholder Meeting with Commissioner Elia - Albany
DESCRIPTION:
URL:https://casliny.com/event/essaa-stakeholder-meeting-with-commissioner-elia-albany-4/
CATEGORIES:Featured on Home,Meetings
ATTACH;FMTTYPE=image/jpeg:https://casliny.com/wp-content/uploads/2017/08/image-1-1-1.jpg
END:VEVENT
BEGIN:VEVENT
DTSTART;TZID=America/New_York:20171130T073000
DTEND;TZID=America/New_York:20171130T160000
DTSTAMP:20260422T185253
CREATED:20171017T144258Z
LAST-MODIFIED:20171017T144258Z
UID:6294-1512027000-1512057600@casliny.com
SUMMARY:NYS Next Generation Learning Standards Conference - November 30
DESCRIPTION:The New York State Education Department is pleased to present a conference titled “NYS Next Generation Learning Standards for English Language Arts and Mathematics: Supporting All Students”\, to be held on November 30\, 2017 at the City Center\, Saratoga Springs\, NY from 7:30 am-4:00 pm.  This event will provide New York State (NYS) administrators and teachers with a one-day professional learning opportunity to strengthen theoretical and practical knowledge to implement high quality\, academically rigorous standards for all NYS students.  This learning initiative is part of a system-wide approach to promote equal access to advanced literacy for all NYS learners while capitalizing on linguistic and cultural diversity.   Participants will be provided with guidance and resources that deepen their knowledge and understanding of the NYS Next Generation English Language Arts and Mathematics Learning Standards\, support in their instructional practice\, and additional guidance on achieving a vision of 21st century literacy for all learners. \n  \nThe conference will consist of a Keynote speaker\, Dr. Nonie Lesaux of Harvard University\, followed by skill-building workshops intended to target content area instruction across all grade levels\, meeting the needs of NYS’s diverse subpopulations\, and fostering advanced literacy and academic skills among English Language Learners/Multilingual Learners and Students with Disabilities. \n  \nThis professional learning opportunity is offered to NYS educators and administrators and can be used to fulfill CTLE. There is no cost for registration. \n  \nTo register for this exciting event\, please visit: https://www.eventbrite.com/e/nys-next-generation-learning-standards-supporting-all-students-tickets-38772263885 \n  \nThank you. \n  \nClick to download the following files:\n» NYS Next Generation Learning Standards
URL:https://casliny.com/event/nys-next-generation-learning-standards-conference-november-30/
LOCATION:Saratoga City Center\, 522 Broadway\, Saratoga Springs\, New York\, 12866
CATEGORIES:Meetings
ATTACH;FMTTYPE=image/jpeg:https://casliny.com/wp-content/uploads/2017/10/city-center-building.jpg
END:VEVENT
BEGIN:VEVENT
DTSTART;VALUE=DATE:20171123
DTEND;VALUE=DATE:20171124
DTSTAMP:20260422T185253
CREATED:20170831T194329Z
LAST-MODIFIED:20171101T145752Z
UID:5490-1511395200-1511481599@casliny.com
SUMMARY:Thanksgiving Day – Schools Closed
DESCRIPTION:
URL:https://casliny.com/event/thanksgiving-day-schools-closed/
CATEGORIES:Holidays
ATTACH;FMTTYPE=image/jpeg:https://casliny.com/wp-content/uploads/2017/08/images.jpg
END:VEVENT
BEGIN:VEVENT
DTSTART;VALUE=DATE:20171122
DTEND;VALUE=DATE:20171123
DTSTAMP:20260422T185253
CREATED:20170831T194248Z
LAST-MODIFIED:20170901T004107Z
UID:5488-1511308800-1511395199@casliny.com
SUMMARY:Some Schools Recess or Conference Day
DESCRIPTION:
URL:https://casliny.com/event/some-schools-recess-or-conference-day/
CATEGORIES:Holidays
END:VEVENT
BEGIN:VEVENT
DTSTART;VALUE=DATE:20171117
DTEND;VALUE=DATE:20171118
DTSTAMP:20260422T185253
CREATED:20170831T193653Z
LAST-MODIFIED:20170831T193653Z
UID:5483-1510876800-1510963199@casliny.com
SUMMARY:ESSAA Stakeholder Meeting with Commissioner Elia - Albany
DESCRIPTION:
URL:https://casliny.com/event/essaa-stakeholder-meeting-with-commissioner-elia-albany-3/
CATEGORIES:Featured on Home,Meetings
ATTACH;FMTTYPE=image/jpeg:https://casliny.com/wp-content/uploads/2017/08/image-1-1.jpg
END:VEVENT
BEGIN:VEVENT
DTSTART;VALUE=DATE:20171113
DTEND;VALUE=DATE:20171115
DTSTAMP:20260422T185253
CREATED:20170831T193410Z
LAST-MODIFIED:20170906T194347Z
UID:5480-1510531200-1510703999@casliny.com
SUMMARY:NYSED Regents Meeting
DESCRIPTION:
URL:https://casliny.com/event/nysed-regents-meeting-3/
CATEGORIES:Featured on Home,Meetings
ATTACH;FMTTYPE=image/png:https://casliny.com/wp-content/uploads/2017/08/nysed-logo.png
END:VEVENT
BEGIN:VEVENT
DTSTART;VALUE=DATE:20171110
DTEND;VALUE=DATE:20171111
DTSTAMP:20260422T185253
CREATED:20170831T193111Z
LAST-MODIFIED:20171017T152138Z
UID:5476-1510272000-1510358399@casliny.com
SUMMARY:Veterans Day Observed - Schools Closed
DESCRIPTION:
URL:https://casliny.com/event/veterans-day-observed-schools-closed/
CATEGORIES:Holidays
ATTACH;FMTTYPE=image/jpeg:https://casliny.com/wp-content/uploads/2017/08/th-1-1.jpg
END:VEVENT
BEGIN:VEVENT
DTSTART;VALUE=DATE:20171107
DTEND;VALUE=DATE:20171108
DTSTAMP:20260422T185253
CREATED:20170831T193034Z
LAST-MODIFIED:20171017T152743Z
UID:5474-1510012800-1510099199@casliny.com
SUMMARY:Election Day - Schools Closed or Conferences
DESCRIPTION:
URL:https://casliny.com/event/election-day-schools-closed-or-conferences/
CATEGORIES:Holidays
ATTACH;FMTTYPE=image/jpeg:https://casliny.com/wp-content/uploads/2017/08/th-3-1.jpg
END:VEVENT
BEGIN:VEVENT
DTSTART;VALUE=DATE:20171105
DTEND;VALUE=DATE:20171106
DTSTAMP:20260422T185253
CREATED:20170831T192840Z
LAST-MODIFIED:20171017T152531Z
UID:5472-1509840000-1509926399@casliny.com
SUMMARY:Daylight Saving Time Ends
DESCRIPTION:
URL:https://casliny.com/event/daylight-saving-time-ends/
CATEGORIES:Holidays
ATTACH;FMTTYPE=image/jpeg:https://casliny.com/wp-content/uploads/2017/08/th-2-1.jpg
END:VEVENT
BEGIN:VEVENT
DTSTART;TZID=America/New_York:20171101T163000
DTEND;TZID=America/New_York:20171101T183000
DTSTAMP:20260422T185253
CREATED:20170824T025152Z
LAST-MODIFIED:20230612T151314Z
UID:5357-1509553800-1509561000@casliny.com
SUMMARY:CTLE Social Media Workshop with Ed Kemnitzer
DESCRIPTION:Social Media with Ed Kemnitzer
URL:https://casliny.com/event/ctle-workshop/
LOCATION:Radisson Hotel\, Hauppauge\, NY\, 110 Vanderbilt Motor Parkway\, Hauppauge\, NY\, 11788\, United States
CATEGORIES:Featured on Home,Professional Development
ATTACH;FMTTYPE=image/jpeg:https://casliny.com/wp-content/uploads/2017/08/th-2.jpg
ORGANIZER;CN="Demetria Marino%2C Office Manager":MAILTO:casinfo@caslongisland.com
END:VEVENT
BEGIN:VEVENT
DTSTART;VALUE=DATE:20171030
DTEND;VALUE=DATE:20171031
DTSTAMP:20260422T185253
CREATED:20170831T192516Z
LAST-MODIFIED:20170831T193758Z
UID:5468-1509321600-1509407999@casliny.com
SUMMARY:ESSAA Stakeholder Meeting with Commissioner Elia - Albany
DESCRIPTION:
URL:https://casliny.com/event/essaa-stakeholder-meeting-with-commissioner-elia-albany-2/
CATEGORIES:Featured on Home,Meetings
ATTACH;FMTTYPE=image/jpeg:https://casliny.com/wp-content/uploads/2017/08/image-1.jpg
END:VEVENT
BEGIN:VEVENT
DTSTART;VALUE=DATE:20171019
DTEND;VALUE=DATE:20171020
DTSTAMP:20260422T185253
CREATED:20170831T191741Z
LAST-MODIFIED:20171017T152321Z
UID:5464-1508371200-1508457599@casliny.com
SUMMARY:2017 Diwali - Some Schools Closed
DESCRIPTION:
URL:https://casliny.com/event/2017-diwali-some-schools-closed/
CATEGORIES:Holidays
ATTACH;FMTTYPE=image/jpeg:https://casliny.com/wp-content/uploads/2017/08/download-1.jpg
END:VEVENT
BEGIN:VEVENT
DTSTART;VALUE=DATE:20171017
DTEND;VALUE=DATE:20171020
DTSTAMP:20260422T185253
CREATED:20170831T191448Z
LAST-MODIFIED:20170906T171752Z
UID:5461-1508198400-1508457599@casliny.com
SUMMARY:2017 Newsday Marching Band Festival - Mitchell Field Athletic Complex
DESCRIPTION:
URL:https://casliny.com/event/2017-newsday-marching-band-festival-mitchell-field-athletic-complex/
CATEGORIES:Activities,Featured on Home
ATTACH;FMTTYPE=image/jpeg:https://casliny.com/wp-content/uploads/2017/08/IMG_0006.jpg
END:VEVENT
BEGIN:VEVENT
DTSTART;VALUE=DATE:20171016
DTEND;VALUE=DATE:20171018
DTSTAMP:20260422T185253
CREATED:20170831T190835Z
LAST-MODIFIED:20170906T193359Z
UID:5459-1508112000-1508284799@casliny.com
SUMMARY:NYSED Regents Meeting
DESCRIPTION:
URL:https://casliny.com/event/nysed-regents-meeting-2/
CATEGORIES:Featured on Home,Meetings
ATTACH;FMTTYPE=image/png:https://casliny.com/wp-content/uploads/2017/08/nysed-logo.png
END:VEVENT
END:VCALENDAR