BEGIN:VCALENDAR
VERSION:2.0
PRODID:-//Council of Administrators &amp; Supervisors - ECPv6.15.20//NONSGML v1.0//EN
CALSCALE:GREGORIAN
METHOD:PUBLISH
X-ORIGINAL-URL:https://casliny.com
X-WR-CALDESC:Events for Council of Administrators &amp; Supervisors
REFRESH-INTERVAL;VALUE=DURATION:PT1H
X-Robots-Tag:noindex
X-PUBLISHED-TTL:PT1H
BEGIN:VTIMEZONE
TZID:America/New_York
BEGIN:DAYLIGHT
TZOFFSETFROM:-0500
TZOFFSETTO:-0400
TZNAME:EDT
DTSTART:20200308T070000
END:DAYLIGHT
BEGIN:STANDARD
TZOFFSETFROM:-0400
TZOFFSETTO:-0500
TZNAME:EST
DTSTART:20201101T060000
END:STANDARD
BEGIN:DAYLIGHT
TZOFFSETFROM:-0500
TZOFFSETTO:-0400
TZNAME:EDT
DTSTART:20210314T070000
END:DAYLIGHT
BEGIN:STANDARD
TZOFFSETFROM:-0400
TZOFFSETTO:-0500
TZNAME:EST
DTSTART:20211107T060000
END:STANDARD
BEGIN:DAYLIGHT
TZOFFSETFROM:-0500
TZOFFSETTO:-0400
TZNAME:EDT
DTSTART:20220313T070000
END:DAYLIGHT
BEGIN:STANDARD
TZOFFSETFROM:-0400
TZOFFSETTO:-0500
TZNAME:EST
DTSTART:20221106T060000
END:STANDARD
END:VTIMEZONE
BEGIN:VEVENT
DTSTART;VALUE=DATE:20210111
DTEND;VALUE=DATE:20210113
DTSTAMP:20260424T160750
CREATED:20200506T142802Z
LAST-MODIFIED:20200506T142802Z
UID:12417-1610323200-1610495999@casliny.com
SUMMARY:Regents Meeting Date
DESCRIPTION:
URL:https://casliny.com/event/regents-meeting-date/
CATEGORIES:Meetings
ATTACH;FMTTYPE=image/png:https://casliny.com/wp-content/uploads/2020/05/download.png
END:VEVENT
BEGIN:VEVENT
DTSTART;TZID=America/New_York:20210121T090000
DTEND;TZID=America/New_York:20210121T110000
DTSTAMP:20260424T160750
CREATED:20210114T212727Z
LAST-MODIFIED:20210120T225939Z
UID:13899-1611219600-1611226800@casliny.com
SUMMARY:NYSED Stakeholder Meeting
DESCRIPTION:
URL:https://casliny.com/event/nysed-stakeholder-meeting/
CATEGORIES:Meetings
ATTACH;FMTTYPE=image/jpeg:https://casliny.com/wp-content/uploads/2020/10/download-3.jpg
END:VEVENT
BEGIN:VEVENT
DTSTART;TZID=America/New_York:20210121T160000
DTEND;TZID=America/New_York:20210121T180000
DTSTAMP:20260424T160750
CREATED:20210114T210619Z
LAST-MODIFIED:20210114T210926Z
UID:13883-1611244800-1611252000@casliny.com
SUMMARY:Revving Up for Informal Observations
DESCRIPTION:
URL:https://casliny.com/event/revving-up-for-informal-observations-tips-for-digital-check-ins-for-remote-instruction/
CATEGORIES:Meetings
ATTACH;FMTTYPE=image/jpeg:https://casliny.com/wp-content/uploads/2020/05/CAS-PAC-logo-3.jpg
END:VEVENT
BEGIN:VEVENT
DTSTART;TZID=America/New_York:20210126T163000
DTEND;TZID=America/New_York:20210126T180000
DTSTAMP:20260424T160750
CREATED:20200914T184044Z
LAST-MODIFIED:20200914T184044Z
UID:13265-1611678600-1611684000@casliny.com
SUMMARY:CAS Executive Board Meeting
DESCRIPTION:This is the meeting for the CAS Executive Board. It is to take place at the CAS Offices.
URL:https://casliny.com/event/cas-executive-board-meeting-16-2-2-2-2/
LOCATION:CAS Office\, 1300 Veterans Highway\, Suite 330\, Hauppauge\, NY\, 11788\, United States
CATEGORIES:Featured on Home,Meetings
ATTACH;FMTTYPE=image/jpeg:https://casliny.com/wp-content/uploads/2019/06/DSC_0949-2.jpg
END:VEVENT
BEGIN:VEVENT
DTSTART;TZID=America/New_York:20210128T120000
DTEND;TZID=America/New_York:20210128T124500
DTSTAMP:20260424T160750
CREATED:20210114T213657Z
LAST-MODIFIED:20210114T213657Z
UID:13901-1611835200-1611837900@casliny.com
SUMMARY:ESSAA Stakeholder Meeting
DESCRIPTION:
URL:https://casliny.com/event/essaa-stakeholder-meeting-5/
CATEGORIES:Meetings
ATTACH;FMTTYPE=image/jpeg:https://casliny.com/wp-content/uploads/2021/01/image-4.jpg
END:VEVENT
BEGIN:VEVENT
DTSTART;TZID=America/New_York:20210128T160000
DTEND;TZID=America/New_York:20210128T180000
DTSTAMP:20260424T160750
CREATED:20210114T211407Z
LAST-MODIFIED:20210114T211407Z
UID:13889-1611849600-1611856800@casliny.com
SUMMARY:Accepting the Leadership Challenge
DESCRIPTION:
URL:https://casliny.com/event/revving-up-for-informal-observations-tips-for-digital-check-ins-for-remote-instruction-2/
CATEGORIES:Meetings
ATTACH;FMTTYPE=image/png:https://casliny.com/wp-content/uploads/2020/05/EDDAACASlogo2.png
END:VEVENT
END:VCALENDAR