BEGIN:VCALENDAR
VERSION:2.0
PRODID:-//Council of Administrators &amp; Supervisors - ECPv6.15.20//NONSGML v1.0//EN
CALSCALE:GREGORIAN
METHOD:PUBLISH
X-ORIGINAL-URL:https://casliny.com
X-WR-CALDESC:Events for Council of Administrators &amp; Supervisors
REFRESH-INTERVAL;VALUE=DURATION:PT1H
X-Robots-Tag:noindex
X-PUBLISHED-TTL:PT1H
BEGIN:VTIMEZONE
TZID:America/New_York
BEGIN:DAYLIGHT
TZOFFSETFROM:-0500
TZOFFSETTO:-0400
TZNAME:EDT
DTSTART:20200308T070000
END:DAYLIGHT
BEGIN:STANDARD
TZOFFSETFROM:-0400
TZOFFSETTO:-0500
TZNAME:EST
DTSTART:20201101T060000
END:STANDARD
BEGIN:DAYLIGHT
TZOFFSETFROM:-0500
TZOFFSETTO:-0400
TZNAME:EDT
DTSTART:20210314T070000
END:DAYLIGHT
BEGIN:STANDARD
TZOFFSETFROM:-0400
TZOFFSETTO:-0500
TZNAME:EST
DTSTART:20211107T060000
END:STANDARD
BEGIN:DAYLIGHT
TZOFFSETFROM:-0500
TZOFFSETTO:-0400
TZNAME:EDT
DTSTART:20220313T070000
END:DAYLIGHT
BEGIN:STANDARD
TZOFFSETFROM:-0400
TZOFFSETTO:-0500
TZNAME:EST
DTSTART:20221106T060000
END:STANDARD
END:VTIMEZONE
BEGIN:VEVENT
DTSTART;TZID=America/New_York:20210201T090000
DTEND;TZID=America/New_York:20210201T103000
DTSTAMP:20260424T143109
CREATED:20210114T212310Z
LAST-MODIFIED:20210120T230035Z
UID:13896-1612170000-1612175400@casliny.com
SUMMARY:ESSAA Stakeholder Meeting with SED Commissioner Young
DESCRIPTION:
URL:https://casliny.com/event/essaaa-stakeholder-meeting-with-sed-commissioner-young/
CATEGORIES:Meetings
ATTACH;FMTTYPE=image/png:https://casliny.com/wp-content/uploads/2019/12/unnamed-6-e1576166527870.png
END:VEVENT
BEGIN:VEVENT
DTSTART;TZID=America/New_York:20210202T163000
DTEND;TZID=America/New_York:20210202T183000
DTSTAMP:20260424T143109
CREATED:20210114T211930Z
LAST-MODIFIED:20210114T211930Z
UID:13894-1612283400-1612290600@casliny.com
SUMMARY:ESSAA Cabinet Meeting
DESCRIPTION:
URL:https://casliny.com/event/essaa-cabinet-meeting/
CATEGORIES:Meetings
ATTACH;FMTTYPE=image/png:https://casliny.com/wp-content/uploads/2019/12/unnamed-6-e1576166527870.png
END:VEVENT
BEGIN:VEVENT
DTSTART;VALUE=DATE:20210208
DTEND;VALUE=DATE:20210210
DTSTAMP:20260424T143109
CREATED:20200506T143135Z
LAST-MODIFIED:20200506T143135Z
UID:12420-1612742400-1612915199@casliny.com
SUMMARY:Regents Meeting Dates
DESCRIPTION:
URL:https://casliny.com/event/regents-meeting-dates/
CATEGORIES:Meetings
ATTACH;FMTTYPE=image/png:https://casliny.com/wp-content/uploads/2020/05/download.png
END:VEVENT
BEGIN:VEVENT
DTSTART;TZID=America/New_York:20210223T163000
DTEND;TZID=America/New_York:20210223T180000
DTSTAMP:20260424T143109
CREATED:20200914T184152Z
LAST-MODIFIED:20210210T175257Z
UID:13267-1614097800-1614103200@casliny.com
SUMMARY:CAS Executive Board Meeting - Zoom
DESCRIPTION:This is the meeting for the CAS Executive Board.
URL:https://casliny.com/event/cas-executive-board-meeting-16-2-2-2-2-2/
LOCATION:VIA ZOOM
CATEGORIES:Featured on Home,Meetings
ATTACH;FMTTYPE=image/jpeg:https://casliny.com/wp-content/uploads/2019/06/DSC_0949-2.jpg
END:VEVENT
BEGIN:VEVENT
DTSTART;TZID=America/New_York:20210225T120000
DTEND;TZID=America/New_York:20210225T124500
DTSTAMP:20260424T143109
CREATED:20210114T213856Z
LAST-MODIFIED:20210114T213856Z
UID:13906-1614254400-1614257100@casliny.com
SUMMARY:ESSAA Stakeholder Meeting
DESCRIPTION:
URL:https://casliny.com/event/essaa-stakeholder-meeting-5-2/
CATEGORIES:Meetings
ATTACH;FMTTYPE=image/jpeg:https://casliny.com/wp-content/uploads/2021/01/image-4-2.jpg
END:VEVENT
BEGIN:VEVENT
DTSTART;TZID=America/New_York:20210225T160000
DTEND;TZID=America/New_York:20210225T180000
DTSTAMP:20260424T143109
CREATED:20210205T182259Z
LAST-MODIFIED:20210205T182259Z
UID:14019-1614268800-1614276000@casliny.com
SUMMARY:EdLove in the Time of COVID: Instruction\, Assessment\, and Digital Leadership
DESCRIPTION:
URL:https://casliny.com/event/revving-up-for-informal-observations-tips-for-digital-check-ins-for-remote-instruction-3/
LOCATION:VIA ZOOM
CATEGORIES:Meetings
ATTACH;FMTTYPE=image/jpeg:https://casliny.com/wp-content/uploads/2020/05/CAS-PAC-logo-3.jpg
END:VEVENT
END:VCALENDAR