BEGIN:VCALENDAR
VERSION:2.0
PRODID:-//Council of Administrators &amp; Supervisors - ECPv6.15.20//NONSGML v1.0//EN
CALSCALE:GREGORIAN
METHOD:PUBLISH
X-WR-CALNAME:Council of Administrators &amp; Supervisors
X-ORIGINAL-URL:https://casliny.com
X-WR-CALDESC:Events for Council of Administrators &amp; Supervisors
REFRESH-INTERVAL;VALUE=DURATION:PT1H
X-Robots-Tag:noindex
X-PUBLISHED-TTL:PT1H
BEGIN:VTIMEZONE
TZID:America/New_York
BEGIN:DAYLIGHT
TZOFFSETFROM:-0500
TZOFFSETTO:-0400
TZNAME:EDT
DTSTART:20200308T070000
END:DAYLIGHT
BEGIN:STANDARD
TZOFFSETFROM:-0400
TZOFFSETTO:-0500
TZNAME:EST
DTSTART:20201101T060000
END:STANDARD
BEGIN:DAYLIGHT
TZOFFSETFROM:-0500
TZOFFSETTO:-0400
TZNAME:EDT
DTSTART:20210314T070000
END:DAYLIGHT
BEGIN:STANDARD
TZOFFSETFROM:-0400
TZOFFSETTO:-0500
TZNAME:EST
DTSTART:20211107T060000
END:STANDARD
BEGIN:DAYLIGHT
TZOFFSETFROM:-0500
TZOFFSETTO:-0400
TZNAME:EDT
DTSTART:20220313T070000
END:DAYLIGHT
BEGIN:STANDARD
TZOFFSETFROM:-0400
TZOFFSETTO:-0500
TZNAME:EST
DTSTART:20221106T060000
END:STANDARD
END:VTIMEZONE
BEGIN:VEVENT
DTSTART;VALUE=DATE:20210301
DTEND;VALUE=DATE:20210302
DTSTAMP:20260424T125127
CREATED:20200108T164536Z
LAST-MODIFIED:20210104T163207Z
UID:11361-1614556800-1614643199@casliny.com
SUMMARY:Deadline for Submission of CAS 2021 Scholarship Applications
DESCRIPTION:
URL:https://casliny.com/event/deadline-for-submission-of-cas-2020-scholarship-applications/
CATEGORIES:Meetings
ATTACH;FMTTYPE=image/jpeg:https://casliny.com/wp-content/uploads/2020/01/Scholarship.jpg
END:VEVENT
BEGIN:VEVENT
DTSTART;TZID=America/New_York:20210302T160000
DTEND;TZID=America/New_York:20210302T183000
DTSTAMP:20260424T125127
CREATED:20200506T152217Z
LAST-MODIFIED:20210210T142733Z
UID:12439-1614700800-1614709800@casliny.com
SUMMARY:CAS Contract Negotiations 101
DESCRIPTION:Join CAS Attorneys Mike Starvaggi and Brad Stuhler for a workshop to help get your negotiations off on the right foot! Network with other local unit leaders to share ideas and information about what other units have achieved through negotiations. This workshop is designed for Administrator Negotiation Teams or Unit Presidents set to initiate negotiations. \nTopics will include: \n\nEstablishing your negotiations team\nNegotiations process and procedures\nPreparation and productive communications\nHow CAS Attorneys will assist with your negotiations\nFormal vs. informal negotiations\nTax cap and hidden money\nCOVID impact\nQuestions and answers\n\nIf you plan on attending\, please complete this Google Form. If you would like to discuss additional items\, please feel free to add them to the form. Of course\, if you have any questions\, please call or email Mike or Brad and they will get right back to you. \nThank you for giving us the opportunity to represent you during these uncertain times!
URL:https://casliny.com/event/regents-meeting-date-10/
LOCATION:VIA ZOOM
ATTACH;FMTTYPE=image/jpeg:https://casliny.com/wp-content/uploads/2020/05/CAS-PAC-logo-3.jpg
END:VEVENT
BEGIN:VEVENT
DTSTART;VALUE=DATE:20210315
DTEND;VALUE=DATE:20210317
DTSTAMP:20260424T125127
CREATED:20200506T143250Z
LAST-MODIFIED:20200506T143250Z
UID:12422-1615766400-1615939199@casliny.com
SUMMARY:Regents Meeting Date
DESCRIPTION:
URL:https://casliny.com/event/regents-meeting-date-2/
CATEGORIES:Meetings
ATTACH;FMTTYPE=image/png:https://casliny.com/wp-content/uploads/2020/05/download.png
END:VEVENT
BEGIN:VEVENT
DTSTART;TZID=America/New_York:20210323T163000
DTEND;TZID=America/New_York:20210323T180000
DTSTAMP:20260424T125127
CREATED:20200914T184457Z
LAST-MODIFIED:20210210T175159Z
UID:13269-1616517000-1616522400@casliny.com
SUMMARY:CAS Executive Board Meeting - Zoom
DESCRIPTION:This is the meeting for the CAS Executive Board.
URL:https://casliny.com/event/cas-executive-board-meeting-16-2-2-2-2-2-2/
LOCATION:Tarrytown\, NY\, United States
CATEGORIES:Featured on Home,Meetings
ATTACH;FMTTYPE=image/jpeg:https://casliny.com/wp-content/uploads/2019/06/DSC_0949-2.jpg
END:VEVENT
BEGIN:VEVENT
DTSTART;TZID=America/New_York:20210324T120000
DTEND;TZID=America/New_York:20210324T124500
DTSTAMP:20260424T125127
CREATED:20210114T213938Z
LAST-MODIFIED:20210114T213938Z
UID:13909-1616587200-1616589900@casliny.com
SUMMARY:ESSAA Stakeholder Meeting
DESCRIPTION:
URL:https://casliny.com/event/essaa-stakeholder-meeting-5-2-2/
CATEGORIES:Meetings
ATTACH;FMTTYPE=image/jpeg:https://casliny.com/wp-content/uploads/2021/01/image-4-2-1.jpg
END:VEVENT
BEGIN:VEVENT
DTSTART;TZID=America/New_York:20210324T160000
DTEND;TZID=America/New_York:20210324T173000
DTSTAMP:20260424T125127
CREATED:20210210T170238Z
LAST-MODIFIED:20210210T170253Z
UID:14080-1616601600-1616607000@casliny.com
SUMMARY:Meeting Magic: Strategies to Engage and Empower your Staff
DESCRIPTION:
URL:https://casliny.com/event/revving-up-for-informal-observations-tips-for-digital-check-ins-for-remote-instruction-3-2/
LOCATION:VIA ZOOM
CATEGORIES:Meetings
ATTACH;FMTTYPE=image/jpeg:https://casliny.com/wp-content/uploads/2020/05/CAS-PAC-logo-3.jpg
END:VEVENT
END:VCALENDAR