BEGIN:VCALENDAR
VERSION:2.0
PRODID:-//Council of Administrators &amp; Supervisors - ECPv6.15.20//NONSGML v1.0//EN
CALSCALE:GREGORIAN
METHOD:PUBLISH
X-ORIGINAL-URL:https://casliny.com
X-WR-CALDESC:Events for Council of Administrators &amp; Supervisors
REFRESH-INTERVAL;VALUE=DURATION:PT1H
X-Robots-Tag:noindex
X-PUBLISHED-TTL:PT1H
BEGIN:VTIMEZONE
TZID:America/New_York
BEGIN:DAYLIGHT
TZOFFSETFROM:-0500
TZOFFSETTO:-0400
TZNAME:EDT
DTSTART:20200308T070000
END:DAYLIGHT
BEGIN:STANDARD
TZOFFSETFROM:-0400
TZOFFSETTO:-0500
TZNAME:EST
DTSTART:20201101T060000
END:STANDARD
BEGIN:DAYLIGHT
TZOFFSETFROM:-0500
TZOFFSETTO:-0400
TZNAME:EDT
DTSTART:20210314T070000
END:DAYLIGHT
BEGIN:STANDARD
TZOFFSETFROM:-0400
TZOFFSETTO:-0500
TZNAME:EST
DTSTART:20211107T060000
END:STANDARD
BEGIN:DAYLIGHT
TZOFFSETFROM:-0500
TZOFFSETTO:-0400
TZNAME:EDT
DTSTART:20220313T070000
END:DAYLIGHT
BEGIN:STANDARD
TZOFFSETFROM:-0400
TZOFFSETTO:-0500
TZNAME:EST
DTSTART:20221106T060000
END:STANDARD
END:VTIMEZONE
BEGIN:VEVENT
DTSTART;TZID=America/New_York:20210603T160000
DTEND;TZID=America/New_York:20210603T170000
DTSTAMP:20260424T075528
CREATED:20210518T172759Z
LAST-MODIFIED:20210518T173118Z
UID:14868-1622736000-1622739600@casliny.com
SUMMARY:2021 CAS Scholarships
DESCRIPTION:On June 3\, 2021\, the Council of Administrators and Supervisors will honor our 2021 CAS Scholarship winners during a Zoom awards ceremony at 4:00 pm. \nThis year’s scholarship recipients are as follows: \nRalph Borzello Award\n        Noelle Naccarato – East Islip High School\n\nAnthony Laurino Award\n       Christina Unkenholz – Smithtown High School West\n\nDr. Joseph Miller Award\n      Grace Kenny – Babylon Junior-Senior High School\n\nDr. Murray Schneider Award\n      Hailey Hearney – Vandermeulen High School\, Port Jefferson\n\nAs in past years\, this was a very competitive scholarship with many wonderfully talented applicants\, and we wish to congratulate them and wish them all continued success in college. \nBest wishes and thank you for all the work you have put in this year helping your students and staff navigate the pandemic!
URL:https://casliny.com/event/2021-cas-scholarships/
CATEGORIES:Meetings
ATTACH;FMTTYPE=image/png:https://casliny.com/wp-content/uploads/2021/03/Logo.png
ORGANIZER;CN="Demetria Marino%2C Office Manager":MAILTO:casinfo@caslongisland.com
END:VEVENT
BEGIN:VEVENT
DTSTART;TZID=America/New_York:20210603T173000
DTEND;TZID=America/New_York:20210603T190000
DTSTAMP:20260424T075528
CREATED:20210519T123417Z
LAST-MODIFIED:20210519T123417Z
UID:14875-1622741400-1622746800@casliny.com
SUMMARY:2021 CAS Retirees
DESCRIPTION:On June 3\, 2021\, the Council of Administrators and Supervisors will honor our 2021 CAS Retirees during a Zoom ceremony at 5:30 pm.
URL:https://casliny.com/event/2021-cas-scholarships-2/
CATEGORIES:Meetings
ATTACH;FMTTYPE=image/png:https://casliny.com/wp-content/uploads/2021/03/Logo.png
ORGANIZER;CN="Demetria Marino%2C Office Manager":MAILTO:casinfo@caslongisland.com
END:VEVENT
BEGIN:VEVENT
DTSTART;VALUE=DATE:20210607
DTEND;VALUE=DATE:20210609
DTSTAMP:20260424T075528
CREATED:20200506T144517Z
LAST-MODIFIED:20200506T144517Z
UID:12428-1623024000-1623196799@casliny.com
SUMMARY:Regents Meeting Date
DESCRIPTION:
URL:https://casliny.com/event/regents-meeting-date-5/
CATEGORIES:Meetings
ATTACH;FMTTYPE=image/png:https://casliny.com/wp-content/uploads/2020/05/download.png
END:VEVENT
BEGIN:VEVENT
DTSTART;TZID=America/New_York:20210617T091500
DTEND;TZID=America/New_York:20210617T091500
DTSTAMP:20260424T075528
CREATED:20210407T135614Z
LAST-MODIFIED:20210407T135715Z
UID:14609-1623921300-1623921300@casliny.com
SUMMARY:English Language Arts - Examination Day
DESCRIPTION:
URL:https://casliny.com/event/regents-meeting-date-9-2/
CATEGORIES:Meetings
ATTACH;FMTTYPE=image/png:https://casliny.com/wp-content/uploads/2020/04/tourette-association-logo.png
END:VEVENT
BEGIN:VEVENT
DTSTART;VALUE=DATE:20210618
DTEND;VALUE=DATE:20210619
DTSTAMP:20260424T075528
CREATED:20210407T135948Z
LAST-MODIFIED:20210407T135948Z
UID:14611-1623974400-1624060799@casliny.com
SUMMARY:Juneteenth Holiday Observed
DESCRIPTION:
URL:https://casliny.com/event/juneteenth-holiday-observed/
CATEGORIES:Holidays
ATTACH;FMTTYPE=image/png:https://casliny.com/wp-content/uploads/2021/04/download.png
END:VEVENT
BEGIN:VEVENT
DTSTART;TZID=America/New_York:20210621T091500
DTEND;TZID=America/New_York:20210621T170000
DTSTAMP:20260424T075528
CREATED:20210407T140141Z
LAST-MODIFIED:20210407T140223Z
UID:14614-1624266900-1624294800@casliny.com
SUMMARY:World Language Assessment - Examination Day
DESCRIPTION:
URL:https://casliny.com/event/world-language-assessment-examination/
CATEGORIES:Meetings
ATTACH;FMTTYPE=image/png:https://casliny.com/wp-content/uploads/2020/04/tourette-association-logo.png
END:VEVENT
BEGIN:VEVENT
DTSTART;TZID=America/New_York:20210622T091500
DTEND;TZID=America/New_York:20210622T120000
DTSTAMP:20260424T075528
CREATED:20210407T140350Z
LAST-MODIFIED:20210407T140350Z
UID:14617-1624353300-1624363200@casliny.com
SUMMARY:Living Environment - Examination Day
DESCRIPTION:
URL:https://casliny.com/event/living-environment-examination-day/
CATEGORIES:Meetings
ATTACH;FMTTYPE=image/png:https://casliny.com/wp-content/uploads/2020/04/tourette-association-logo.png
END:VEVENT
BEGIN:VEVENT
DTSTART;TZID=America/New_York:20210623T091500
DTEND;TZID=America/New_York:20210623T120000
DTSTAMP:20260424T075528
CREATED:20210407T141939Z
LAST-MODIFIED:20210407T141950Z
UID:14619-1624439700-1624449600@casliny.com
SUMMARY:Alegebra I - Examination Day
DESCRIPTION:
URL:https://casliny.com/event/alegebra-i-examination-day/
CATEGORIES:Meetings
ATTACH;FMTTYPE=image/png:https://casliny.com/wp-content/uploads/2020/04/tourette-association-logo.png
END:VEVENT
BEGIN:VEVENT
DTSTART;TZID=America/New_York:20210624T091500
DTEND;TZID=America/New_York:20210624T120000
DTSTAMP:20260424T075528
CREATED:20210407T142251Z
LAST-MODIFIED:20210407T142251Z
UID:14621-1624526100-1624536000@casliny.com
SUMMARY:Physical Setting/Earth Science Examination Day
DESCRIPTION:
URL:https://casliny.com/event/physical-setting-earth-science-examination-day/
CATEGORIES:Meetings
ATTACH;FMTTYPE=image/png:https://casliny.com/wp-content/uploads/2020/04/tourette-association-logo.png
END:VEVENT
BEGIN:VEVENT
DTSTART;TZID=America/New_York:20210625T091500
DTEND;TZID=America/New_York:20210625T170000
DTSTAMP:20260424T075528
CREATED:20210407T143121Z
LAST-MODIFIED:20210407T143121Z
UID:14623-1624612500-1624640400@casliny.com
SUMMARY:RATING DAY
DESCRIPTION:
URL:https://casliny.com/event/rating-day/
CATEGORIES:Meetings
ATTACH;FMTTYPE=image/png:https://casliny.com/wp-content/uploads/2020/04/tourette-association-logo.png
END:VEVENT
BEGIN:VEVENT
DTSTART;TZID=America/New_York:20210629T163000
DTEND;TZID=America/New_York:20210629T180000
DTSTAMP:20260424T075528
CREATED:20200914T184800Z
LAST-MODIFIED:20210414T152938Z
UID:13275-1624984200-1624989600@casliny.com
SUMMARY:CAS Executive Board Meeting
DESCRIPTION:This is the meeting for the CAS Executive Board.
URL:https://casliny.com/event/cas-executive-board-meeting-16-2-2-2-2-2-2-2-2-2/
LOCATION:VIA ZOOM
CATEGORIES:Featured on Home,Meetings
ATTACH;FMTTYPE=image/jpeg:https://casliny.com/wp-content/uploads/2019/06/DSC_0949-2.jpg
END:VEVENT
END:VCALENDAR