BEGIN:VCALENDAR
VERSION:2.0
PRODID:-//Council of Administrators &amp; Supervisors - ECPv6.15.20//NONSGML v1.0//EN
CALSCALE:GREGORIAN
METHOD:PUBLISH
X-WR-CALNAME:Council of Administrators &amp; Supervisors
X-ORIGINAL-URL:https://casliny.com
X-WR-CALDESC:Events for Council of Administrators &amp; Supervisors
REFRESH-INTERVAL;VALUE=DURATION:PT1H
X-Robots-Tag:noindex
X-PUBLISHED-TTL:PT1H
BEGIN:VTIMEZONE
TZID:America/New_York
BEGIN:DAYLIGHT
TZOFFSETFROM:-0500
TZOFFSETTO:-0400
TZNAME:EDT
DTSTART:20210314T070000
END:DAYLIGHT
BEGIN:STANDARD
TZOFFSETFROM:-0400
TZOFFSETTO:-0500
TZNAME:EST
DTSTART:20211107T060000
END:STANDARD
BEGIN:DAYLIGHT
TZOFFSETFROM:-0500
TZOFFSETTO:-0400
TZNAME:EDT
DTSTART:20220313T070000
END:DAYLIGHT
BEGIN:STANDARD
TZOFFSETFROM:-0400
TZOFFSETTO:-0500
TZNAME:EST
DTSTART:20221106T060000
END:STANDARD
BEGIN:DAYLIGHT
TZOFFSETFROM:-0500
TZOFFSETTO:-0400
TZNAME:EDT
DTSTART:20230312T070000
END:DAYLIGHT
BEGIN:STANDARD
TZOFFSETFROM:-0400
TZOFFSETTO:-0500
TZNAME:EST
DTSTART:20231105T060000
END:STANDARD
END:VTIMEZONE
BEGIN:VEVENT
DTSTART;TZID=America/New_York:20220303T160000
DTEND;TZID=America/New_York:20220303T180000
DTSTAMP:20260423T152315
CREATED:20210915T133119Z
LAST-MODIFIED:20220303T200208Z
UID:15796-1646323200-1646330400@casliny.com
SUMMARY:CAS Delegate Assembly
DESCRIPTION:  \nCAS MARCH DELEGATE ASSEMBLY MEETING\n \n\n\n\n 
URL:https://casliny.com/event/cas-delegate-assembly-5/
LOCATION:VIA ZOOM
CATEGORIES:Featured on Home,Meetings
ATTACH;FMTTYPE=image/jpeg:https://casliny.com/wp-content/uploads/2021/09/DSC_0949-2-1-1-1-1-1-1-1-1-1.jpg
ORGANIZER;CN="Demetria Marino%2C Office Manager":MAILTO:casinfo@caslongisland.com
END:VEVENT
BEGIN:VEVENT
DTSTART;VALUE=DATE:20220314
DTEND;VALUE=DATE:20220316
DTSTAMP:20260423T152315
CREATED:20211220T144404Z
LAST-MODIFIED:20211220T144404Z
UID:16261-1647216000-1647388799@casliny.com
SUMMARY:Regents Meeting Date
DESCRIPTION:
URL:https://casliny.com/event/regents-meeting-date-9-3-2-2/
CATEGORIES:Meetings
ATTACH;FMTTYPE=image/png:https://casliny.com/wp-content/uploads/2020/05/download.png
END:VEVENT
BEGIN:VEVENT
DTSTART;TZID=America/New_York:20220322T163000
DTEND;TZID=America/New_York:20220322T180000
DTSTAMP:20260423T152315
CREATED:20210826T132327Z
LAST-MODIFIED:20210826T145237Z
UID:15591-1647966600-1647972000@casliny.com
SUMMARY:CAS Executive Board Meeting
DESCRIPTION:This is the meeting for the CAS Executive Board.
URL:https://casliny.com/event/cas-executive-board-meeting-17-2-2-2-2-2-2/
CATEGORIES:Featured on Home,Meetings
ATTACH;FMTTYPE=image/jpeg:https://casliny.com/wp-content/uploads/2021/08/DSC_0949-2-1-1-1-1-1-1-1.jpg
END:VEVENT
BEGIN:VEVENT
DTSTART;TZID=America/New_York:20220323T160000
DTEND;TZID=America/New_York:20220323T180000
DTSTAMP:20260423T152315
CREATED:20220603T170127Z
LAST-MODIFIED:20230601T191315Z
UID:17346-1648051200-1648058400@casliny.com
SUMMARY:CAS Presents Virtual CTLE Workshop Meeting Magic:  Strategies to Engage and Empower your Staff with AJ Juliani
DESCRIPTION: On Wednesday\, March 24th\, A. J. Juliani led a lively interactive CTLE Workshop via Zoom for over 35 CAS members and guests. Throughout the workshop he provided enthusiastic and often humorous examples of initiatives he has designed to make staff meetings and professional development initiatives more impactful. During this collaborative offering A. J. shared a variety of clever and authentic strategies school leaders can use immediately to engage meeting participants upon returning to school. Sharing his “Epic Guide to Engagement”\, many left the workshop with a litany of ways to share information and build relationships within our school communities.  Using the virtual team breakout room strategy\, staff walk-up theme music\, back to school bingo\, and “your best lesson” entre can help our school leaders enhance the joy of learning and facilitate meaningful communication with staff.  \nA.J. Juliani is a national speaker who believes deeply in the educational inquiry movement. He often shares ideas and thoughts around “intentional innovation and the future of learning to hundreds of thousands of educators. As a former Education and Technology Innovation Specialist\, staff developer\, ELA teacher\, and coach\, he knows what real engagement requires. A.J. Juliani currently works as the Director of Learning and Innovation at Centennial School District and is the author of several books on empowering students and boosting creativity.  \nLearn more about A.J. Juliani by visiting http://ajjuliani.com/ \nCAS is a certified NYSED Continuing Teacher Leader Education (CTLE) sponsor\, and successful participants earned two (2) hours of CTLE professional development credit applicable toward the hours needed for continuing certification. \nUpcoming CAS CTLE Workshops are scheduled throughout the school year and communicated through email and the www.casliny.com website. \nUpcoming CAS Financial Planning Workshops (not eligible for CTLE credit): \nWorkshop Title: Retirement – Will I be Ready and Able to Retire as Planned?\nPresenters: Andrew Buttelman of Lincoln Investment with Special Guest Speaker\, David Daly \nDate and Time: Wednesday\, April 21\, 2021 or Thursday\, April 22\, 2021 at the Melville Marriott\, Melville\, NY
URL:https://casliny.com/event/cas-presents-virtual-ctle-workshop-meeting-magic-strategies-to-engage-and-empower-your-staff-with-aj-juliani/
LOCATION:Webinar
CATEGORIES:Professional Development
END:VEVENT
BEGIN:VEVENT
DTSTART;TZID=America/New_York:20220324T160000
DTEND;TZID=America/New_York:20220324T180000
DTSTAMP:20260423T152315
CREATED:20220603T175451Z
LAST-MODIFIED:20230601T191329Z
UID:17359-1648137600-1648144800@casliny.com
SUMMARY:CAS Presents Contract Negotiations Workshop
DESCRIPTION:  CAS Attorneys Mike Starvaggi and Brad Stuhler presented an informative CAS Contract Negotiations Workshop for local unit leaders who will soon embark on contract negotiations for their local CAS unit. The two-hour workshop\, conducted via Zoom on Tuesday\, March 2 at 4:00 pm\, centered on educating Administrator Negotiation Teams and CAS Unit Presidents of contract negotiations strategies. The virtual workshop provided the participants’ opportunities to share ideas and network with colleagues in other administrative units in Nassau and Suffolk Counties.  During this interactive experience\, Mike and Brad detailed suggestions for structuring negotiation teams and collecting the appropriate data before initiating  contract negotiations. They also focused on the benefits of thoughtfully timing contract negotiations\, developing realistic expectations\, gathering relevant data\, and understanding what procedures to expect during the process. Items of concern included understanding the difference between formal negotiations and informal negotiations\, the impact of the 2% Tax Cap\, and the fears generated by the instructional and structural modifications caused by the COVID pandemic. The workshop also touched on the legal aspects and significant restrictions related to the Taylor Law and the Triborough Amendment. Each topic presented generated discussions that helped the participants understand the potential impact on their negotiations. Brad and Mike provided practical guidance\, best practice examples\, and common-sense strategies for successful negotiations. The large number of enthusiastic participants attending reflected local concerns related to state aid and Federal assistance to local communities. Consequently\, several units planned for individual follow-up with their CAS attorney. \nUpcoming CAS CTLE Workshops:  \nWorkshop Title: Meeting Magic: Strategies to Engage and Empower your Staff \nPresenter: A.J. Juliani\, national speaker\, author\, and Director of Learning and Innovation at Centennial School District \nDate and Time: Wednesday\, March 24\, 2021\, from 4:00 pm – 5:30 pm \nAlthough this was not a professional development training workshop\, CAS is a certified NYSED Continuing Teacher Leader Education (CTLE) sponsor and successful participants earned two (2) hours of CTLE professional development credit applicable toward the hours needed for continuing certification. \nUpcoming CAS CTLE Workshops are scheduled throughout the school year and communicated through email and the www.casliny.com website.
URL:https://casliny.com/event/cas-presents-contract-negotiations-workshop-3/
CATEGORIES:Professional Development
END:VEVENT
BEGIN:VEVENT
DTSTART;TZID=America/New_York:20220329T160000
DTEND;TZID=America/New_York:20220329T173000
DTSTAMP:20260423T152315
CREATED:20220310T140239Z
LAST-MODIFIED:20220310T140239Z
UID:16705-1648569600-1648575000@casliny.com
SUMMARY:Taking Care of You to Take Care of Them: Mindfulness for What Matters with Carin Winter - 4:00 pm
DESCRIPTION:
URL:https://casliny.com/event/new-administrators-workshop-zoom-2-3-2-2/
LOCATION:VIA ZOOM
CATEGORIES:Meetings
ATTACH;FMTTYPE=image/png:https://casliny.com/wp-content/uploads/2020/04/images.png
END:VEVENT
BEGIN:VEVENT
DTSTART;TZID=America/New_York:20220329T160000
DTEND;TZID=America/New_York:20220329T173000
DTSTAMP:20260423T152315
CREATED:20230601T125021Z
LAST-MODIFIED:20230601T191354Z
UID:21552-1648569600-1648575000@casliny.com
SUMMARY:Taking Care of You to Take Care of Them:   Mindfulness for What Matters with Carin Winter 
DESCRIPTION:Taking Care of You to Take Care of Them:  \nMindfulness for What Matters with Carin Winter  \nMarch 29\,2022 at 4:30 PM on Zoom \n To be good to others\, you must be good to yourself. Join us for this workshop that will focus on personal practices that you can integrate into your life and share with those you lead. You’ll also learn about strategies that can be shared with students to improve practice and decrease stress. Walk away with tips that you can use tomorrow.  \nCarin Winter is the founder and CEO of Mission Be\, Mindful Education and has successfully led the organization to bring mindfulness rooted in social emotional learning to thousands of adults and children. She has been studying the work of mindfulness for over 20 years and is a talented meditation teacher\, gifted speaker\, and visionary. Carin was a school social worker in the Islip Public School District\, a clinical therapist\, and holds a LMSW with a clinical background and 15 years of experience working with youth in schools\, foster care\, and the juvenile justice system. \nThis workshop is at no cost for all CAS administrators. CAS is a certified NYSED Continuing Teacher Leader Education (CTLE) sponsor\, and successful participants earned two (2) hours of CTLE professional development credit applicable toward the hours needed for continuing certification. \n\n\n\nUpcoming CAS CTLE Workshops are scheduled throughout the school year and communicated through \nemail and the www.casliny.com website
URL:https://casliny.com/event/taking-care-of-you-to-take-care-of-them-mindfulness-for-what-matters-with-carin-winter/
LOCATION:VIA ZOOM
CATEGORIES:Professional Development
ATTACH;FMTTYPE=image/jpeg:https://casliny.com/wp-content/uploads/2023/06/Winter.jpg
END:VEVENT
END:VCALENDAR