BEGIN:VCALENDAR
VERSION:2.0
PRODID:-//Council of Administrators &amp; Supervisors - ECPv6.15.20//NONSGML v1.0//EN
CALSCALE:GREGORIAN
METHOD:PUBLISH
X-ORIGINAL-URL:https://casliny.com
X-WR-CALDESC:Events for Council of Administrators &amp; Supervisors
REFRESH-INTERVAL;VALUE=DURATION:PT1H
X-Robots-Tag:noindex
X-PUBLISHED-TTL:PT1H
BEGIN:VTIMEZONE
TZID:America/New_York
BEGIN:DAYLIGHT
TZOFFSETFROM:-0500
TZOFFSETTO:-0400
TZNAME:EDT
DTSTART:20210314T070000
END:DAYLIGHT
BEGIN:STANDARD
TZOFFSETFROM:-0400
TZOFFSETTO:-0500
TZNAME:EST
DTSTART:20211107T060000
END:STANDARD
BEGIN:DAYLIGHT
TZOFFSETFROM:-0500
TZOFFSETTO:-0400
TZNAME:EDT
DTSTART:20220313T070000
END:DAYLIGHT
BEGIN:STANDARD
TZOFFSETFROM:-0400
TZOFFSETTO:-0500
TZNAME:EST
DTSTART:20221106T060000
END:STANDARD
BEGIN:DAYLIGHT
TZOFFSETFROM:-0500
TZOFFSETTO:-0400
TZNAME:EDT
DTSTART:20230312T070000
END:DAYLIGHT
BEGIN:STANDARD
TZOFFSETFROM:-0400
TZOFFSETTO:-0500
TZNAME:EST
DTSTART:20231105T060000
END:STANDARD
END:VTIMEZONE
BEGIN:VEVENT
DTSTART;TZID=America/New_York:20220406T160000
DTEND;TZID=America/New_York:20220406T180000
DTSTAMP:20260423T135031
CREATED:20220126T174034Z
LAST-MODIFIED:20220307T163111Z
UID:16519-1649260800-1649268000@casliny.com
SUMMARY:CAS Contract Negotiations Workshop - Via Zoom
DESCRIPTION:
URL:https://casliny.com/event/regents-meeting-date-9-3-2-2-2-2/
LOCATION:VIA ZOOM
CATEGORIES:Meetings
ATTACH;FMTTYPE=image/png:https://casliny.com/wp-content/uploads/2020/04/images.png
END:VEVENT
BEGIN:VEVENT
DTSTART;VALUE=DATE:20220411
DTEND;VALUE=DATE:20220413
DTSTAMP:20260423T135031
CREATED:20211220T144455Z
LAST-MODIFIED:20211220T144455Z
UID:16263-1649635200-1649807999@casliny.com
SUMMARY:Regents Meeting Date
DESCRIPTION:
URL:https://casliny.com/event/regents-meeting-date-9-3-2-2-2/
CATEGORIES:Meetings
ATTACH;FMTTYPE=image/png:https://casliny.com/wp-content/uploads/2020/05/download.png
END:VEVENT
BEGIN:VEVENT
DTSTART;TZID=America/New_York:20220413T170000
DTEND;TZID=America/New_York:20220413T190000
DTSTAMP:20260423T135031
CREATED:20210915T133346Z
LAST-MODIFIED:20230601T162835Z
UID:15798-1649869200-1649876400@casliny.com
SUMMARY:FINANCIAL LITERACY WORKSHOP
DESCRIPTION:It is never too early to start thinking about retirement and planning for your life and family after working. Whether you are planning to retire soon or later on down the road\, we have developed another essential workshop for our members as a part of our continuing CAS Financial Literacy Program. On behalf  of CAS\, I would like to extend you an invitation to attend a workshop designed to inform\, educate and enhance your financial literacy as you prepare for the next phase of your life.\n\nRetirement – Will I be Ready and Able to Retire as Planned?\nWith Andrew Buttelman of the Legend Group and Special Guest Speaker\, David Daly** \nCAS Financial Workshop: 5:00 – 7:00 PM \nWednesday\, April 13\, 2022\nMelville Marriott\n(Refreshments will be provided) \n\nThe workshop will focus on: \nNavigating the New York State Teachers System \n\n\nGetting credit for prior service\nGetting credit for prior military service and the new rules\nUnderstanding you’re in-service death benefit and making sure your family is secure\nDisability and your pension\nUnderstanding your death benefit\nVerifying Salaries\nChoosing an Option\nFiling the application\nEarning after retirement\n\n Tax Deferred Investment Opportunities – What you need to know!\n\nMultimillion dollar 403-b plans\nEmployer-sponsored 403-b and 457 plans\nElective and non-elective plans\nLimits\, options\, and catch up provisions\n\nSick days and Incentives\n\nWhat you must know about sick days\, incentives and understanding the Non-elective Employer-sponsored 403-b\n\n**David Daly\, was the manager of the Public Information Office of the New York State Teachers’ Retirement System. He was the System’s spokesperson and was responsible for its publications\, website and media information. Previously\, he was the Coordinator of Pre-retirement Planning where he organized and implemented the System’s retirement planning seminar program\, which is a model for other systems throughout the country. Currently\, Dave is the Administrator of the National Pension Education Association and is a nationally-known presenter on retirement planning issues and programs for public employees. \nWe have received tremendous positive feedback from CAS members who have attended our previous Financial Literacy Workshops.
URL:https://casliny.com/event/financial-literacy-workshop-2-2-2-2-2/
LOCATION:Melville Marriott\, 1350 Walt Whitman Rd\, Melville\, NY\, 11747\, United States
CATEGORIES:Featured on Home,Financial Workshops
ATTACH;FMTTYPE=image/jpeg:https://casliny.com/wp-content/uploads/0-c/CAS-Finacial-Planning-Workshop-11-12-14.jpg
ORGANIZER;CN="Demetria Marino%2C Office Manager":MAILTO:casinfo@caslongisland.com
END:VEVENT
BEGIN:VEVENT
DTSTART;TZID=America/New_York:20220414T170000
DTEND;TZID=America/New_York:20220414T190000
DTSTAMP:20260423T135031
CREATED:20210915T133534Z
LAST-MODIFIED:20230601T162847Z
UID:15804-1649955600-1649962800@casliny.com
SUMMARY:FINANCIAL LITERACY WORKSHOP
DESCRIPTION:It is never too early to start thinking about retirement and planning for your life and family after working. Whether you are planning to retire soon or later on down the road\, we have developed another essential workshop for our members as a part of our continuing CAS Financial Literacy Program. On behalf  of CAS\, I would like to extend you an invitation to attend a workshop designed to inform\, educate and enhance your financial literacy as you prepare for the next phase of your life.\n\nRetirement – Will I be Ready and Able to Retire as Planned?\nWith Andrew Buttelman of the Legend Group and Special Guest Speaker\, David Daly** \nCAS Financial Workshop: 5:00 – 7:00 PM \nThursday\, April 14\, 2022\nMelville Marriott\n(Refreshments will be provided) \n\nThe workshop will focus on: \nNavigating the New York State Teachers System \n\n\nGetting credit for prior service\nGetting credit for prior military service and the new rules\nUnderstanding you’re in-service death benefit and making sure your family is secure\nDisability and your pension\nUnderstanding your death benefit\nVerifying Salaries\nChoosing an Option\nFiling the application\nEarning after retirement\n\n Tax Deferred Investment Opportunities – What you need to know!\n\nMultimillion dollar 403-b plans\nEmployer-sponsored 403-b and 457 plans\nElective and non-elective plans\nLimits\, options\, and catch up provisions\n\nSick days and Incentives\n\nWhat you must know about sick days\, incentives and understanding the Non-elective Employer-sponsored 403-b\n\n**David Daly\, was the manager of the Public Information Office of the New York State Teachers’ Retirement System. He was the System’s spokesperson and was responsible for its publications\, website and media information. Previously\, he was the Coordinator of Pre-retirement Planning where he organized and implemented the System’s retirement planning seminar program\, which is a model for other systems throughout the country. Currently\, Dave is the Administrator of the National Pension Education Association and is a nationally-known presenter on retirement planning issues and programs for public employees. \nWe have received tremendous positive feedback from CAS members who have attended our previous Financial Literacy Workshops.
URL:https://casliny.com/event/financial-literacy-workshop-2-2-2-2-2-2/
LOCATION:Melville Marriott\, 1350 Walt Whitman Rd\, Melville\, NY\, 11747\, United States
CATEGORIES:Featured on Home,Financial Workshops
ATTACH;FMTTYPE=image/jpeg:https://casliny.com/wp-content/uploads/0-c/CAS-Finacial-Planning-Workshop-11-12-14.jpg
ORGANIZER;CN="Demetria Marino%2C Office Manager":MAILTO:casinfo@caslongisland.com
END:VEVENT
BEGIN:VEVENT
DTSTART;TZID=America/New_York:20220426T163000
DTEND;TZID=America/New_York:20220426T180000
DTSTAMP:20260423T135031
CREATED:20210826T132352Z
LAST-MODIFIED:20210826T145208Z
UID:15594-1650990600-1650996000@casliny.com
SUMMARY:CAS Executive Board Meeting
DESCRIPTION:This is the meeting for the CAS Executive Board.
URL:https://casliny.com/event/cas-executive-board-meeting-17-2-2-2-2-2-2-2/
CATEGORIES:Featured on Home,Meetings
ATTACH;FMTTYPE=image/jpeg:https://casliny.com/wp-content/uploads/2021/08/DSC_0949-2-1-1-1-1-1-1-1-1.jpg
END:VEVENT
END:VCALENDAR