BEGIN:VCALENDAR
VERSION:2.0
PRODID:-//Council of Administrators &amp; Supervisors - ECPv6.15.20//NONSGML v1.0//EN
CALSCALE:GREGORIAN
METHOD:PUBLISH
X-ORIGINAL-URL:https://casliny.com
X-WR-CALDESC:Events for Council of Administrators &amp; Supervisors
REFRESH-INTERVAL;VALUE=DURATION:PT1H
X-Robots-Tag:noindex
X-PUBLISHED-TTL:PT1H
BEGIN:VTIMEZONE
TZID:America/New_York
BEGIN:DAYLIGHT
TZOFFSETFROM:-0500
TZOFFSETTO:-0400
TZNAME:EDT
DTSTART:20210314T070000
END:DAYLIGHT
BEGIN:STANDARD
TZOFFSETFROM:-0400
TZOFFSETTO:-0500
TZNAME:EST
DTSTART:20211107T060000
END:STANDARD
BEGIN:DAYLIGHT
TZOFFSETFROM:-0500
TZOFFSETTO:-0400
TZNAME:EDT
DTSTART:20220313T070000
END:DAYLIGHT
BEGIN:STANDARD
TZOFFSETFROM:-0400
TZOFFSETTO:-0500
TZNAME:EST
DTSTART:20221106T060000
END:STANDARD
BEGIN:DAYLIGHT
TZOFFSETFROM:-0500
TZOFFSETTO:-0400
TZNAME:EDT
DTSTART:20230312T070000
END:DAYLIGHT
BEGIN:STANDARD
TZOFFSETFROM:-0400
TZOFFSETTO:-0500
TZNAME:EST
DTSTART:20231105T060000
END:STANDARD
END:VTIMEZONE
BEGIN:VEVENT
DTSTART;TZID=America/New_York:20221201T163000
DTEND;TZID=America/New_York:20221201T190000
DTSTAMP:20260422T231725
CREATED:20220825T163136Z
LAST-MODIFIED:20220825T163951Z
UID:17869-1669912200-1669921200@casliny.com
SUMMARY:CAS Holiday Party
DESCRIPTION:           \nCouncil of Administrators and Supervisors\n  Holiday Party\n  \nThursday\, December 1\, 2022\n4:30 to 7:00 p.m.\nHilton Long Island/Huntington\n598 Broad Hollow Road\nMelville\, NY  11747\n631-845-1000\nWine\, Beer\, Hors d’Oeurves and Buffet Dinner \n\nFree for CAS Members \n\n  \n 
URL:https://casliny.com/event/cas-holiday-party-3/
LOCATION:Hilton Long Island/Huntington\, 598 Broadhollow Road\, Melville\, NY\, 11747\, United States
CATEGORIES:Featured on Home,Meetings
ATTACH;FMTTYPE=image/jpeg:https://casliny.com/wp-content/uploads/2017/08/People-7-1-1.jpg
ORGANIZER;CN="Demetria Marino%2C Office Manager":MAILTO:casinfo@caslongisland.com
END:VEVENT
BEGIN:VEVENT
DTSTART;VALUE=DATE:20221212
DTEND;VALUE=DATE:20221214
DTSTAMP:20260422T231725
CREATED:20211220T145043Z
LAST-MODIFIED:20220830T164319Z
UID:16277-1670803200-1670975999@casliny.com
SUMMARY:Regents Meeting Date
DESCRIPTION:
URL:https://casliny.com/event/regents-meeting-date-9-3-2-3-2-2-2-2-2-2/
CATEGORIES:Meetings
ATTACH;FMTTYPE=image/png:https://casliny.com/wp-content/uploads/2020/05/download.png
END:VEVENT
BEGIN:VEVENT
DTSTART;TZID=America/New_York:20221215T160000
DTEND;TZID=America/New_York:20221215T173000
DTSTAMP:20260422T231725
CREATED:20221205T164003Z
LAST-MODIFIED:20221205T164003Z
UID:20395-1671120000-1671125400@casliny.com
SUMMARY:Tech Tips for Administrators CTLE Workshop - Zoom - Thursday\, December 15\, 2022
DESCRIPTION:The role of the school and district leader continues to evolve each day in our spaces.  This session will explore digital tools that you can embed into your practice tomorrow to make life a little easier. \n \nChristopher Kauter is a District Leader\, Google Certified Innovator\, and Trainer. Christopher is well-versed in educational technology\, emerging innovation\, and school district leadership. He has worked with various school districts to enhance their technology readiness plans and provides feedback to professional advisory boards. Christopher is the proud Director of Digital Learning and Innovation for the Bay Shore School District. \n  \nIf you would like to attend\, please fill out this Google form. We look forward to seeing you! \nWe will send the workshop link via email and text on Tuesday\, December 13th to all who are registered.  
URL:https://casliny.com/event/new-administrators-workshop-zoom-4-2/
LOCATION:VIA ZOOM
CATEGORIES:Meetings
ATTACH;FMTTYPE=image/png:https://casliny.com/wp-content/uploads/2020/04/images.png
END:VEVENT
BEGIN:VEVENT
DTSTART;TZID=America/New_York:20221215T163000
DTEND;TZID=America/New_York:20221215T183000
DTSTAMP:20260422T231725
CREATED:20230531T152105Z
LAST-MODIFIED:20230601T191415Z
UID:21505-1671121800-1671129000@casliny.com
SUMMARY:CAS Presents Another Virtual CTLE Workshop
DESCRIPTION:CAS Presents Another Virtual CTLE Workshop \nOn Thursday\, December 15\, 2022 Christopher Kauter\, Director of Digital Learning and Innovation for the Bay Shore School District\, presented a CAS CTLE Workshop entitled “Tech Tips for Administrators” on Zoom. \nThis workshop provided participants with practical suggestions on how to handle data\, manage correspondences and leverage social media more effectively. In particular\, he demonstrated many approaches to quickly build local technology capacity and maximizing your output. Mr. Kauter touched on several effective ways to use your time wisely by employing valuable and often overlooked aspects of the Google and Outlook email platforms that can improve and organize communication with parents. \nFrom color-coding your calendar to reducing the ongoing email exchange you spent time having just to set up a meeting using Calend.ly or your Google account. Participants also learned how to train their email inbox to filter the important information from the unnecessary using tabs in their Google email. He also helped attendees retrieve an email they sent using the delayed send setting. This feature allows you to retrieve an email before it is sent to make one last correction or adjustment. Mr. Kauter also explained that creating email templates for recurring communications can increase efficiency. \nNavigating our changing world requires time to reflect and make adjustments. Technology can help with that. The application Headspace is a meditation application that can guide you through quick meditations and mindfulness activities. If you don’t have time for that\, create space on your calendar to focus. By designating a block of time on your calendar using the focus feature\, you’ll be able to give yourself much needed processing time. When you’re ready to return to your To-Do List\, there are a few applications that can help. Mr. Kauter reviewed ways to use Google Tasks or ToDo-ist to see the progress you’re making or to get a reminder when a task needs to get done. \nUpcoming CAS CTLE Workshops: \nWorkshop Title: LGBTQ+: Honoring All Voices\nPresenter: Zeneda Gordon\nDate and Time: Thursday\, January 19\, 2023\, from 4:30 pm – 6:00 pm \nWorkshop Title: Equity Walks\nPresenter: Dr. Timothy Piciullo\, Catherine Carella-Dean\, Lori Goldstein\, Michelle Marrone\, and Raymond Ruiz Date and Time: Wednesday\, February 15\, 2023\, from 4:30 pm – 6:00 pm \nCAS is a certified NYSED Continuing Teacher Leader Education (CTLE) sponsor\, and successful participants earned two (2) hours of CTLE professional development credit applicable toward the hours needed for continuing certification. \nUpcoming CAS CTLE Workshops are scheduled throughout the school year and communicated through email and the www.casliny.com website.
URL:https://casliny.com/event/cas-presents-another-virtual-ctle-workshop/
LOCATION:VIA ZOOM
CATEGORIES:Professional Development
ATTACH;FMTTYPE=image/jpeg:https://casliny.com/wp-content/uploads/2023/05/Kauter.jpg
END:VEVENT
BEGIN:VEVENT
DTSTART;TZID=America/New_York:20221220T163000
DTEND;TZID=America/New_York:20221220T180000
DTSTAMP:20260422T231725
CREATED:20220825T163231Z
LAST-MODIFIED:20220825T163231Z
UID:17873-1671553800-1671559200@casliny.com
SUMMARY:CAS Executive Board Meeting
DESCRIPTION:
URL:https://casliny.com/event/cas-executive-board-meeting-18-2-2-2/
LOCATION:VIA ZOOM
CATEGORIES:Featured on Home,Meetings
ATTACH;FMTTYPE=image/jpeg:https://casliny.com/wp-content/uploads/2022/08/CAS-Board-1-1-1.jpg
END:VEVENT
END:VCALENDAR