BEGIN:VCALENDAR
VERSION:2.0
PRODID:-//Council of Administrators &amp; Supervisors - ECPv6.15.20//NONSGML v1.0//EN
CALSCALE:GREGORIAN
METHOD:PUBLISH
X-ORIGINAL-URL:https://casliny.com
X-WR-CALDESC:Events for Council of Administrators &amp; Supervisors
REFRESH-INTERVAL;VALUE=DURATION:PT1H
X-Robots-Tag:noindex
X-PUBLISHED-TTL:PT1H
BEGIN:VTIMEZONE
TZID:America/New_York
BEGIN:DAYLIGHT
TZOFFSETFROM:-0500
TZOFFSETTO:-0400
TZNAME:EDT
DTSTART:20220313T070000
END:DAYLIGHT
BEGIN:STANDARD
TZOFFSETFROM:-0400
TZOFFSETTO:-0500
TZNAME:EST
DTSTART:20221106T060000
END:STANDARD
BEGIN:DAYLIGHT
TZOFFSETFROM:-0500
TZOFFSETTO:-0400
TZNAME:EDT
DTSTART:20230312T070000
END:DAYLIGHT
BEGIN:STANDARD
TZOFFSETFROM:-0400
TZOFFSETTO:-0500
TZNAME:EST
DTSTART:20231105T060000
END:STANDARD
BEGIN:DAYLIGHT
TZOFFSETFROM:-0500
TZOFFSETTO:-0400
TZNAME:EDT
DTSTART:20240310T070000
END:DAYLIGHT
BEGIN:STANDARD
TZOFFSETFROM:-0400
TZOFFSETTO:-0500
TZNAME:EST
DTSTART:20241103T060000
END:STANDARD
END:VTIMEZONE
BEGIN:VEVENT
DTSTART;VALUE=DATE:20230201
DTEND;VALUE=DATE:20230202
DTSTAMP:20260422T195446
CREATED:20220830T163756Z
LAST-MODIFIED:20220830T163756Z
UID:17920-1675209600-1675295999@casliny.com
SUMMARY:ESSAA Cabinet Meeting
DESCRIPTION:
URL:https://casliny.com/event/stakeholder-meeting-2-2-2-2-2/
LOCATION:VIA ZOOM
CATEGORIES:Meetings
ATTACH;FMTTYPE=image/jpeg:https://casliny.com/wp-content/uploads/2021/01/image-4.jpg
END:VEVENT
BEGIN:VEVENT
DTSTART;VALUE=DATE:20230213
DTEND;VALUE=DATE:20230215
DTSTAMP:20260422T195446
CREATED:20220830T164553Z
LAST-MODIFIED:20220830T164553Z
UID:17928-1676246400-1676419199@casliny.com
SUMMARY:Regents Meeting Date
DESCRIPTION:
URL:https://casliny.com/event/regents-meeting-date-9-3-2-3-2-2-2-2-2-2-4/
CATEGORIES:Meetings
ATTACH;FMTTYPE=image/png:https://casliny.com/wp-content/uploads/2020/05/download.png
END:VEVENT
BEGIN:VEVENT
DTSTART;TZID=America/New_York:20230215T163000
DTEND;TZID=America/New_York:20230215T174500
DTSTAMP:20260422T195446
CREATED:20230102T140945Z
LAST-MODIFIED:20230601T191017Z
UID:20400-1676478600-1676483100@casliny.com
SUMMARY:Equity Walks - CTLE Workshop - Zoom - Wednesday\, February 15\, 2023
DESCRIPTION:
URL:https://casliny.com/event/new-administrators-workshop-zoom-4-2-2-2/
LOCATION:VIA ZOOM
CATEGORIES:Meetings,Professional Development
ATTACH;FMTTYPE=image/png:https://casliny.com/wp-content/uploads/2020/04/images.png
END:VEVENT
BEGIN:VEVENT
DTSTART;TZID=America/New_York:20230228T163000
DTEND;TZID=America/New_York:20230228T180000
DTSTAMP:20260422T195446
CREATED:20220825T165331Z
LAST-MODIFIED:20220825T165413Z
UID:17876-1677601800-1677607200@casliny.com
SUMMARY:CAS Executive Board Meeting
DESCRIPTION:
URL:https://casliny.com/event/cas-executive-board-meeting-18-2-2-2-2/
LOCATION:VIA ZOOM
CATEGORIES:Featured on Home,Meetings
ATTACH;FMTTYPE=image/jpeg:https://casliny.com/wp-content/uploads/2022/08/CAS-Board-1-1-1-1.jpg
END:VEVENT
END:VCALENDAR