BEGIN:VCALENDAR
VERSION:2.0
PRODID:-//Council of Administrators &amp; Supervisors - ECPv6.15.20//NONSGML v1.0//EN
CALSCALE:GREGORIAN
METHOD:PUBLISH
X-WR-CALNAME:Council of Administrators &amp; Supervisors
X-ORIGINAL-URL:https://casliny.com
X-WR-CALDESC:Events for Council of Administrators &amp; Supervisors
REFRESH-INTERVAL;VALUE=DURATION:PT1H
X-Robots-Tag:noindex
X-PUBLISHED-TTL:PT1H
BEGIN:VTIMEZONE
TZID:America/New_York
BEGIN:DAYLIGHT
TZOFFSETFROM:-0500
TZOFFSETTO:-0400
TZNAME:EDT
DTSTART:20220313T070000
END:DAYLIGHT
BEGIN:STANDARD
TZOFFSETFROM:-0400
TZOFFSETTO:-0500
TZNAME:EST
DTSTART:20221106T060000
END:STANDARD
BEGIN:DAYLIGHT
TZOFFSETFROM:-0500
TZOFFSETTO:-0400
TZNAME:EDT
DTSTART:20230312T070000
END:DAYLIGHT
BEGIN:STANDARD
TZOFFSETFROM:-0400
TZOFFSETTO:-0500
TZNAME:EST
DTSTART:20231105T060000
END:STANDARD
BEGIN:DAYLIGHT
TZOFFSETFROM:-0500
TZOFFSETTO:-0400
TZNAME:EDT
DTSTART:20240310T070000
END:DAYLIGHT
BEGIN:STANDARD
TZOFFSETFROM:-0400
TZOFFSETTO:-0500
TZNAME:EST
DTSTART:20241103T060000
END:STANDARD
END:VTIMEZONE
BEGIN:VEVENT
DTSTART;TZID=America/New_York:20230404T130000
DTEND;TZID=America/New_York:20230404T140000
DTSTAMP:20260422T162416
CREATED:20230206T211000Z
LAST-MODIFIED:20230206T211000Z
UID:20468-1680613200-1680616800@casliny.com
SUMMARY:CAS/ESSAA Stakeholder Planning Meeting\, Tuesday\, April 4\, 2023 - 1:00 p.m.
DESCRIPTION:
URL:https://casliny.com/event/cas-essaa-stakeholder-planning-meeting-tuesday-april-4-2023-100-p-m/
LOCATION:VIA ZOOM
CATEGORIES:Meetings
ATTACH;FMTTYPE=image/jpeg:https://casliny.com/wp-content/uploads/2021/01/image-4.jpg
END:VEVENT
BEGIN:VEVENT
DTSTART;VALUE=DATE:20230417
DTEND;VALUE=DATE:20230419
DTSTAMP:20260422T162416
CREATED:20220830T164710Z
LAST-MODIFIED:20220830T164710Z
UID:17932-1681689600-1681862399@casliny.com
SUMMARY:Regents Meeting Date
DESCRIPTION:
URL:https://casliny.com/event/regents-meeting-date-9-3-2-3-2-2-2-2-2-2-4-2-2/
CATEGORIES:Meetings
ATTACH;FMTTYPE=image/png:https://casliny.com/wp-content/uploads/2020/05/download.png
END:VEVENT
BEGIN:VEVENT
DTSTART;TZID=America/New_York:20230425T123000
DTEND;TZID=America/New_York:20230425T133000
DTSTAMP:20260422T162416
CREATED:20230206T210851Z
LAST-MODIFIED:20230206T210851Z
UID:20466-1682425800-1682429400@casliny.com
SUMMARY:CAS/ESSAA Stakeholder Meeting with Commissioner Rosa\, Tuesday\, April 25\, 2023 - 12:30 p.m.
DESCRIPTION:
URL:https://casliny.com/event/cas-essaa-stakeholder-meeting-with-commissioner-rosa-tuesday-april-25-2023-1230-p-m/
LOCATION:VIA ZOOM
CATEGORIES:Meetings
ATTACH;FMTTYPE=image/jpeg:https://casliny.com/wp-content/uploads/2021/01/image-4.jpg
END:VEVENT
BEGIN:VEVENT
DTSTART;TZID=America/New_York:20230425T163000
DTEND;TZID=America/New_York:20230425T180000
DTSTAMP:20260422T162416
CREATED:20220825T170838Z
LAST-MODIFIED:20220825T170838Z
UID:17887-1682440200-1682445600@casliny.com
SUMMARY:CAS Executive Board Meeting
DESCRIPTION:
URL:https://casliny.com/event/cas-executive-board-meeting-18-2-2-2-2-2-2/
LOCATION:VIA ZOOM
CATEGORIES:Featured on Home,Meetings
ATTACH;FMTTYPE=image/jpeg:https://casliny.com/wp-content/uploads/2022/08/CAS-Board-1-1-1-1-1-1.jpg
END:VEVENT
BEGIN:VEVENT
DTSTART;TZID=America/New_York:20230426T093000
DTEND;TZID=America/New_York:20230426T101500
DTSTAMP:20260422T162416
CREATED:20230407T164720Z
LAST-MODIFIED:20230407T165402Z
UID:21073-1682501400-1682504100@casliny.com
SUMMARY:School Counseling Regulations 101 - April 26\, 2023 - 9:30 am to 10:15 am - NYSSCA
DESCRIPTION:Building principals will unpack each of the basic components on the NYSED amended school counseling regulations that went into\neffect in 2019 and discuss the opportunities and challenges to implementation with fidelity. The session will the expectations of\nNYSED and tips\, suggestions\, and tools to support your building’s comprehensive school counseling program. Q and A time will\nfollow the session.   Register Here
URL:https://casliny.com/event/school-counseling-regulations-101-april-26-2023-930-am-to-1015-am-nyssca/
CATEGORIES:Meetings
ATTACH;FMTTYPE=image/jpeg:https://casliny.com/wp-content/uploads/2023/04/download1.jpg
END:VEVENT
END:VCALENDAR