BEGIN:VCALENDAR
VERSION:2.0
PRODID:-//Council of Administrators &amp; Supervisors - ECPv6.15.20//NONSGML v1.0//EN
CALSCALE:GREGORIAN
METHOD:PUBLISH
X-WR-CALNAME:Council of Administrators &amp; Supervisors
X-ORIGINAL-URL:https://casliny.com
X-WR-CALDESC:Events for Council of Administrators &amp; Supervisors
REFRESH-INTERVAL;VALUE=DURATION:PT1H
X-Robots-Tag:noindex
X-PUBLISHED-TTL:PT1H
BEGIN:VTIMEZONE
TZID:America/New_York
BEGIN:DAYLIGHT
TZOFFSETFROM:-0500
TZOFFSETTO:-0400
TZNAME:EDT
DTSTART:20220313T070000
END:DAYLIGHT
BEGIN:STANDARD
TZOFFSETFROM:-0400
TZOFFSETTO:-0500
TZNAME:EST
DTSTART:20221106T060000
END:STANDARD
BEGIN:DAYLIGHT
TZOFFSETFROM:-0500
TZOFFSETTO:-0400
TZNAME:EDT
DTSTART:20230312T070000
END:DAYLIGHT
BEGIN:STANDARD
TZOFFSETFROM:-0400
TZOFFSETTO:-0500
TZNAME:EST
DTSTART:20231105T060000
END:STANDARD
BEGIN:DAYLIGHT
TZOFFSETFROM:-0500
TZOFFSETTO:-0400
TZNAME:EDT
DTSTART:20240310T070000
END:DAYLIGHT
BEGIN:STANDARD
TZOFFSETFROM:-0400
TZOFFSETTO:-0500
TZNAME:EST
DTSTART:20241103T060000
END:STANDARD
END:VTIMEZONE
BEGIN:VEVENT
DTSTART;TZID=America/New_York:20230502T130000
DTEND;TZID=America/New_York:20230502T140000
DTSTAMP:20260422T144411
CREATED:20230206T211104Z
LAST-MODIFIED:20230206T211104Z
UID:20470-1683032400-1683036000@casliny.com
SUMMARY:CAS/ESSAA Stakeholder Planning Meeting\, Tuesday\, May 2\, 2023 - 1:00 p.m.
DESCRIPTION:
URL:https://casliny.com/event/cas-essaa-stakeholder-planning-meeting-tuesday-may-2-2023-100-p-m/
LOCATION:VIA ZOOM
CATEGORIES:Meetings
ATTACH;FMTTYPE=image/jpeg:https://casliny.com/wp-content/uploads/2021/01/image-4.jpg
END:VEVENT
BEGIN:VEVENT
DTSTART;TZID=America/New_York:20230504T163000
DTEND;TZID=America/New_York:20230504T180000
DTSTAMP:20260422T144411
CREATED:20230206T203336Z
LAST-MODIFIED:20230206T203507Z
UID:20456-1683217800-1683223200@casliny.com
SUMMARY:CAS Delegate Assembly - May 4\, 2023 - 4:30 p.m.
DESCRIPTION:  \nCAS MAY DELEGATE ASSEMBLY MEETING\n \n\n\n\n 
URL:https://casliny.com/event/cas-delegate-assembly-zoom-meeting-430-p-m/
LOCATION:Holiday Inn\, Plainview\, 215 Sunnyside Boulevard\, Plainview\, NY\, 11803\, United States
CATEGORIES:Featured on Home,Meetings
ATTACH;FMTTYPE=image/jpeg:https://casliny.com/wp-content/uploads/2021/09/DSC_0949-2-1-1-1-1-1-1-1-1-1.jpg
ORGANIZER;CN="Demetria Marino%2C Office Manager":MAILTO:casinfo@caslongisland.com
END:VEVENT
BEGIN:VEVENT
DTSTART;TZID=America/New_York:20230504T163000
DTEND;TZID=America/New_York:20230504T180000
DTSTAMP:20260422T144411
CREATED:20230206T203606Z
LAST-MODIFIED:20230206T203606Z
UID:20460-1683217800-1683223200@casliny.com
SUMMARY:CAS Blue Ribbons/Retirees - May 4\, 2023 - 4:30 p.m.
DESCRIPTION:  \n\n\n\n\n 
URL:https://casliny.com/event/cas-blue-ribbons-retirees-may-4-2023-430-p-m/
LOCATION:Holiday Inn\, Plainview\, 215 Sunnyside Boulevard\, Plainview\, NY\, 11803\, United States
CATEGORIES:Featured on Home,Meetings
ATTACH;FMTTYPE=image/jpeg:https://casliny.com/wp-content/uploads/2021/09/DSC_0949-2-1-1-1-1-1-1-1-1-1.jpg
ORGANIZER;CN="Demetria Marino%2C Office Manager":MAILTO:casinfo@caslongisland.com
END:VEVENT
BEGIN:VEVENT
DTSTART;TZID=America/New_York:20230510T093000
DTEND;TZID=America/New_York:20230510T101500
DTSTAMP:20260422T144411
CREATED:20230407T165712Z
LAST-MODIFIED:20230407T170213Z
UID:21082-1683711000-1683713700@casliny.com
SUMMARY:Mandates Matter:  How The School Counseling Regulations Impact Your School Community - May 10\, 2023 - 9:30am - 10:15am - NYSSCA
DESCRIPTION:As a result of the amended school counseling regulations\, how are these changes impacting your school building and school\ncommunity? What differences are you seeing? Fromthe Individual Progress Review(IPR)to the school counseling curriculum requirement\,\nare the students\, families\, and the teachers and staff in the school building aware of the program expectations? This session will focus\non exploring the Tier 1 needs of all students and working with your school counselors to use important school data to connect school\ncounseling activities and lessons to the goals of school improvement  Register Here
URL:https://casliny.com/event/mandates-matter-how-the-school-counseling-regulations-impact-your-school-community-may-10-2023-930am-1015am-nyssca/
CATEGORIES:Meetings
ATTACH;FMTTYPE=image/jpeg:https://casliny.com/wp-content/uploads/2023/04/download1.jpg
END:VEVENT
BEGIN:VEVENT
DTSTART;VALUE=DATE:20230515
DTEND;VALUE=DATE:20230517
DTSTAMP:20260422T144411
CREATED:20220830T164752Z
LAST-MODIFIED:20220830T164752Z
UID:17934-1684108800-1684281599@casliny.com
SUMMARY:Regents Meeting Date
DESCRIPTION:
URL:https://casliny.com/event/regents-meeting-date-9-3-2-3-2-2-2-2-2-2-4-2-2-2/
CATEGORIES:Meetings
ATTACH;FMTTYPE=image/png:https://casliny.com/wp-content/uploads/2020/05/download.png
END:VEVENT
BEGIN:VEVENT
DTSTART;TZID=America/New_York:20230517T093000
DTEND;TZID=America/New_York:20230517T101500
DTSTAMP:20260422T144411
CREATED:20230407T165947Z
LAST-MODIFIED:20230407T170313Z
UID:21086-1684315800-1684318500@casliny.com
SUMMARY:Taking Ownership:  Reflect\, Refine\, Revise Your Annual School Counseling Program Plan - May 17\, 2023 - 9:30am - 10:15am
DESCRIPTION:NYSED requires that each school building develop a comprehensive program\, update it annually\, and post it on your school’s website.\nBuilding principals\, with their school counselors\, can review the components of the comprehensive program and gather input from\nstudents\, the school community\, and the district Advisory Council to guide the annual update and revision.  Register Here
URL:https://casliny.com/event/taking-ownership-reflect-refine-revise-your-annual-school-counseling-program-plan-may-17-2023-930am-1015am/
CATEGORIES:Meetings
ATTACH;FMTTYPE=image/jpeg:https://casliny.com/wp-content/uploads/2023/04/download1.jpg
END:VEVENT
BEGIN:VEVENT
DTSTART;VALUE=DATE:20230519
DTEND;VALUE=DATE:20230520
DTSTAMP:20260422T144411
CREATED:20220830T163858Z
LAST-MODIFIED:20220830T163858Z
UID:17922-1684454400-1684540799@casliny.com
SUMMARY:ESSAA Cabinet Meeting
DESCRIPTION:
URL:https://casliny.com/event/stakeholder-meeting-2-2-2-2-2-2/
LOCATION:VIA ZOOM
CATEGORIES:Meetings
ATTACH;FMTTYPE=image/jpeg:https://casliny.com/wp-content/uploads/2021/01/image-4.jpg
END:VEVENT
BEGIN:VEVENT
DTSTART;TZID=America/New_York:20230519T180000
DTEND;TZID=America/New_York:20230519T200000
DTSTAMP:20260422T144411
CREATED:20230206T211645Z
LAST-MODIFIED:20230206T211645Z
UID:20478-1684519200-1684526400@casliny.com
SUMMARY:ESSAA Spring Meeting & Administrator of the Year Awards - Friday\, May 19\, 2023 - Saratoga\, NY
DESCRIPTION:
URL:https://casliny.com/event/essaa-spring-meeting-administrator-of-the-year-awards-friday-may-19-2023-saratoga-ny/
LOCATION:Saratoga City Center\, 522 Broadway\, Saratoga Springs\, New York\, 12866
CATEGORIES:Meetings
ATTACH;FMTTYPE=image/jpeg:https://casliny.com/wp-content/uploads/2021/01/image-4.jpg
END:VEVENT
BEGIN:VEVENT
DTSTART;TZID=America/New_York:20230523T120000
DTEND;TZID=America/New_York:20230523T130000
DTSTAMP:20260422T144411
CREATED:20230206T211212Z
LAST-MODIFIED:20230206T211212Z
UID:20472-1684843200-1684846800@casliny.com
SUMMARY:CAS/ESSAA Stakeholder Meeting with Commissioner Rosa\, Tuesday\, May 23\, 2023 - 12:00 p.m.
DESCRIPTION:
URL:https://casliny.com/event/cas-essaa-stakeholder-meeting-with-commissioner-rosa-tuesday-may-23-2023-1200-p-m/
LOCATION:VIA ZOOM
CATEGORIES:Meetings
ATTACH;FMTTYPE=image/jpeg:https://casliny.com/wp-content/uploads/2021/01/image-4.jpg
END:VEVENT
BEGIN:VEVENT
DTSTART;TZID=America/New_York:20230523T163000
DTEND;TZID=America/New_York:20230523T180000
DTSTAMP:20260422T144411
CREATED:20220825T170954Z
LAST-MODIFIED:20220825T170954Z
UID:17890-1684859400-1684864800@casliny.com
SUMMARY:CAS Executive Board Meeting
DESCRIPTION:
URL:https://casliny.com/event/cas-executive-board-meeting-18-2-2-2-2-2-2-2/
LOCATION:VIA ZOOM
CATEGORIES:Featured on Home,Meetings
ATTACH;FMTTYPE=image/jpeg:https://casliny.com/wp-content/uploads/2022/08/CAS-Board-1-1-1-1-1-1-1.jpg
END:VEVENT
BEGIN:VEVENT
DTSTART;TZID=America/New_York:20230531T080000
DTEND;TZID=America/New_York:20230531T170000
DTSTAMP:20260422T144411
CREATED:20230531T160716Z
LAST-MODIFIED:20230612T151010Z
UID:21515-1685520000-1685552400@casliny.com
SUMMARY:CAS Presents a CTLE Workshop entitled “Evolving Digital Leadership and Security: Tech Tools to Leverage Tomorrow and Considerations for Cybersecurity”
DESCRIPTION:On Wednesday\, January 19\, Ed Kemnitzer\, Director of Technology\, Innovation\, and Information Services for the East Williston School District presented another well-received CAS CTLE Workshop entitled “Evolving Digital Leadership and Security: Tech Tools to Leverage Tomorrow and Considerations for Cybersecurity” on Zoom. \nThis was another information-packed CAS workshop that provided the participants with practical suggestions on how to manage data\, correspondence\, and social media more effectively. In particular\, he demonstrated many approaches to quickly build local technology capacity and enhance the timing and confidentiality of critical communications and files. \nMoving fast\, he explained several effective ways to maximize time when you have it by employing valuable and often overlooked aspects of the Google and Outlook email platforms that can improve and organize communication with parents. \nParticipants learned cutting-edge instructional tools and a dazzling array of student and staff-friendly ways to expand communication and collaboration with parents\, students\, and staff. Participants also had an opportunity to add several creative digital leadership tools to their arsenals like the One-Stop Hyperdoc\, QR codes\, Free IFTTT (If That Then This) Applets\, New York Times Articles to Pocket\, Tweet Deck\, and administrative team chats through Voxer and mote. \nDuring an interactive portion of the workshop\, the participants had an opportunity to reflect on their practices and share them with other school leaders from both counties. The workshop was concluded with helpful suggestions for enhancing cyber security\, streamlining calendar entries\, and cataloging parent conferences to communicate more personally and effectively. All of the participants left with practical tools and powerful apps to improve workflow and develop a digital world that works for them while simultaneously making life a little easier. \nIf you were unable to attend the workshop\, you might find the entire presentation and all of the websites and apps discussed in the seminar found here at https://bit.ly/33ACWSW \nUpcoming CAS CTLE Workshops: \nWorkshop Title: DASA: Responsibilities and Strategies for Success and Safety\nPresenter: Anthony Baxter\, Assistant Principal\, Sleepy Hollow High School\, Tarrytown\, NY Date and Time: Tuesday\, February 15\, 2022\, from 4:30 pm – 6:00 pm \nCAS is a certified NYSED Continuing Teacher Leader Education (CTLE) sponsor\, and successful participants earned two (2) hours of CTLE professional development credit applicable toward the hours needed for continuing certification. \nUpcoming CAS CTLE Workshops are scheduled throughout the school year and communicated through email and the www.casliny.com website.
URL:https://casliny.com/event/cas-presents-a-ctle-workshop-entitled-evolving-digital-leadership-and-security-tech-tools-to-leverage-tomorrow-and-considerations-for-cybersecurity/
CATEGORIES:Professional Development
ATTACH;FMTTYPE=image/jpeg:https://casliny.com/wp-content/uploads/2023/05/Kenmitzer.jpg
END:VEVENT
END:VCALENDAR