BEGIN:VCALENDAR
VERSION:2.0
PRODID:-//Council of Administrators &amp; Supervisors - ECPv6.15.20//NONSGML v1.0//EN
CALSCALE:GREGORIAN
METHOD:PUBLISH
X-ORIGINAL-URL:https://casliny.com
X-WR-CALDESC:Events for Council of Administrators &amp; Supervisors
REFRESH-INTERVAL;VALUE=DURATION:PT1H
X-Robots-Tag:noindex
X-PUBLISHED-TTL:PT1H
BEGIN:VTIMEZONE
TZID:America/New_York
BEGIN:DAYLIGHT
TZOFFSETFROM:-0500
TZOFFSETTO:-0400
TZNAME:EDT
DTSTART:20220313T070000
END:DAYLIGHT
BEGIN:STANDARD
TZOFFSETFROM:-0400
TZOFFSETTO:-0500
TZNAME:EST
DTSTART:20221106T060000
END:STANDARD
BEGIN:DAYLIGHT
TZOFFSETFROM:-0500
TZOFFSETTO:-0400
TZNAME:EDT
DTSTART:20230312T070000
END:DAYLIGHT
BEGIN:STANDARD
TZOFFSETFROM:-0400
TZOFFSETTO:-0500
TZNAME:EST
DTSTART:20231105T060000
END:STANDARD
BEGIN:DAYLIGHT
TZOFFSETFROM:-0500
TZOFFSETTO:-0400
TZNAME:EDT
DTSTART:20240310T070000
END:DAYLIGHT
BEGIN:STANDARD
TZOFFSETFROM:-0400
TZOFFSETTO:-0500
TZNAME:EST
DTSTART:20241103T060000
END:STANDARD
END:VTIMEZONE
BEGIN:VEVENT
DTSTART;VALUE=DATE:20230911
DTEND;VALUE=DATE:20230913
DTSTAMP:20260422T083821
CREATED:20220830T164953Z
LAST-MODIFIED:20230601T161555Z
UID:17940-1694390400-1694563199@casliny.com
SUMMARY:Regents Meeting Date
DESCRIPTION:
URL:https://casliny.com/event/regents-meeting-date-9-3-2-3-2-2-2-2-2-2-4-2-2-3-3/
CATEGORIES:Meetings
ATTACH;FMTTYPE=image/png:https://casliny.com/wp-content/uploads/2020/05/download.png
END:VEVENT
BEGIN:VEVENT
DTSTART;TZID=America/New_York:20230921T160000
DTEND;TZID=America/New_York:20230921T173000
DTSTAMP:20260422T083821
CREATED:20230912T171630Z
LAST-MODIFIED:20230912T171630Z
UID:22311-1695312000-1695317400@casliny.com
SUMMARY:CAS Leadership Conference
DESCRIPTION:
URL:https://casliny.com/event/cas-leadership-conference/
LOCATION:VIA ZOOM
CATEGORIES:Featured on Home,Meetings
ATTACH;FMTTYPE=image/png:https://casliny.com/wp-content/uploads/2022/08/images.png
END:VEVENT
BEGIN:VEVENT
DTSTART;TZID=America/New_York:20230926T163000
DTEND;TZID=America/New_York:20230926T180000
DTSTAMP:20260422T083821
CREATED:20230823T191022Z
LAST-MODIFIED:20230823T191052Z
UID:22148-1695745800-1695751200@casliny.com
SUMMARY:CAS Executive Board Meeting
DESCRIPTION:
URL:https://casliny.com/event/cas-executive-board-meeting-19/
LOCATION:VIA ZOOM
CATEGORIES:Featured on Home,Meetings
ATTACH;FMTTYPE=image/jpeg:https://casliny.com/wp-content/uploads/2023/08/CAS-Board-1-1-1-1-1-1-1-1-1.jpg
END:VEVENT
BEGIN:VEVENT
DTSTART;TZID=America/New_York:20230927T123000
DTEND;TZID=America/New_York:20230927T133000
DTSTAMP:20260422T083821
CREATED:20230912T175312Z
LAST-MODIFIED:20230912T175928Z
UID:22316-1695817800-1695821400@casliny.com
SUMMARY:CAS/ESSAA Stakeholder Meeting with Commissioner Rosa\, Wednesday\, September 27\, 2023 - 12:30 p.m.
DESCRIPTION:
URL:https://casliny.com/event/cas-essaa-stakeholder-meeting-with-commissioner-rosa-wednesday-september-27-2023/
LOCATION:VIA ZOOM
CATEGORIES:Meetings
ATTACH;FMTTYPE=image/jpeg:https://casliny.com/wp-content/uploads/2021/01/image-4.jpg
END:VEVENT
END:VCALENDAR